| Back to Multiple platform build/check report for BioC 3.6 |
|
This page was generated on 2018-04-12 13:21:27 -0400 (Thu, 12 Apr 2018).
| Package 1289/1472 | Hostname | OS / Arch | INSTALL | BUILD | CHECK | BUILD BIN | ||||||
| sigaR 1.26.0 Wessel N. van Wieringen
| malbec1 | Linux (Ubuntu 16.04.1 LTS) / x86_64 | OK | OK | OK | |||||||
| tokay1 | Windows Server 2012 R2 Standard / x64 | OK | OK | [ OK ] | OK | |||||||
| veracruz1 | OS X 10.11.6 El Capitan / x86_64 | OK | OK | OK | OK |
| Package: sigaR |
| Version: 1.26.0 |
| Command: rm -rf sigaR.buildbin-libdir sigaR.Rcheck && mkdir sigaR.buildbin-libdir sigaR.Rcheck && C:\Users\biocbuild\bbs-3.6-bioc\R\bin\R.exe CMD INSTALL --build --merge-multiarch --library=sigaR.buildbin-libdir sigaR_1.26.0.tar.gz >sigaR.Rcheck\00install.out 2>&1 && cp sigaR.Rcheck\00install.out sigaR-install.out && C:\Users\biocbuild\bbs-3.6-bioc\R\bin\R.exe CMD check --library=sigaR.buildbin-libdir --install="check:sigaR-install.out" --force-multiarch --no-vignettes --timings sigaR_1.26.0.tar.gz |
| StartedAt: 2018-04-12 03:10:17 -0400 (Thu, 12 Apr 2018) |
| EndedAt: 2018-04-12 03:19:34 -0400 (Thu, 12 Apr 2018) |
| EllapsedTime: 557.3 seconds |
| RetCode: 0 |
| Status: OK |
| CheckDir: sigaR.Rcheck |
| Warnings: 0 |
##############################################################################
##############################################################################
###
### Running command:
###
### rm -rf sigaR.buildbin-libdir sigaR.Rcheck && mkdir sigaR.buildbin-libdir sigaR.Rcheck && C:\Users\biocbuild\bbs-3.6-bioc\R\bin\R.exe CMD INSTALL --build --merge-multiarch --library=sigaR.buildbin-libdir sigaR_1.26.0.tar.gz >sigaR.Rcheck\00install.out 2>&1 && cp sigaR.Rcheck\00install.out sigaR-install.out && C:\Users\biocbuild\bbs-3.6-bioc\R\bin\R.exe CMD check --library=sigaR.buildbin-libdir --install="check:sigaR-install.out" --force-multiarch --no-vignettes --timings sigaR_1.26.0.tar.gz
###
##############################################################################
##############################################################################
* using log directory 'C:/Users/biocbuild/bbs-3.6-bioc/meat/sigaR.Rcheck'
* using R version 3.4.4 (2018-03-15)
* using platform: x86_64-w64-mingw32 (64-bit)
* using session charset: ISO8859-1
* using option '--no-vignettes'
* checking for file 'sigaR/DESCRIPTION' ... OK
* checking extension type ... Package
* this is package 'sigaR' version '1.26.0'
* checking package namespace information ... OK
* checking package dependencies ... OK
* checking if this is a source package ... OK
* checking if there is a namespace ... OK
* checking for hidden files and directories ... OK
* checking for portable file names ... OK
* checking whether package 'sigaR' can be installed ... OK
* checking installed package size ... OK
* checking package directory ... OK
* checking 'build' directory ... OK
* checking DESCRIPTION meta-information ... OK
* checking top-level files ... OK
* checking for left-over files ... OK
* checking index information ... OK
* checking package subdirectories ... OK
* checking R files for non-ASCII characters ... OK
* checking R files for syntax errors ... OK
* loading checks for arch 'i386'
** checking whether the package can be loaded ... OK
** checking whether the package can be loaded with stated dependencies ... OK
** checking whether the package can be unloaded cleanly ... OK
** checking whether the namespace can be loaded with stated dependencies ... OK
** checking whether the namespace can be unloaded cleanly ... OK
* loading checks for arch 'x64'
** checking whether the package can be loaded ... OK
** checking whether the package can be loaded with stated dependencies ... OK
** checking whether the package can be unloaded cleanly ... OK
** checking whether the namespace can be loaded with stated dependencies ... OK
** checking whether the namespace can be unloaded cleanly ... OK
* checking dependencies in R code ... NOTE
There are ::: calls to the package's namespace in its code. A package
almost never needs to use ::: for its own objects:
'.alphabivariate' '.alphaest' '.pretest'
* checking S3 generic/method consistency ... OK
* checking replacement functions ... OK
* checking foreign function calls ... OK
* checking R code for possible problems ... OK
* checking Rd files ... OK
* checking Rd metadata ... OK
* checking Rd cross-references ... OK
* checking for missing documentation entries ... OK
* checking for code/documentation mismatches ... OK
* checking Rd \usage sections ... OK
* checking Rd contents ... OK
* checking for unstated dependencies in examples ... OK
* checking contents of 'data' directory ... OK
* checking data for non-ASCII characters ... OK
* checking data for ASCII and uncompressed saves ... OK
* checking installed files from 'inst/doc' ... OK
* checking files in 'vignettes' ... OK
* checking examples ...
** running examples for arch 'i386' ... OK
Examples with CPU or elapsed time > 5s
user system elapsed
mutInfTest 184.65 10.02 194.67
cisEffectTune 13.23 0.00 13.24
pathway2sample 4.41 0.88 5.28
** running examples for arch 'x64' ... OK
Examples with CPU or elapsed time > 5s
user system elapsed
mutInfTest 151.29 9.97 161.31
cisEffectTune 14.77 0.00 14.76
pathway2sample 4.29 0.79 5.08
* checking for unstated dependencies in vignettes ... OK
* checking package vignettes in 'inst/doc' ... OK
* checking running R code from vignettes ... SKIPPED
* checking re-building of vignette outputs ... SKIPPED
* checking PDF version of manual ... OK
* DONE
Status: 1 NOTE
See
'C:/Users/biocbuild/bbs-3.6-bioc/meat/sigaR.Rcheck/00check.log'
for details.
sigaR.Rcheck/00install.out
install for i386
* installing *source* package 'sigaR' ...
** R
** data
** inst
** preparing package for lazy loading
** help
*** installing help indices
converting help for package 'sigaR'
finding HTML links ... done
CNGEheatmaps html
ExpressionSet2order html
finding level-2 HTML links ... done
ExpressionSet2subset html
ExpressionSet2weightedSubset html
RCMestimation html
RCMrandom-method html
RCMrandom html
RCMtest html
cghCall2cghSeg html
cghCall2maximumSubset html
cghCall2order html
cghCall2subset html
cghCall2weightedSubset html
cghSeg2order html
cghSeg2subset html
cghSeg2weightedSubset html
cisEffectPlot html
cisEffectTable html
cisEffectTest html
cisEffectTune html
cisTest-class html
entTest-class html
entropyTest html
expandMatching2singleIDs html
getSegFeatures html
hdEntropy html
hdMI html
matchAnn2Ann html
matchCGHcall2ExpressionSet html
merge2ExpressionSets html
merge2cghCalls html
miTest-class html
mutInfTest html
nBreakpoints html
pathway1sample html
pathway2sample html
pathwayFit-class html
pathwayPlot html
pollackCN16 html
pollackGE16 html
profilesPlot html
rcmFit-class html
rcmTest-class html
sigaR-package html
splitMatchingAtBreakpoints html
summary-method html
uniqGenomicInfo html
z.RCMloss-method html
** building package indices
** installing vignettes
** testing if installed package can be loaded
In R CMD INSTALL
install for x64
* installing *source* package 'sigaR' ...
** testing if installed package can be loaded
* MD5 sums
packaged installation of 'sigaR' as sigaR_1.26.0.zip
* DONE (sigaR)
In R CMD INSTALL
In R CMD INSTALL
|
sigaR.Rcheck/examples_i386/sigaR-Ex.timings
|
sigaR.Rcheck/examples_x64/sigaR-Ex.timings
|