| Back to Multiple platform build/check report for BioC 3.6 |
|
This page was generated on 2018-04-12 13:36:46 -0400 (Thu, 12 Apr 2018).
| Package 1037/1472 | Hostname | OS / Arch | INSTALL | BUILD | CHECK | BUILD BIN | ||||||
| piano 1.18.1 Leif Varemo
| malbec1 | Linux (Ubuntu 16.04.1 LTS) / x86_64 | OK | OK | OK | |||||||
| tokay1 | Windows Server 2012 R2 Standard / x64 | OK | OK | WARNINGS | OK | |||||||
| veracruz1 | OS X 10.11.6 El Capitan / x86_64 | OK | OK | [ OK ] | OK |
| Package: piano |
| Version: 1.18.1 |
| Command: /Library/Frameworks/R.framework/Versions/Current/Resources/bin/R CMD check --no-vignettes --timings piano_1.18.1.tar.gz |
| StartedAt: 2018-04-12 07:40:50 -0400 (Thu, 12 Apr 2018) |
| EndedAt: 2018-04-12 07:42:31 -0400 (Thu, 12 Apr 2018) |
| EllapsedTime: 100.1 seconds |
| RetCode: 0 |
| Status: OK |
| CheckDir: piano.Rcheck |
| Warnings: 0 |
##############################################################################
##############################################################################
###
### Running command:
###
### /Library/Frameworks/R.framework/Versions/Current/Resources/bin/R CMD check --no-vignettes --timings piano_1.18.1.tar.gz
###
##############################################################################
##############################################################################
* using log directory ‘/Users/biocbuild/bbs-3.6-bioc/meat/piano.Rcheck’
* using R version 3.4.4 (2018-03-15)
* using platform: x86_64-apple-darwin15.6.0 (64-bit)
* using session charset: UTF-8
* using option ‘--no-vignettes’
* checking for file ‘piano/DESCRIPTION’ ... OK
* checking extension type ... Package
* this is package ‘piano’ version ‘1.18.1’
* checking package namespace information ... OK
* checking package dependencies ... OK
* checking if this is a source package ... OK
* checking if there is a namespace ... OK
* checking for hidden files and directories ... OK
* checking for portable file names ... OK
* checking for sufficient/correct file permissions ... OK
* checking whether package ‘piano’ can be installed ... OK
* checking installed package size ... OK
* checking package directory ... OK
* checking ‘build’ directory ... OK
* checking DESCRIPTION meta-information ... OK
* checking top-level files ... OK
* checking for left-over files ... OK
* checking index information ... OK
* checking package subdirectories ... OK
* checking R files for non-ASCII characters ... OK
* checking R files for syntax errors ... OK
* checking whether the package can be loaded ... OK
* checking whether the package can be loaded with stated dependencies ... OK
* checking whether the package can be unloaded cleanly ... OK
* checking whether the namespace can be loaded with stated dependencies ... OK
* checking whether the namespace can be unloaded cleanly ... OK
* checking dependencies in R code ... OK
* checking S3 generic/method consistency ... OK
* checking replacement functions ... OK
* checking foreign function calls ... OK
* checking R code for possible problems ... NOTE
loadMAdata: no visible global function definition for ‘exprs<-’
Undefined global functions or variables:
exprs<-
* checking Rd files ... OK
* checking Rd metadata ... OK
* checking Rd cross-references ... OK
* checking for missing documentation entries ... OK
* checking for code/documentation mismatches ... OK
* checking Rd \usage sections ... OK
* checking Rd contents ... OK
* checking for unstated dependencies in examples ... OK
* checking contents of ‘data’ directory ... OK
* checking data for non-ASCII characters ... OK
* checking data for ASCII and uncompressed saves ... OK
* checking sizes of PDF files under ‘inst/doc’ ... OK
* checking installed files from ‘inst/doc’ ... OK
* checking files in ‘vignettes’ ... OK
* checking examples ... OK
Examples with CPU or elapsed time > 5s
user system elapsed
GSAsummaryTable 5.650 0.065 5.857
GSAheatmap 5.140 0.081 5.560
networkPlot 5.164 0.040 5.335
* checking for unstated dependencies in vignettes ... OK
* checking package vignettes in ‘inst/doc’ ... OK
* checking running R code from vignettes ... SKIPPED
* checking re-building of vignette outputs ... SKIPPED
* checking PDF version of manual ... OK
* DONE
Status: 1 NOTE
See
‘/Users/biocbuild/bbs-3.6-bioc/meat/piano.Rcheck/00check.log’
for details.
piano.Rcheck/00install.out
* installing *source* package ‘piano’ ... ** R ** data ** inst ** preparing package for lazy loading ** help *** installing help indices ** building package indices ** installing vignettes ** testing if installed package can be loaded * DONE (piano)
piano.Rcheck/piano-Ex.timings
| name | user | system | elapsed | |
| GSAheatmap | 5.140 | 0.081 | 5.560 | |
| GSAsummaryTable | 5.650 | 0.065 | 5.857 | |
| consensusHeatmap | 1.883 | 0.051 | 1.969 | |
| consensusScores | 0.130 | 0.017 | 0.150 | |
| diffExp | 3.931 | 0.114 | 4.481 | |
| extractFactors | 0.562 | 0.007 | 0.593 | |
| geneSetSummary | 4.381 | 0.040 | 4.546 | |
| loadGSC | 0.013 | 0.000 | 0.013 | |
| loadMAdata | 0.262 | 0.003 | 0.273 | |
| networkPlot | 5.164 | 0.040 | 5.335 | |
| polarPlot | 2.054 | 0.044 | 2.348 | |
| runGSA | 4.064 | 0.037 | 4.177 | |
| runGSAhyper | 0.355 | 0.003 | 0.363 | |
| runQC | 1.198 | 0.033 | 1.262 | |
| writeFilesForKiwi | 0.169 | 0.007 | 0.185 | |