| Back to Multiple platform build/check report for BioC 3.6 |
|
This page was generated on 2018-04-12 13:17:55 -0400 (Thu, 12 Apr 2018).
| Package 960/1472 | Hostname | OS / Arch | INSTALL | BUILD | CHECK | BUILD BIN | ||||||
| oligo 1.42.0 Benilton Carvalho
| malbec1 | Linux (Ubuntu 16.04.1 LTS) / x86_64 | OK | OK | WARNINGS | |||||||
| tokay1 | Windows Server 2012 R2 Standard / x64 | [ OK ] | OK | WARNINGS | OK | |||||||
| veracruz1 | OS X 10.11.6 El Capitan / x86_64 | OK | OK | WARNINGS | OK |
| Package: oligo |
| Version: 1.42.0 |
| Command: rm -rf oligo.buildbin-libdir && mkdir oligo.buildbin-libdir && C:\cygwin\bin\curl.exe -O https://malbec1.bioconductor.org/BBS/3.6/bioc/src/contrib/oligo_1.42.0.tar.gz && C:\Users\biocbuild\bbs-3.6-bioc\R\bin\R.exe CMD INSTALL --build --library=oligo.buildbin-libdir --merge-multiarch oligo_1.42.0.tar.gz && C:\Users\biocbuild\bbs-3.6-bioc\R\bin\R.exe CMD INSTALL oligo_1.42.0.zip && rm oligo_1.42.0.tar.gz oligo_1.42.0.zip |
| StartedAt: 2018-04-11 18:43:20 -0400 (Wed, 11 Apr 2018) |
| EndedAt: 2018-04-11 18:45:35 -0400 (Wed, 11 Apr 2018) |
| EllapsedTime: 134.4 seconds |
| RetCode: 0 |
| Status: OK |
##############################################################################
##############################################################################
###
### Running command:
###
### rm -rf oligo.buildbin-libdir && mkdir oligo.buildbin-libdir && C:\cygwin\bin\curl.exe -O https://malbec1.bioconductor.org/BBS/3.6/bioc/src/contrib/oligo_1.42.0.tar.gz && C:\Users\biocbuild\bbs-3.6-bioc\R\bin\R.exe CMD INSTALL --build --library=oligo.buildbin-libdir --merge-multiarch oligo_1.42.0.tar.gz && C:\Users\biocbuild\bbs-3.6-bioc\R\bin\R.exe CMD INSTALL oligo_1.42.0.zip && rm oligo_1.42.0.tar.gz oligo_1.42.0.zip
###
##############################################################################
##############################################################################
% Total % Received % Xferd Average Speed Time Time Time Current
Dload Upload Total Spent Left Speed
0 0 0 0 0 0 0 0 --:--:-- --:--:-- --:--:-- 0
0 14.9M 0 112k 0 0 170k 0 0:01:29 --:--:-- 0:01:29 171k
53 14.9M 53 8192k 0 0 5416k 0 0:00:02 0:00:01 0:00:01 5425k
58 14.9M 58 8960k 0 0 3491k 0 0:00:04 0:00:02 0:00:02 3494k
100 14.9M 100 14.9M 0 0 5175k 0 0:00:02 0:00:02 --:--:-- 5179k
install for i386
* installing *source* package 'oligo' ...
** libs
C:/Rtools/mingw_32/bin/gcc -I"C:/Users/biocbuild/bbs-3.6-bioc/R/library/zlibbioc/include" -I"C:/Users/BIOCBU˜1/BBS-3˜1.6-B/R/include" -DNDEBUG -I"C:/Users/biocbuild/bbs-3.6-bioc/R/library/preprocessCore/include" -I"C:/local323/include" -O3 -Wall -std=gnu99 -mtune=generic -c DABG.c -o DABG.o
C:/Rtools/mingw_32/bin/gcc -I"C:/Users/biocbuild/bbs-3.6-bioc/R/library/zlibbioc/include" -I"C:/Users/BIOCBU˜1/BBS-3˜1.6-B/R/include" -DNDEBUG -I"C:/Users/biocbuild/bbs-3.6-bioc/R/library/preprocessCore/include" -I"C:/local323/include" -O3 -Wall -std=gnu99 -mtune=generic -c ParserGzXYS.c -o ParserGzXYS.o
C:/Rtools/mingw_32/bin/gcc -I"C:/Users/biocbuild/bbs-3.6-bioc/R/library/zlibbioc/include" -I"C:/Users/BIOCBU˜1/BBS-3˜1.6-B/R/include" -DNDEBUG -I"C:/Users/biocbuild/bbs-3.6-bioc/R/library/preprocessCore/include" -I"C:/local323/include" -O3 -Wall -std=gnu99 -mtune=generic -c ParserXYS.c -o ParserXYS.o
C:/Rtools/mingw_32/bin/gcc -I"C:/Users/biocbuild/bbs-3.6-bioc/R/library/zlibbioc/include" -I"C:/Users/BIOCBU˜1/BBS-3˜1.6-B/R/include" -DNDEBUG -I"C:/Users/biocbuild/bbs-3.6-bioc/R/library/preprocessCore/include" -I"C:/local323/include" -O3 -Wall -std=gnu99 -mtune=generic -c baseProfile.c -o baseProfile.o
C:/Rtools/mingw_32/bin/gcc -I"C:/Users/biocbuild/bbs-3.6-bioc/R/library/zlibbioc/include" -I"C:/Users/BIOCBU˜1/BBS-3˜1.6-B/R/include" -DNDEBUG -I"C:/Users/biocbuild/bbs-3.6-bioc/R/library/preprocessCore/include" -I"C:/local323/include" -O3 -Wall -std=gnu99 -mtune=generic -c basecontent.c -o basecontent.o
C:/Rtools/mingw_32/bin/gcc -I"C:/Users/biocbuild/bbs-3.6-bioc/R/library/zlibbioc/include" -I"C:/Users/BIOCBU˜1/BBS-3˜1.6-B/R/include" -DNDEBUG -I"C:/Users/biocbuild/bbs-3.6-bioc/R/library/preprocessCore/include" -I"C:/local323/include" -O3 -Wall -std=gnu99 -mtune=generic -c chipbackground.c -o chipbackground.o
C:/Rtools/mingw_32/bin/gcc -I"C:/Users/biocbuild/bbs-3.6-bioc/R/library/zlibbioc/include" -I"C:/Users/BIOCBU˜1/BBS-3˜1.6-B/R/include" -DNDEBUG -I"C:/Users/biocbuild/bbs-3.6-bioc/R/library/preprocessCore/include" -I"C:/local323/include" -O3 -Wall -std=gnu99 -mtune=generic -c mas5calls.c -o mas5calls.o
C:/Rtools/mingw_32/bin/gcc -I"C:/Users/biocbuild/bbs-3.6-bioc/R/library/zlibbioc/include" -I"C:/Users/BIOCBU˜1/BBS-3˜1.6-B/R/include" -DNDEBUG -I"C:/Users/biocbuild/bbs-3.6-bioc/R/library/preprocessCore/include" -I"C:/local323/include" -O3 -Wall -std=gnu99 -mtune=generic -c rma2.c -o rma2.o
C:/Rtools/mingw_32/bin/gcc -I"C:/Users/biocbuild/bbs-3.6-bioc/R/library/zlibbioc/include" -I"C:/Users/BIOCBU˜1/BBS-3˜1.6-B/R/include" -DNDEBUG -I"C:/Users/biocbuild/bbs-3.6-bioc/R/library/preprocessCore/include" -I"C:/local323/include" -O3 -Wall -std=gnu99 -mtune=generic -c rma_common.c -o rma_common.o
C:/Rtools/mingw_32/bin/gcc -I"C:/Users/biocbuild/bbs-3.6-bioc/R/library/zlibbioc/include" -I"C:/Users/BIOCBU˜1/BBS-3˜1.6-B/R/include" -DNDEBUG -I"C:/Users/biocbuild/bbs-3.6-bioc/R/library/preprocessCore/include" -I"C:/local323/include" -O3 -Wall -std=gnu99 -mtune=generic -c trimmed.c -o trimmed.o
C:/Rtools/mingw_32/bin/g++ -shared -s -static-libgcc -o oligo.dll tmp.def DABG.o ParserGzXYS.o ParserXYS.o baseProfile.o basecontent.o chipbackground.o mas5calls.o rma2.o rma_common.o trimmed.o -lgfortran -lm -lquadmath -LC:/Users/BIOCBU˜1/BBS-3˜1.6-B/R/bin/i386 -lRlapack -LC:/Users/BIOCBU˜1/BBS-3˜1.6-B/R/bin/i386 -lRblas -LC:/Users/biocbuild/bbs-3.6-bioc/R/library/zlibbioc/libs/i386 -lzlib1bioc -LC:/local323/lib/i386 -LC:/local323/lib -LC:/Users/BIOCBU˜1/BBS-3˜1.6-B/R/bin/i386 -lR
installing to C:/Users/biocbuild/bbs-3.6-bioc/meat/oligo.buildbin-libdir/oligo/libs/i386
** R
** inst
** preparing package for lazy loading
Note: in method for 'pm<-' with signature
'object="TilingFeatureSet",subset="ANY",target="ANY",value="array"':
expanding the signature to include omitted arguments in definition: =
"missing"
Note: in method for 'mm<-' with signature
'object="TilingFeatureSet",subset="ANY",target="ANY",value="array"':
expanding the signature to include omitted arguments in definition: =
"missing"
** help
*** installing help indices
converting help for package 'oligo'
finding HTML links ... done
Index-methods html
IntensityMatrix-methods html
MAplot-methods html
Sequences-methods html
basecontent html
basicPLM html
Rd warning: C:/Users/biocbuild/bbs-3.6-bioc/tmpdir/RtmpiGkrEl/R.INSTALL16e842b7cc8/oligo/man/basicPLM.Rd:42: missing file link 'rcModelPLM'
Rd warning: C:/Users/biocbuild/bbs-3.6-bioc/tmpdir/RtmpiGkrEl/R.INSTALL16e842b7cc8/oligo/man/basicPLM.Rd:44: missing file link 'rcModelPLMrr'
Rd warning: C:/Users/biocbuild/bbs-3.6-bioc/tmpdir/RtmpiGkrEl/R.INSTALL16e842b7cc8/oligo/man/basicPLM.Rd:45: missing file link 'rcModelPLMrc'
basicRMA html
boxplot html
chromosome html
colors html
coordinates html
crlmm html
fitProbeLevelModel html
Rd warning: C:/Users/biocbuild/bbs-3.6-bioc/tmpdir/RtmpiGkrEl/R.INSTALL16e842b7cc8/oligo/man/fitProbeLevelModel.Rd:9: missing file link 'FeatureSet'
Rd warning: C:/Users/biocbuild/bbs-3.6-bioc/tmpdir/RtmpiGkrEl/R.INSTALL16e842b7cc8/oligo/man/fitProbeLevelModel.Rd:17: missing file link 'FeatureSet'
Rd warning: C:/Users/biocbuild/bbs-3.6-bioc/tmpdir/RtmpiGkrEl/R.INSTALL16e842b7cc8/oligo/man/fitProbeLevelModel.Rd:50: missing file link 'rma'
Rd warning: C:/Users/biocbuild/bbs-3.6-bioc/tmpdir/RtmpiGkrEl/R.INSTALL16e842b7cc8/oligo/man/fitProbeLevelModel.Rd:50: missing file link 'summarizationMethods'
getAffinitySplineCoefficients html
getBaseProfile html
getContainer html
getCrlmmSummaries html
getNetAffx html
getNgsColorsInfo html
getPlatformDesign html
getProbeInfo html
hist html
image html
justSNPRMA html
list.xysfiles html
oligo-package html
oligoDefunct html
oligoPLM-class html
Rd warning: C:/Users/biocbuild/bbs-3.6-bioc/tmpdir/RtmpiGkrEl/R.INSTALL16e842b7cc8/oligo/man/oligoPLM-class.Rd:125: missing file link 'rma'
Rd warning: C:/Users/biocbuild/bbs-3.6-bioc/tmpdir/RtmpiGkrEl/R.INSTALL16e842b7cc8/oligo/man/oligoPLM-class.Rd:125: missing file link 'summarize'
paCalls html
plotM-methods html
pmAllele html
pmFragmentLength html
pmPosition html
pmStrand html
preprocessTools html
probeNames html
read.celfiles html
read.xysfiles html
readSummaries html
rma-methods html
runDate html
sequenceDesignMatrix html
snprma html
** building package indices
** installing vignettes
** testing if installed package can be loaded
In R CMD INSTALL
install for x64
* installing *source* package 'oligo' ...
** libs
C:/Rtools/mingw_64/bin/gcc -I"C:/Users/biocbuild/bbs-3.6-bioc/R/library/zlibbioc/include" -I"C:/Users/BIOCBU˜1/BBS-3˜1.6-B/R/include" -DNDEBUG -I"C:/Users/biocbuild/bbs-3.6-bioc/R/library/preprocessCore/include" -I"C:/local323/include" -O2 -Wall -std=gnu99 -mtune=generic -c DABG.c -o DABG.o
C:/Rtools/mingw_64/bin/gcc -I"C:/Users/biocbuild/bbs-3.6-bioc/R/library/zlibbioc/include" -I"C:/Users/BIOCBU˜1/BBS-3˜1.6-B/R/include" -DNDEBUG -I"C:/Users/biocbuild/bbs-3.6-bioc/R/library/preprocessCore/include" -I"C:/local323/include" -O2 -Wall -std=gnu99 -mtune=generic -c ParserGzXYS.c -o ParserGzXYS.o
C:/Rtools/mingw_64/bin/gcc -I"C:/Users/biocbuild/bbs-3.6-bioc/R/library/zlibbioc/include" -I"C:/Users/BIOCBU˜1/BBS-3˜1.6-B/R/include" -DNDEBUG -I"C:/Users/biocbuild/bbs-3.6-bioc/R/library/preprocessCore/include" -I"C:/local323/include" -O2 -Wall -std=gnu99 -mtune=generic -c ParserXYS.c -o ParserXYS.o
C:/Rtools/mingw_64/bin/gcc -I"C:/Users/biocbuild/bbs-3.6-bioc/R/library/zlibbioc/include" -I"C:/Users/BIOCBU˜1/BBS-3˜1.6-B/R/include" -DNDEBUG -I"C:/Users/biocbuild/bbs-3.6-bioc/R/library/preprocessCore/include" -I"C:/local323/include" -O2 -Wall -std=gnu99 -mtune=generic -c baseProfile.c -o baseProfile.o
C:/Rtools/mingw_64/bin/gcc -I"C:/Users/biocbuild/bbs-3.6-bioc/R/library/zlibbioc/include" -I"C:/Users/BIOCBU˜1/BBS-3˜1.6-B/R/include" -DNDEBUG -I"C:/Users/biocbuild/bbs-3.6-bioc/R/library/preprocessCore/include" -I"C:/local323/include" -O2 -Wall -std=gnu99 -mtune=generic -c basecontent.c -o basecontent.o
C:/Rtools/mingw_64/bin/gcc -I"C:/Users/biocbuild/bbs-3.6-bioc/R/library/zlibbioc/include" -I"C:/Users/BIOCBU˜1/BBS-3˜1.6-B/R/include" -DNDEBUG -I"C:/Users/biocbuild/bbs-3.6-bioc/R/library/preprocessCore/include" -I"C:/local323/include" -O2 -Wall -std=gnu99 -mtune=generic -c chipbackground.c -o chipbackground.o
C:/Rtools/mingw_64/bin/gcc -I"C:/Users/biocbuild/bbs-3.6-bioc/R/library/zlibbioc/include" -I"C:/Users/BIOCBU˜1/BBS-3˜1.6-B/R/include" -DNDEBUG -I"C:/Users/biocbuild/bbs-3.6-bioc/R/library/preprocessCore/include" -I"C:/local323/include" -O2 -Wall -std=gnu99 -mtune=generic -c mas5calls.c -o mas5calls.o
C:/Rtools/mingw_64/bin/gcc -I"C:/Users/biocbuild/bbs-3.6-bioc/R/library/zlibbioc/include" -I"C:/Users/BIOCBU˜1/BBS-3˜1.6-B/R/include" -DNDEBUG -I"C:/Users/biocbuild/bbs-3.6-bioc/R/library/preprocessCore/include" -I"C:/local323/include" -O2 -Wall -std=gnu99 -mtune=generic -c rma2.c -o rma2.o
C:/Rtools/mingw_64/bin/gcc -I"C:/Users/biocbuild/bbs-3.6-bioc/R/library/zlibbioc/include" -I"C:/Users/BIOCBU˜1/BBS-3˜1.6-B/R/include" -DNDEBUG -I"C:/Users/biocbuild/bbs-3.6-bioc/R/library/preprocessCore/include" -I"C:/local323/include" -O2 -Wall -std=gnu99 -mtune=generic -c rma_common.c -o rma_common.o
C:/Rtools/mingw_64/bin/gcc -I"C:/Users/biocbuild/bbs-3.6-bioc/R/library/zlibbioc/include" -I"C:/Users/BIOCBU˜1/BBS-3˜1.6-B/R/include" -DNDEBUG -I"C:/Users/biocbuild/bbs-3.6-bioc/R/library/preprocessCore/include" -I"C:/local323/include" -O2 -Wall -std=gnu99 -mtune=generic -c trimmed.c -o trimmed.o
C:/Rtools/mingw_64/bin/g++ -shared -s -static-libgcc -o oligo.dll tmp.def DABG.o ParserGzXYS.o ParserXYS.o baseProfile.o basecontent.o chipbackground.o mas5calls.o rma2.o rma_common.o trimmed.o -lgfortran -lm -lquadmath -LC:/Users/BIOCBU˜1/BBS-3˜1.6-B/R/bin/x64 -lRlapack -LC:/Users/BIOCBU˜1/BBS-3˜1.6-B/R/bin/x64 -lRblas -LC:/Users/biocbuild/bbs-3.6-bioc/R/library/zlibbioc/libs/x64 -lzlib1bioc -LC:/local323/lib/x64 -LC:/local323/lib -LC:/Users/BIOCBU˜1/BBS-3˜1.6-B/R/bin/x64 -lR
installing to C:/Users/biocbuild/bbs-3.6-bioc/meat/oligo.buildbin-libdir/oligo/libs/x64
** testing if installed package can be loaded
* MD5 sums
packaged installation of 'oligo' as oligo_1.42.0.zip
* DONE (oligo)
In R CMD INSTALL
In R CMD INSTALL
* installing to library 'C:/Users/biocbuild/bbs-3.6-bioc/R/library'
package 'oligo' successfully unpacked and MD5 sums checked
In R CMD INSTALL