| Back to Multiple platform build/check report for BioC 3.6 |
|
This page was generated on 2018-04-12 13:25:22 -0400 (Thu, 12 Apr 2018).
| Package 922/1472 | Hostname | OS / Arch | INSTALL | BUILD | CHECK | BUILD BIN | ||||||
| mygene 1.14.0 Adam Mark, Cyrus Afrasiabi, Chunlei Wu
| malbec1 | Linux (Ubuntu 16.04.1 LTS) / x86_64 | OK | OK | OK | |||||||
| tokay1 | Windows Server 2012 R2 Standard / x64 | [ OK ] | OK | OK | OK | |||||||
| veracruz1 | OS X 10.11.6 El Capitan / x86_64 | OK | OK | OK | OK |
| Package: mygene |
| Version: 1.14.0 |
| Command: rm -rf mygene.buildbin-libdir && mkdir mygene.buildbin-libdir && C:\cygwin\bin\curl.exe -O https://malbec1.bioconductor.org/BBS/3.6/bioc/src/contrib/mygene_1.14.0.tar.gz && C:\Users\biocbuild\bbs-3.6-bioc\R\bin\R.exe CMD INSTALL --build --library=mygene.buildbin-libdir --merge-multiarch mygene_1.14.0.tar.gz && C:\Users\biocbuild\bbs-3.6-bioc\R\bin\R.exe CMD INSTALL mygene_1.14.0.zip && rm mygene_1.14.0.tar.gz mygene_1.14.0.zip |
| StartedAt: 2018-04-11 18:49:15 -0400 (Wed, 11 Apr 2018) |
| EndedAt: 2018-04-11 18:49:59 -0400 (Wed, 11 Apr 2018) |
| EllapsedTime: 43.8 seconds |
| RetCode: 0 |
| Status: OK |
##############################################################################
##############################################################################
###
### Running command:
###
### rm -rf mygene.buildbin-libdir && mkdir mygene.buildbin-libdir && C:\cygwin\bin\curl.exe -O https://malbec1.bioconductor.org/BBS/3.6/bioc/src/contrib/mygene_1.14.0.tar.gz && C:\Users\biocbuild\bbs-3.6-bioc\R\bin\R.exe CMD INSTALL --build --library=mygene.buildbin-libdir --merge-multiarch mygene_1.14.0.tar.gz && C:\Users\biocbuild\bbs-3.6-bioc\R\bin\R.exe CMD INSTALL mygene_1.14.0.zip && rm mygene_1.14.0.tar.gz mygene_1.14.0.zip
###
##############################################################################
##############################################################################
% Total % Received % Xferd Average Speed Time Time Time Current
Dload Upload Total Spent Left Speed
0 0 0 0 0 0 0 0 --:--:-- --:--:-- --:--:-- 0
100 11049 100 11049 0 0 96259 0 --:--:-- --:--:-- --:--:-- 99540
install for i386
* installing *source* package 'mygene' ...
** R
** preparing package for lazy loading
** help
*** installing help indices
converting help for package 'mygene'
finding HTML links ... done
MyGene-class html
MyGene html
getGene html
getGenes html
makeTxDbFromMyGene html
metadata html
mygene-package html
query html
queryMany html
** building package indices
** installing vignettes
** testing if installed package can be loaded
In R CMD INSTALL
install for x64
* installing *source* package 'mygene' ...
** testing if installed package can be loaded
* MD5 sums
packaged installation of 'mygene' as mygene_1.14.0.zip
* DONE (mygene)
In R CMD INSTALL
In R CMD INSTALL
* installing to library 'C:/Users/biocbuild/bbs-3.6-bioc/R/library'
package 'mygene' successfully unpacked and MD5 sums checked
In R CMD INSTALL