| Back to Multiple platform build/check report for BioC 3.6 |
|
This page was generated on 2018-04-12 13:33:50 -0400 (Thu, 12 Apr 2018).
| Package 743/1472 | Hostname | OS / Arch | INSTALL | BUILD | CHECK | BUILD BIN | ||||||
| les 1.28.0 Julian Gehring
| malbec1 | Linux (Ubuntu 16.04.1 LTS) / x86_64 | OK | OK | OK | |||||||
| tokay1 | Windows Server 2012 R2 Standard / x64 | OK | OK | OK | OK | |||||||
| veracruz1 | OS X 10.11.6 El Capitan / x86_64 | OK | OK | [ OK ] | OK |
| Package: les |
| Version: 1.28.0 |
| Command: /Library/Frameworks/R.framework/Versions/Current/Resources/bin/R CMD check --no-vignettes --timings les_1.28.0.tar.gz |
| StartedAt: 2018-04-12 05:35:48 -0400 (Thu, 12 Apr 2018) |
| EndedAt: 2018-04-12 05:36:40 -0400 (Thu, 12 Apr 2018) |
| EllapsedTime: 51.3 seconds |
| RetCode: 0 |
| Status: OK |
| CheckDir: les.Rcheck |
| Warnings: 0 |
##############################################################################
##############################################################################
###
### Running command:
###
### /Library/Frameworks/R.framework/Versions/Current/Resources/bin/R CMD check --no-vignettes --timings les_1.28.0.tar.gz
###
##############################################################################
##############################################################################
* using log directory ‘/Users/biocbuild/bbs-3.6-bioc/meat/les.Rcheck’
* using R version 3.4.4 (2018-03-15)
* using platform: x86_64-apple-darwin15.6.0 (64-bit)
* using session charset: UTF-8
* using option ‘--no-vignettes’
* checking for file ‘les/DESCRIPTION’ ... OK
* checking extension type ... Package
* this is package ‘les’ version ‘1.28.0’
* checking package namespace information ... OK
* checking package dependencies ... OK
* checking if this is a source package ... OK
* checking if there is a namespace ... OK
* checking for hidden files and directories ... OK
* checking for portable file names ... OK
* checking for sufficient/correct file permissions ... OK
* checking whether package ‘les’ can be installed ... OK
* checking installed package size ... OK
* checking package directory ... OK
* checking ‘build’ directory ... OK
* checking DESCRIPTION meta-information ... OK
* checking top-level files ... NOTE
File
LICENSE
is not mentioned in the DESCRIPTION file.
* checking for left-over files ... OK
* checking index information ... OK
* checking package subdirectories ... OK
* checking R files for non-ASCII characters ... OK
* checking R files for syntax errors ... OK
* checking whether the package can be loaded ... OK
* checking whether the package can be loaded with stated dependencies ... OK
* checking whether the package can be unloaded cleanly ... OK
* checking whether the namespace can be loaded with stated dependencies ... OK
* checking whether the namespace can be unloaded cleanly ... OK
* checking dependencies in R code ... NOTE
Package in Depends field not imported from: ‘fdrtool’
These packages need to be imported from (in the NAMESPACE file)
for when this namespace is loaded but not attached.
':::' call which should be '::': ‘stats:::lm.wfit’
See the note in ?`:::` about the use of this operator.
There are ::: calls to the package's namespace in its code. A package
almost never needs to use ::: for its own objects:
‘calcSingle’ ‘cdfDuplicates’ ‘checkState’ ‘diagSquare’ ‘fitGsri’
‘gsri’ ‘itLinReg’ ‘mcsapply’ ‘modGrenander’ ‘qrSlope’ ‘reg2log’
‘seSlopeWeight’ ‘setState’ ‘slopeWeight’ ‘wcdf2’ ‘wcdfGrenander’
‘xvalWeight’
* checking S3 generic/method consistency ... OK
* checking replacement functions ... OK
* checking foreign function calls ... NOTE
Foreign function call to a different package:
.C("C_isomean", ..., PACKAGE = "fdrtool")
Call with DUP:
.C("C_isomean", as.double(rawslope), as.double(dx), as.integer(n),
ghat = double(n), PACKAGE = "fdrtool", DUP = FALSE)
DUP is no longer supported and will be ignored.
* checking R code for possible problems ... OK
* checking Rd files ... OK
* checking Rd metadata ... OK
* checking Rd cross-references ... OK
* checking for missing documentation entries ... OK
* checking for code/documentation mismatches ... OK
* checking Rd \usage sections ... OK
* checking Rd contents ... OK
* checking for unstated dependencies in examples ... OK
* checking contents of ‘data’ directory ... OK
* checking data for non-ASCII characters ... OK
* checking data for ASCII and uncompressed saves ... OK
* checking sizes of PDF files under ‘inst/doc’ ... OK
* checking installed files from ‘inst/doc’ ... OK
* checking files in ‘vignettes’ ... OK
* checking examples ... OK
Examples with CPU or elapsed time > 5s
user system elapsed
les-package 13.155 0.092 13.464
ci 9.279 0.050 9.459
* checking for unstated dependencies in vignettes ... OK
* checking package vignettes in ‘inst/doc’ ... OK
* checking running R code from vignettes ... SKIPPED
* checking re-building of vignette outputs ... SKIPPED
* checking PDF version of manual ... OK
* DONE
Status: 3 NOTEs
See
‘/Users/biocbuild/bbs-3.6-bioc/meat/les.Rcheck/00check.log’
for details.
les.Rcheck/00install.out
* installing *source* package ‘les’ ... ** R ** data ** inst ** preparing package for lazy loading ** help *** installing help indices ** building package indices ** installing vignettes ** testing if installed package can be loaded * DONE (les)
les.Rcheck/les-Ex.timings
| name | user | system | elapsed | |
| Les-class | 0.002 | 0.000 | 0.003 | |
| Les | 0.023 | 0.003 | 0.025 | |
| chi2 | 4.039 | 0.052 | 4.136 | |
| ci | 9.279 | 0.050 | 9.459 | |
| estimate | 0.327 | 0.003 | 0.337 | |
| export | 0.001 | 0.000 | 0.001 | |
| les-package | 13.155 | 0.092 | 13.464 | |
| plot | 0.330 | 0.004 | 0.339 | |
| regions | 0.274 | 0.003 | 0.289 | |
| threshold | 0.274 | 0.003 | 0.276 | |
| weighting | 0.005 | 0.001 | 0.007 | |