| Back to Multiple platform build/check report for BioC 3.6 |
|
This page was generated on 2018-04-12 13:21:19 -0400 (Thu, 12 Apr 2018).
| Package 582/1472 | Hostname | OS / Arch | INSTALL | BUILD | CHECK | BUILD BIN | ||||||
| ggbio 1.26.1 Michael Lawrence
| malbec1 | Linux (Ubuntu 16.04.1 LTS) / x86_64 | OK | OK | OK | |||||||
| tokay1 | Windows Server 2012 R2 Standard / x64 | [ OK ] | OK | WARNINGS | OK | |||||||
| veracruz1 | OS X 10.11.6 El Capitan / x86_64 | OK | OK | OK | OK |
| Package: ggbio |
| Version: 1.26.1 |
| Command: rm -rf ggbio.buildbin-libdir && mkdir ggbio.buildbin-libdir && C:\cygwin\bin\curl.exe -O https://malbec1.bioconductor.org/BBS/3.6/bioc/src/contrib/ggbio_1.26.1.tar.gz && C:\Users\biocbuild\bbs-3.6-bioc\R\bin\R.exe CMD INSTALL --build --library=ggbio.buildbin-libdir --merge-multiarch ggbio_1.26.1.tar.gz && C:\Users\biocbuild\bbs-3.6-bioc\R\bin\R.exe CMD INSTALL ggbio_1.26.1.zip && rm ggbio_1.26.1.tar.gz ggbio_1.26.1.zip |
| StartedAt: 2018-04-11 18:54:43 -0400 (Wed, 11 Apr 2018) |
| EndedAt: 2018-04-11 18:56:20 -0400 (Wed, 11 Apr 2018) |
| EllapsedTime: 96.7 seconds |
| RetCode: 0 |
| Status: OK |
##############################################################################
##############################################################################
###
### Running command:
###
### rm -rf ggbio.buildbin-libdir && mkdir ggbio.buildbin-libdir && C:\cygwin\bin\curl.exe -O https://malbec1.bioconductor.org/BBS/3.6/bioc/src/contrib/ggbio_1.26.1.tar.gz && C:\Users\biocbuild\bbs-3.6-bioc\R\bin\R.exe CMD INSTALL --build --library=ggbio.buildbin-libdir --merge-multiarch ggbio_1.26.1.tar.gz && C:\Users\biocbuild\bbs-3.6-bioc\R\bin\R.exe CMD INSTALL ggbio_1.26.1.zip && rm ggbio_1.26.1.tar.gz ggbio_1.26.1.zip
###
##############################################################################
##############################################################################
% Total % Received % Xferd Average Speed Time Time Time Current
Dload Upload Total Spent Left Speed
0 0 0 0 0 0 0 0 --:--:-- --:--:-- --:--:-- 0
100 1307k 100 1307k 0 0 14.0M 0 --:--:-- --:--:-- --:--:-- 14.6M
install for i386
* installing *source* package 'ggbio' ...
** R
** inst
** preparing package for lazy loading
Creating a new generic function for 'rescale' in package 'ggbio'
Creating a new generic function for 'xlim' in package 'ggbio'
Creating a new generic function for 'geom_rect' in package 'ggbio'
Creating a new generic function for 'geom_segment' in package 'ggbio'
Creating a new generic function for 'geom_bar' in package 'ggbio'
Creating a new generic function for 'stat_identity' in package 'ggbio'
Creating a new generic function for 'stat_bin' in package 'ggbio'
** help
*** installing help indices
converting help for package 'ggbio'
finding HTML links ... done
Grob-class html
Plot-class html
Tracked-class html
arrangeGrobByParsingLegend html
autoplot-method html
finding level-2 HTML links ... done
geom_alignment-method html
geom_arch-method html
geom_arrow-method html
geom_arrowrect-method html
geom_bar-method html
geom_chevron-method html
geom_rect-method html
geom_segment-method html
ggbio-class html
ggplot-method html
ggsave html
layout_circle-method html
layout_karyogram-method html
nav html
plotFragLength html
plotGrandLinear html
plotRangesLinkedToData html
plotSingleChrom html
plotSpliceSum html
plotStackedOverview html
rescale-method html
scale_fill_fold_change html
scale_fill_giemsa html
scale_x_sequnit html
stat_aggregate-method html
Rd warning: C:/Users/biocbuild/bbs-3.6-bioc/tmpdir/RtmpyGIbfh/R.INSTALL8884dd36401/ggbio/man/stat_aggregate-method.Rd:48: missing file link 'findOverlaps'
stat_bin-method html
stat_coverage-method html
stat_gene-method html
stat_identity-method html
stat_mismatch-method html
stat_reduce-method html
Rd warning: C:/Users/biocbuild/bbs-3.6-bioc/tmpdir/RtmpyGIbfh/R.INSTALL8884dd36401/ggbio/man/stat_reduce-method.Rd:45: missing file link 'reduce'
Rd warning: C:/Users/biocbuild/bbs-3.6-bioc/tmpdir/RtmpyGIbfh/R.INSTALL8884dd36401/ggbio/man/stat_reduce-method.Rd:48: missing file link 'reduce'
Rd warning: C:/Users/biocbuild/bbs-3.6-bioc/tmpdir/RtmpyGIbfh/R.INSTALL8884dd36401/ggbio/man/stat_reduce-method.Rd:51: missing file link 'reduce'
Rd warning: C:/Users/biocbuild/bbs-3.6-bioc/tmpdir/RtmpyGIbfh/R.INSTALL8884dd36401/ggbio/man/stat_reduce-method.Rd:54: missing file link 'reduce'
Rd warning: C:/Users/biocbuild/bbs-3.6-bioc/tmpdir/RtmpyGIbfh/R.INSTALL8884dd36401/ggbio/man/stat_reduce-method.Rd:64: missing file link 'reduce'
stat_slice-method html
Rd warning: C:/Users/biocbuild/bbs-3.6-bioc/tmpdir/RtmpyGIbfh/R.INSTALL8884dd36401/ggbio/man/stat_slice-method.Rd:66: missing file link 'slice'
Rd warning: C:/Users/biocbuild/bbs-3.6-bioc/tmpdir/RtmpyGIbfh/R.INSTALL8884dd36401/ggbio/man/stat_slice-method.Rd:69: missing file link 'slice'
Rd warning: C:/Users/biocbuild/bbs-3.6-bioc/tmpdir/RtmpyGIbfh/R.INSTALL8884dd36401/ggbio/man/stat_slice-method.Rd:72: missing file link 'slice'
Rd warning: C:/Users/biocbuild/bbs-3.6-bioc/tmpdir/RtmpyGIbfh/R.INSTALL8884dd36401/ggbio/man/stat_slice-method.Rd:75: missing file link 'slice'
Rd warning: C:/Users/biocbuild/bbs-3.6-bioc/tmpdir/RtmpyGIbfh/R.INSTALL8884dd36401/ggbio/man/stat_slice-method.Rd:78: missing file link 'slice'
Rd warning: C:/Users/biocbuild/bbs-3.6-bioc/tmpdir/RtmpyGIbfh/R.INSTALL8884dd36401/ggbio/man/stat_slice-method.Rd:85: missing file link 'slice'
stat_stepping-method html
stat_table-method html
theme html
tracks html
** building package indices
** installing vignettes
** testing if installed package can be loaded
In R CMD INSTALL
install for x64
* installing *source* package 'ggbio' ...
** testing if installed package can be loaded
* MD5 sums
packaged installation of 'ggbio' as ggbio_1.26.1.zip
* DONE (ggbio)
In R CMD INSTALL
In R CMD INSTALL
* installing to library 'C:/Users/biocbuild/bbs-3.6-bioc/R/library'
package 'ggbio' successfully unpacked and MD5 sums checked
In R CMD INSTALL