| Back to Multiple platform build/check report for BioC 3.6 |
|
This page was generated on 2018-04-12 13:20:26 -0400 (Thu, 12 Apr 2018).
| Package 513/1472 | Hostname | OS / Arch | INSTALL | BUILD | CHECK | BUILD BIN | ||||||
| gage 2.28.2 Weijun Luo
| malbec1 | Linux (Ubuntu 16.04.1 LTS) / x86_64 | OK | OK | OK | |||||||
| tokay1 | Windows Server 2012 R2 Standard / x64 | [ OK ] | OK | OK | OK | |||||||
| veracruz1 | OS X 10.11.6 El Capitan / x86_64 | OK | OK | OK | OK |
| Package: gage |
| Version: 2.28.2 |
| Command: rm -rf gage.buildbin-libdir && mkdir gage.buildbin-libdir && C:\cygwin\bin\curl.exe -O https://malbec1.bioconductor.org/BBS/3.6/bioc/src/contrib/gage_2.28.2.tar.gz && C:\Users\biocbuild\bbs-3.6-bioc\R\bin\R.exe CMD INSTALL --build --library=gage.buildbin-libdir --merge-multiarch gage_2.28.2.tar.gz && C:\Users\biocbuild\bbs-3.6-bioc\R\bin\R.exe CMD INSTALL gage_2.28.2.zip && rm gage_2.28.2.tar.gz gage_2.28.2.zip |
| StartedAt: 2018-04-11 18:33:38 -0400 (Wed, 11 Apr 2018) |
| EndedAt: 2018-04-11 18:34:33 -0400 (Wed, 11 Apr 2018) |
| EllapsedTime: 54.6 seconds |
| RetCode: 0 |
| Status: OK |
##############################################################################
##############################################################################
###
### Running command:
###
### rm -rf gage.buildbin-libdir && mkdir gage.buildbin-libdir && C:\cygwin\bin\curl.exe -O https://malbec1.bioconductor.org/BBS/3.6/bioc/src/contrib/gage_2.28.2.tar.gz && C:\Users\biocbuild\bbs-3.6-bioc\R\bin\R.exe CMD INSTALL --build --library=gage.buildbin-libdir --merge-multiarch gage_2.28.2.tar.gz && C:\Users\biocbuild\bbs-3.6-bioc\R\bin\R.exe CMD INSTALL gage_2.28.2.zip && rm gage_2.28.2.tar.gz gage_2.28.2.zip
###
##############################################################################
##############################################################################
% Total % Received % Xferd Average Speed Time Time Time Current
Dload Upload Total Spent Left Speed
0 0 0 0 0 0 0 0 --:--:-- --:--:-- --:--:-- 0
100 1644k 100 1644k 0 0 43.6M 0 --:--:-- --:--:-- --:--:-- 48.6M
install for i386
* installing *source* package 'gage' ...
** R
** data
** inst
** preparing package for lazy loading
** help
*** installing help indices
converting help for package 'gage'
finding HTML links ... done
eg2sym html
egSymb html
essGene html
esset.grp html
gage-internal html
gage html
gageComp html
gagePipe html
geneData html
go.gsets html
gs.tTest html
gse16873 html
heter.gage html
kegg.gs html
kegg.gsets html
readExpData html
readList html
sigGeneSet html
** building package indices
** installing vignettes
** testing if installed package can be loaded
In R CMD INSTALL
install for x64
* installing *source* package 'gage' ...
** testing if installed package can be loaded
* MD5 sums
packaged installation of 'gage' as gage_2.28.2.zip
* DONE (gage)
In R CMD INSTALL
In R CMD INSTALL
* installing to library 'C:/Users/biocbuild/bbs-3.6-bioc/R/library'
package 'gage' successfully unpacked and MD5 sums checked
In R CMD INSTALL