| Back to Multiple platform build/check report for BioC 3.6 | 
  | 
This page was generated on 2018-04-12 13:25:28 -0400 (Thu, 12 Apr 2018).
| Package 610/1472 | Hostname | OS / Arch | INSTALL | BUILD | CHECK | BUILD BIN | ||||||
| gQTLBase 1.10.0 VJ Carey 
  | malbec1 | Linux (Ubuntu 16.04.1 LTS) / x86_64 | OK | OK | OK | |||||||
| tokay1 | Windows Server 2012 R2 Standard / x64 | [ OK ] | OK | OK | OK | |||||||
| veracruz1 | OS X 10.11.6 El Capitan / x86_64 | OK | OK | OK | OK | 
| Package: gQTLBase | 
| Version: 1.10.0 | 
| Command: rm -rf gQTLBase.buildbin-libdir && mkdir gQTLBase.buildbin-libdir && C:\cygwin\bin\curl.exe -O https://malbec1.bioconductor.org/BBS/3.6/bioc/src/contrib/gQTLBase_1.10.0.tar.gz && C:\Users\biocbuild\bbs-3.6-bioc\R\bin\R.exe CMD INSTALL --build --library=gQTLBase.buildbin-libdir --merge-multiarch gQTLBase_1.10.0.tar.gz && C:\Users\biocbuild\bbs-3.6-bioc\R\bin\R.exe CMD INSTALL gQTLBase_1.10.0.zip && rm gQTLBase_1.10.0.tar.gz gQTLBase_1.10.0.zip | 
| StartedAt: 2018-04-11 18:53:42 -0400 (Wed, 11 Apr 2018) | 
| EndedAt: 2018-04-11 18:54:36 -0400 (Wed, 11 Apr 2018) | 
| EllapsedTime: 53.9 seconds | 
| RetCode: 0 | 
| Status: OK | 
##############################################################################
##############################################################################
###
### Running command:
###
###   rm -rf gQTLBase.buildbin-libdir && mkdir gQTLBase.buildbin-libdir  && C:\cygwin\bin\curl.exe -O https://malbec1.bioconductor.org/BBS/3.6/bioc/src/contrib/gQTLBase_1.10.0.tar.gz && C:\Users\biocbuild\bbs-3.6-bioc\R\bin\R.exe CMD INSTALL --build --library=gQTLBase.buildbin-libdir --merge-multiarch gQTLBase_1.10.0.tar.gz && C:\Users\biocbuild\bbs-3.6-bioc\R\bin\R.exe CMD INSTALL gQTLBase_1.10.0.zip  && rm gQTLBase_1.10.0.tar.gz gQTLBase_1.10.0.zip
###
##############################################################################
##############################################################################
  % Total    % Received % Xferd  Average Speed   Time    Time     Time  Current
                                 Dload  Upload   Total   Spent    Left  Speed
  0     0    0     0    0     0      0      0 --:--:-- --:--:-- --:--:--     0
100 20375  100 20375    0     0   317k      0 --:--:-- --:--:-- --:--:--  337k
install for i386
* installing *source* package 'gQTLBase' ...
** R
** inst
** preparing package for lazy loading
** help
*** installing help indices
  converting help for package 'gQTLBase'
    finding HTML links ... done
    ciseStore-class                         html  
    describeStore                           html  
    extractByProbes                         html  
    gqtlBase-package                        html  
    mergeCIstates                           html  
    storeApply                              html  
    storeMapResults                         html  
    storeToFf                               html  
    ufeatByTiling                           html  
** building package indices
** installing vignettes
** testing if installed package can be loaded
In R CMD INSTALL
install for x64
* installing *source* package 'gQTLBase' ...
** testing if installed package can be loaded
* MD5 sums
packaged installation of 'gQTLBase' as gQTLBase_1.10.0.zip
* DONE (gQTLBase)
In R CMD INSTALL
In R CMD INSTALL
* installing to library 'C:/Users/biocbuild/bbs-3.6-bioc/R/library'
package 'gQTLBase' successfully unpacked and MD5 sums checked
In R CMD INSTALL