| Back to Multiple platform build/check report for BioC 3.6 |
|
This page was generated on 2018-04-12 13:21:24 -0400 (Thu, 12 Apr 2018).
| Package 256/1472 | Hostname | OS / Arch | INSTALL | BUILD | CHECK | BUILD BIN | ||||||
| cn.mops 1.24.0 Guenter Klambauer
| malbec1 | Linux (Ubuntu 16.04.1 LTS) / x86_64 | OK | OK | OK | |||||||
| tokay1 | Windows Server 2012 R2 Standard / x64 | OK | OK | [ OK ] | OK | |||||||
| veracruz1 | OS X 10.11.6 El Capitan / x86_64 | OK | OK | OK | OK |
| Package: cn.mops |
| Version: 1.24.0 |
| Command: rm -rf cn.mops.buildbin-libdir cn.mops.Rcheck && mkdir cn.mops.buildbin-libdir cn.mops.Rcheck && C:\Users\biocbuild\bbs-3.6-bioc\R\bin\R.exe CMD INSTALL --build --merge-multiarch --library=cn.mops.buildbin-libdir cn.mops_1.24.0.tar.gz >cn.mops.Rcheck\00install.out 2>&1 && cp cn.mops.Rcheck\00install.out cn.mops-install.out && C:\Users\biocbuild\bbs-3.6-bioc\R\bin\R.exe CMD check --library=cn.mops.buildbin-libdir --install="check:cn.mops-install.out" --force-multiarch --no-vignettes --timings cn.mops_1.24.0.tar.gz |
| StartedAt: 2018-04-11 23:01:49 -0400 (Wed, 11 Apr 2018) |
| EndedAt: 2018-04-11 23:08:26 -0400 (Wed, 11 Apr 2018) |
| EllapsedTime: 397.8 seconds |
| RetCode: 0 |
| Status: OK |
| CheckDir: cn.mops.Rcheck |
| Warnings: 0 |
##############################################################################
##############################################################################
###
### Running command:
###
### rm -rf cn.mops.buildbin-libdir cn.mops.Rcheck && mkdir cn.mops.buildbin-libdir cn.mops.Rcheck && C:\Users\biocbuild\bbs-3.6-bioc\R\bin\R.exe CMD INSTALL --build --merge-multiarch --library=cn.mops.buildbin-libdir cn.mops_1.24.0.tar.gz >cn.mops.Rcheck\00install.out 2>&1 && cp cn.mops.Rcheck\00install.out cn.mops-install.out && C:\Users\biocbuild\bbs-3.6-bioc\R\bin\R.exe CMD check --library=cn.mops.buildbin-libdir --install="check:cn.mops-install.out" --force-multiarch --no-vignettes --timings cn.mops_1.24.0.tar.gz
###
##############################################################################
##############################################################################
* using log directory 'C:/Users/biocbuild/bbs-3.6-bioc/meat/cn.mops.Rcheck'
* using R version 3.4.4 (2018-03-15)
* using platform: x86_64-w64-mingw32 (64-bit)
* using session charset: ISO8859-1
* using option '--no-vignettes'
* checking for file 'cn.mops/DESCRIPTION' ... OK
* checking extension type ... Package
* this is package 'cn.mops' version '1.24.0'
* checking package namespace information ... OK
* checking package dependencies ... OK
* checking if this is a source package ... OK
* checking if there is a namespace ... OK
* checking for hidden files and directories ... OK
* checking for portable file names ... OK
* checking whether package 'cn.mops' can be installed ... OK
* checking installed package size ... OK
* checking package directory ... OK
* checking 'build' directory ... OK
* checking DESCRIPTION meta-information ... OK
* checking top-level files ... OK
* checking for left-over files ... OK
* checking index information ... OK
* checking package subdirectories ... OK
* checking R files for non-ASCII characters ... OK
* checking R files for syntax errors ... OK
* loading checks for arch 'i386'
** checking whether the package can be loaded ... OK
** checking whether the package can be loaded with stated dependencies ... OK
** checking whether the package can be unloaded cleanly ... OK
** checking whether the namespace can be loaded with stated dependencies ... OK
** checking whether the namespace can be unloaded cleanly ... OK
* loading checks for arch 'x64'
** checking whether the package can be loaded ... OK
** checking whether the package can be loaded with stated dependencies ... OK
** checking whether the package can be unloaded cleanly ... OK
** checking whether the namespace can be loaded with stated dependencies ... OK
** checking whether the namespace can be unloaded cleanly ... OK
* checking dependencies in R code ... OK
* checking S3 generic/method consistency ... OK
* checking replacement functions ... OK
* checking foreign function calls ... OK
* checking R code for possible problems ... OK
* checking Rd files ... OK
* checking Rd metadata ... OK
* checking Rd cross-references ... OK
* checking for missing documentation entries ... OK
* checking for code/documentation mismatches ... OK
* checking Rd \usage sections ... OK
* checking Rd contents ... OK
* checking for unstated dependencies in examples ... OK
* checking contents of 'data' directory ... OK
* checking data for non-ASCII characters ... OK
* checking data for ASCII and uncompressed saves ... OK
* checking line endings in C/C++/Fortran sources/headers ... OK
* checking compiled code ... NOTE
Note: information on .o files for i386 is not available
Note: information on .o files for x64 is not available
File 'C:/Users/biocbuild/bbs-3.6-bioc/meat/cn.mops.buildbin-libdir/cn.mops/libs/i386/cn.mops.dll':
Found 'abort', possibly from 'abort' (C), 'runtime' (Fortran)
Found 'exit', possibly from 'exit' (C), 'stop' (Fortran)
Found 'printf', possibly from 'printf' (C)
Compiled code should not call entry points which might terminate R nor
write to stdout/stderr instead of to the console, nor use Fortran I/O
nor system RNGs. The detected symbols are linked into the code but
might come from libraries and not actually be called.
See 'Writing portable packages' in the 'Writing R Extensions' manual.
* checking installed files from 'inst/doc' ... OK
* checking files in 'vignettes' ... OK
* checking examples ...
** running examples for arch 'i386' ... OK
Examples with CPU or elapsed time > 5s
user system elapsed
referencecn.mops 17.74 0.08 26.22
calcFractionalCopyNumbers-CNVDetectionResult-method 12.44 0.05 12.49
calcFractionalCopyNumbers 11.86 0.00 11.86
cn.mops 9.03 0.07 19.84
haplocn.mops 1.34 0.04 10.64
getReadCountsFromBAM 0.61 0.03 6.59
** running examples for arch 'x64' ... OK
Examples with CPU or elapsed time > 5s
user system elapsed
referencecn.mops 16.71 0.02 31.24
calcFractionalCopyNumbers 13.34 0.03 13.38
cn.mops 11.79 0.19 26.56
calcFractionalCopyNumbers-CNVDetectionResult-method 11.71 0.08 11.78
haplocn.mops 1.72 0.04 14.19
getReadCountsFromBAM 0.77 0.00 8.59
getSegmentReadCountsFromBAM 0.25 0.02 5.44
* checking for unstated dependencies in vignettes ... OK
* checking package vignettes in 'inst/doc' ... OK
* checking running R code from vignettes ... SKIPPED
* checking re-building of vignette outputs ... SKIPPED
* checking PDF version of manual ... OK
* DONE
Status: 1 NOTE
See
'C:/Users/biocbuild/bbs-3.6-bioc/meat/cn.mops.Rcheck/00check.log'
for details.
cn.mops.Rcheck/00install.out
install for i386
* installing *source* package 'cn.mops' ...
** libs
C:/Rtools/mingw_32/bin/gcc -I"C:/Users/BIOCBU˜1/BBS-3˜1.6-B/R/include" -DNDEBUG -I"C:/local323/include" -O3 -Wall -std=gnu99 -mtune=generic -c R_init_cnmops.c -o R_init_cnmops.o
C:/Rtools/mingw_32/bin/g++ -I"C:/Users/BIOCBU˜1/BBS-3˜1.6-B/R/include" -DNDEBUG -I"C:/local323/include" -O2 -Wall -mtune=generic -c cnmops.cpp -o cnmops.o
C:/Rtools/mingw_32/bin/g++ -I"C:/Users/BIOCBU˜1/BBS-3˜1.6-B/R/include" -DNDEBUG -I"C:/local323/include" -O2 -Wall -mtune=generic -c segment.cpp -o segment.o
segment.cpp: In function 'SEXPREC* segment(SEXP, SEXP, SEXP, SEXP, SEXP, SEXP)':
segment.cpp:59:20: warning: variable 'globalSd' set but not used [-Wunused-but-set-variable]
double globalMean,globalSd,diff,M2,globalVariance;
^
segment.cpp:60:9: warning: variable 'oldStatistic' set but not used [-Wunused-but-set-variable]
double oldStatistic, meanLeft,meanRight,varLeft,varRight;
^
segment.cpp:61:31: warning: variable 'maxStatistic' set but not used [-Wunused-but-set-variable]
double newStatistic,meanDiff,maxStatistic,DOF,a,b,eps1;
^
segment.cpp:62:40: warning: variable 'maxIdx' set but not used [-Wunused-but-set-variable]
double newPValue, maxPValue,oldPValue,maxIdx;
^
In file included from segment.cpp:10:0:
C:/Users/BIOCBU˜1/BBS-3˜1.6-B/R/include/Rmath.h:228:15: warning: unused variable 'Rf_beta' [-Wunused-variable]
#define beta Rf_beta
^
segment.cpp:64:9: note: in expansion of macro 'beta'
double beta,nn;
^
C:/Rtools/mingw_32/bin/g++ -shared -s -static-libgcc -o cn.mops.dll tmp.def R_init_cnmops.o cnmops.o segment.o -LC:/local323/lib/i386 -LC:/local323/lib -LC:/Users/BIOCBU˜1/BBS-3˜1.6-B/R/bin/i386 -lR
installing to C:/Users/biocbuild/bbs-3.6-bioc/meat/cn.mops.buildbin-libdir/cn.mops/libs/i386
** R
** data
** inst
** preparing package for lazy loading
** help
*** installing help indices
converting help for package 'cn.mops'
finding HTML links ... done
CNVDetectionResult html
CNVRanges html
X html
XRanges html
calcFractionalCopyNumbers-CNVDetectionResult-method
html
calcFractionalCopyNumbers html
calcIntegerCopyNumbers-CNVDetectionResult-method
html
calcIntegerCopyNumbers html
cn.mops html
cnvr-CNVDetectionResult-method html
cnvr html
cnvs-CNVDetectionResult-method html
cnvs html
exomeCounts html
exomecn.mops html
getReadCountsFromBAM html
getSegmentReadCountsFromBAM html
gr-CNVDetectionResult-method html
gr html
haplocn.mops html
individualCall-CNVDetectionResult-method
html
individualCall html
iniCall-CNVDetectionResult-method html
iniCall html
integerCopyNumber-CNVDetectionResult-method
html
integerCopyNumber html
localAssessments-CNVDetectionResult-method
html
localAssessments html
makeRobustCNVR html
normalizeChromosomes html
normalizeGenome html
normalizedData-CNVDetectionResult-method
html
normalizedData html
params-CNVDetectionResult-method html
params html
plot html
posteriorProbs-CNVDetectionResult-method
html
posteriorProbs html
referencecn.mops html
sampleNames-CNVDetectionResult-method html
sampleNames html
segment html
segmentation-CNVDetectionResult-method
html
segmentation html
segplot-CNVDetectionResult-method html
segplot html
show html
singlecn.mops html
** building package indices
** installing vignettes
** testing if installed package can be loaded
In R CMD INSTALL
install for x64
* installing *source* package 'cn.mops' ...
** libs
C:/Rtools/mingw_64/bin/gcc -I"C:/Users/BIOCBU˜1/BBS-3˜1.6-B/R/include" -DNDEBUG -I"C:/local323/include" -O2 -Wall -std=gnu99 -mtune=generic -c R_init_cnmops.c -o R_init_cnmops.o
C:/Rtools/mingw_64/bin/g++ -I"C:/Users/BIOCBU˜1/BBS-3˜1.6-B/R/include" -DNDEBUG -I"C:/local323/include" -O2 -Wall -mtune=generic -c cnmops.cpp -o cnmops.o
C:/Rtools/mingw_64/bin/g++ -I"C:/Users/BIOCBU˜1/BBS-3˜1.6-B/R/include" -DNDEBUG -I"C:/local323/include" -O2 -Wall -mtune=generic -c segment.cpp -o segment.o
segment.cpp: In function 'SEXPREC* segment(SEXP, SEXP, SEXP, SEXP, SEXP, SEXP)':
segment.cpp:59:20: warning: variable 'globalSd' set but not used [-Wunused-but-set-variable]
double globalMean,globalSd,diff,M2,globalVariance;
^
segment.cpp:60:9: warning: variable 'oldStatistic' set but not used [-Wunused-but-set-variable]
double oldStatistic, meanLeft,meanRight,varLeft,varRight;
^
segment.cpp:61:31: warning: variable 'maxStatistic' set but not used [-Wunused-but-set-variable]
double newStatistic,meanDiff,maxStatistic,DOF,a,b,eps1;
^
segment.cpp:62:40: warning: variable 'maxIdx' set but not used [-Wunused-but-set-variable]
double newPValue, maxPValue,oldPValue,maxIdx;
^
In file included from segment.cpp:10:0:
C:/Users/BIOCBU˜1/BBS-3˜1.6-B/R/include/Rmath.h:228:15: warning: unused variable 'Rf_beta' [-Wunused-variable]
#define beta Rf_beta
^
segment.cpp:64:9: note: in expansion of macro 'beta'
double beta,nn;
^
C:/Rtools/mingw_64/bin/g++ -shared -s -static-libgcc -o cn.mops.dll tmp.def R_init_cnmops.o cnmops.o segment.o -LC:/local323/lib/x64 -LC:/local323/lib -LC:/Users/BIOCBU˜1/BBS-3˜1.6-B/R/bin/x64 -lR
installing to C:/Users/biocbuild/bbs-3.6-bioc/meat/cn.mops.buildbin-libdir/cn.mops/libs/x64
** testing if installed package can be loaded
* MD5 sums
packaged installation of 'cn.mops' as cn.mops_1.24.0.zip
* DONE (cn.mops)
In R CMD INSTALL
In R CMD INSTALL
|
cn.mops.Rcheck/examples_i386/cn.mops-Ex.timings
|
cn.mops.Rcheck/examples_x64/cn.mops-Ex.timings
|