| Back to Multiple platform build/check report for BioC 3.6 |
|
This page was generated on 2018-04-12 13:45:17 -0400 (Thu, 12 Apr 2018).
| Package 101/1472 | Hostname | OS / Arch | INSTALL | BUILD | CHECK | BUILD BIN | ||||||
| beachmat 1.0.2 Aaron Lun
| malbec1 | Linux (Ubuntu 16.04.1 LTS) / x86_64 | OK | OK | OK | |||||||
| tokay1 | Windows Server 2012 R2 Standard / x64 | OK | OK | OK | OK | |||||||
| veracruz1 | OS X 10.11.6 El Capitan / x86_64 | OK | [ OK ] | OK | OK |
| Package: beachmat |
| Version: 1.0.2 |
| Command: /Library/Frameworks/R.framework/Versions/Current/Resources/bin/R CMD build --keep-empty-dirs --no-resave-data beachmat |
| StartedAt: 2018-04-11 23:32:58 -0400 (Wed, 11 Apr 2018) |
| EndedAt: 2018-04-11 23:34:43 -0400 (Wed, 11 Apr 2018) |
| EllapsedTime: 105.1 seconds |
| RetCode: 0 |
| Status: OK |
| PackageFile: beachmat_1.0.2.tar.gz |
| PackageFileSize: 73.32 KiB |
############################################################################## ############################################################################## ### ### Running command: ### ### /Library/Frameworks/R.framework/Versions/Current/Resources/bin/R CMD build --keep-empty-dirs --no-resave-data beachmat ### ############################################################################## ############################################################################## * checking for file ‘beachmat/DESCRIPTION’ ... OK * preparing ‘beachmat’: * checking DESCRIPTION meta-information ... OK * cleaning src * installing the package to build vignettes * creating vignettes ... OK * cleaning src * checking for LF line-endings in source and make files and shell scripts * checking for empty or unneeded directories * building ‘beachmat_1.0.2.tar.gz’