| Back to Multiple platform build/check report for BioC 3.6 |
|
This page was generated on 2018-04-12 13:17:17 -0400 (Thu, 12 Apr 2018).
| Package 47/1472 | Hostname | OS / Arch | INSTALL | BUILD | CHECK | BUILD BIN | ||||||
| annaffy 1.50.0 Colin A. Smith
| malbec1 | Linux (Ubuntu 16.04.1 LTS) / x86_64 | OK | OK | OK | |||||||
| tokay1 | Windows Server 2012 R2 Standard / x64 | OK | OK | [ OK ] | OK | |||||||
| veracruz1 | OS X 10.11.6 El Capitan / x86_64 | OK | OK | OK | OK |
| Package: annaffy |
| Version: 1.50.0 |
| Command: rm -rf annaffy.buildbin-libdir annaffy.Rcheck && mkdir annaffy.buildbin-libdir annaffy.Rcheck && C:\Users\biocbuild\bbs-3.6-bioc\R\bin\R.exe CMD INSTALL --build --merge-multiarch --library=annaffy.buildbin-libdir annaffy_1.50.0.tar.gz >annaffy.Rcheck\00install.out 2>&1 && cp annaffy.Rcheck\00install.out annaffy-install.out && C:\Users\biocbuild\bbs-3.6-bioc\R\bin\R.exe CMD check --library=annaffy.buildbin-libdir --install="check:annaffy-install.out" --force-multiarch --no-vignettes --timings annaffy_1.50.0.tar.gz |
| StartedAt: 2018-04-11 22:11:26 -0400 (Wed, 11 Apr 2018) |
| EndedAt: 2018-04-11 22:13:44 -0400 (Wed, 11 Apr 2018) |
| EllapsedTime: 138.0 seconds |
| RetCode: 0 |
| Status: OK |
| CheckDir: annaffy.Rcheck |
| Warnings: 0 |
##############################################################################
##############################################################################
###
### Running command:
###
### rm -rf annaffy.buildbin-libdir annaffy.Rcheck && mkdir annaffy.buildbin-libdir annaffy.Rcheck && C:\Users\biocbuild\bbs-3.6-bioc\R\bin\R.exe CMD INSTALL --build --merge-multiarch --library=annaffy.buildbin-libdir annaffy_1.50.0.tar.gz >annaffy.Rcheck\00install.out 2>&1 && cp annaffy.Rcheck\00install.out annaffy-install.out && C:\Users\biocbuild\bbs-3.6-bioc\R\bin\R.exe CMD check --library=annaffy.buildbin-libdir --install="check:annaffy-install.out" --force-multiarch --no-vignettes --timings annaffy_1.50.0.tar.gz
###
##############################################################################
##############################################################################
* using log directory 'C:/Users/biocbuild/bbs-3.6-bioc/meat/annaffy.Rcheck'
* using R version 3.4.4 (2018-03-15)
* using platform: x86_64-w64-mingw32 (64-bit)
* using session charset: ISO8859-1
* using option '--no-vignettes'
* checking for file 'annaffy/DESCRIPTION' ... OK
* this is package 'annaffy' version '1.50.0'
* checking package namespace information ... OK
* checking package dependencies ... OK
* checking if this is a source package ... OK
* checking if there is a namespace ... OK
* checking for hidden files and directories ... OK
* checking for portable file names ... OK
* checking whether package 'annaffy' can be installed ... OK
* checking installed package size ... OK
* checking package directory ... OK
* checking 'build' directory ... OK
* checking DESCRIPTION meta-information ... OK
* checking top-level files ... OK
* checking for left-over files ... OK
* checking index information ... OK
* checking package subdirectories ... OK
* checking R files for non-ASCII characters ... OK
* checking R files for syntax errors ... OK
* loading checks for arch 'i386'
** checking whether the package can be loaded ... OK
** checking whether the package can be loaded with stated dependencies ... OK
** checking whether the package can be unloaded cleanly ... OK
** checking whether the namespace can be loaded with stated dependencies ... OK
** checking whether the namespace can be unloaded cleanly ... OK
* loading checks for arch 'x64'
** checking whether the package can be loaded ... OK
** checking whether the package can be loaded with stated dependencies ... OK
** checking whether the package can be unloaded cleanly ... OK
** checking whether the namespace can be loaded with stated dependencies ... OK
** checking whether the namespace can be unloaded cleanly ... OK
* checking dependencies in R code ... NOTE
'library' or 'require' call to 'methods' which was already attached by Depends.
Please remove these calls from your code.
'library' or 'require' call to 'tcltk' in package code.
Please use :: or requireNamespace() instead.
See section 'Suggested packages' in the 'Writing R Extensions' manual.
Packages in Depends field not imported from:
'GO.db' 'KEGG.db' 'methods'
These packages need to be imported from (in the NAMESPACE file)
for when this namespace is loaded but not attached.
Missing object imported by a ':::' call: 'Biobase:::biocReposList'
* checking S3 generic/method consistency ... OK
* checking replacement functions ... OK
* checking foreign function calls ... OK
* checking R code for possible problems ... NOTE
File 'annaffy/R/zzz.R':
.onLoad calls:
require(methods)
Package startup functions should not change the search path.
See section 'Good practice' in '?.onAttach'.
.aaf.goterm: no visible binding for global variable 'GOTERM'
aafGO: no visible global function definition for 'GO_dbfile'
aafPathway: no visible binding for global variable 'KEGGPATHID2NAME'
aafTableInt: no visible global function definition for 'sampleNames'
aafTableInt: no visible global function definition for 'featureNames'
aafTableInt: no visible global function definition for 'exprs'
chkPkgs: no visible binding for global variable 'contrib.url'
chkPkgs: no visible global function definition for 'available.packages'
chkPkgs: no visible global function definition for 'userQuery'
chkPkgs: no visible global function definition for 'install.packages'
selectorWidget : move: no visible global function definition for
'tkcurselection'
selectorWidget : move: no visible global function definition for
'tclvalue'
selectorWidget : move: no visible global function definition for
'tkget'
selectorWidget : move: no visible global function definition for
'tkinsert'
selectorWidget : move: no visible global function definition for
'tkdelete'
selectorWidget : move: no visible global function definition for
'tkselection.clear'
selectorWidget : ok: no visible global function definition for 'tkget'
selectorWidget : ok: no visible global function definition for
'tkdestroy'
selectorWidget: no visible global function definition for 'tktoplevel'
selectorWidget: no visible global function definition for 'tkwm.title'
selectorWidget: no visible global function definition for
'tkwm.resizable'
selectorWidget: no visible global function definition for 'tkframe'
selectorWidget: no visible global function definition for 'tklistbox'
selectorWidget : <anonymous>: no visible global function definition for
'tkset'
selectorWidget: no visible global function definition for 'tkscrollbar'
selectorWidget : <anonymous>: no visible global function definition for
'tkyview'
selectorWidget: no visible global function definition for 'tkgrid'
selectorWidget: no visible global function definition for 'tklabel'
selectorWidget: no visible global function definition for 'tkbutton'
selectorWidget: no visible global function definition for 'tkinsert'
selectorWidget : <anonymous>: no visible global function definition for
'tkdestroy'
selectorWidget: no visible global function definition for 'tkbind'
selectorWidget: no visible global function definition for
'tkwait.window'
getHTML,aafUniGene: no visible binding for global variable 'text'
saveHTML,aafTable: no visible global function definition for
'browseURL'
Undefined global functions or variables:
GOTERM GO_dbfile KEGGPATHID2NAME available.packages browseURL
contrib.url exprs featureNames install.packages sampleNames tclvalue
text tkbind tkbutton tkcurselection tkdelete tkdestroy tkframe tkget
tkgrid tkinsert tklabel tklistbox tkscrollbar tkselection.clear tkset
tktoplevel tkwait.window tkwm.resizable tkwm.title tkyview userQuery
Consider adding
importFrom("graphics", "text")
importFrom("utils", "available.packages", "browseURL", "contrib.url",
"install.packages")
to your NAMESPACE file.
* checking Rd files ... OK
* checking Rd metadata ... OK
* checking Rd cross-references ... OK
* checking for missing documentation entries ... OK
* checking for code/documentation mismatches ... OK
* checking Rd \usage sections ... OK
* checking Rd contents ... OK
* checking for unstated dependencies in examples ... OK
* checking contents of 'data' directory ... OK
* checking data for non-ASCII characters ... OK
* checking data for ASCII and uncompressed saves ... OK
* checking installed files from 'inst/doc' ... OK
* checking files in 'vignettes' ... OK
* checking examples ...
** running examples for arch 'i386' ... OK
Examples with CPU or elapsed time > 5s
user system elapsed
aafPubMed 0.17 0.11 7.52
** running examples for arch 'x64' ... OK
* checking for unstated dependencies in vignettes ... OK
* checking package vignettes in 'inst/doc' ... OK
* checking running R code from vignettes ... SKIPPED
* checking re-building of vignette outputs ... SKIPPED
* checking PDF version of manual ... OK
* DONE
Status: 2 NOTEs
See
'C:/Users/biocbuild/bbs-3.6-bioc/meat/annaffy.Rcheck/00check.log'
for details.
annaffy.Rcheck/00install.out
install for i386
* installing *source* package 'annaffy' ...
** R
** data
** inst
** preparing package for lazy loading
** help
*** installing help indices
converting help for package 'annaffy'
finding HTML links ... done
aaf.character html
aaf.goterm html
aaf.handler html
aaf.integer html
aaf.raw html
aafChromLoc-class html
aafChromLoc html
aafChromosome-class html
aafChromosome html
aafCytoband-class html
aafCytoband html
aafDescription-class html
aafDescription html
aafExpr html
aafGO-class html
aafGO html
aafGOItem-class html
aafGenBank-class html
aafGenBank html
aafIntensity-class html
aafList-class html
aafLocusLink-class html
aafLocusLink html
aafPathway-class html
aafPathway html
aafPathwayItem-class html
aafProbe-class html
aafProbe html
aafPubMed-class html
aafPubMed html
aafSearchGO html
aafSearchText html
aafSigned-class html
aafSymbol-class html
aafSymbol html
aafTable-class html
aafTable html
aafTableAnn html
aafTableFrame html
aafTableInt html
aafUniGene-class html
aafUniGene html
chkPkgs html
getCSS-methods html
getHTML-methods html
getTD-methods html
getText-methods html
getURL-methods html
is.annpkg html
selectorWidget html
** building package indices
** installing vignettes
** testing if installed package can be loaded
In R CMD INSTALL
install for x64
* installing *source* package 'annaffy' ...
** testing if installed package can be loaded
* MD5 sums
packaged installation of 'annaffy' as annaffy_1.50.0.zip
* DONE (annaffy)
In R CMD INSTALL
In R CMD INSTALL
|
annaffy.Rcheck/examples_i386/annaffy-Ex.timings
|
annaffy.Rcheck/examples_x64/annaffy-Ex.timings
|