| Back to Multiple platform build/check report for BioC 3.6 |
|
This page was generated on 2018-04-12 13:17:14 -0400 (Thu, 12 Apr 2018).
| Package 17/1472 | Hostname | OS / Arch | INSTALL | BUILD | CHECK | BUILD BIN | ||||||
| affycomp 1.54.0 Rafael A. Irizarry
| malbec1 | Linux (Ubuntu 16.04.1 LTS) / x86_64 | OK | OK | OK | |||||||
| tokay1 | Windows Server 2012 R2 Standard / x64 | [ OK ] | OK | WARNINGS | OK | |||||||
| veracruz1 | OS X 10.11.6 El Capitan / x86_64 | OK | OK | OK | OK |
| Package: affycomp |
| Version: 1.54.0 |
| Command: rm -rf affycomp.buildbin-libdir && mkdir affycomp.buildbin-libdir && C:\cygwin\bin\curl.exe -O https://malbec1.bioconductor.org/BBS/3.6/bioc/src/contrib/affycomp_1.54.0.tar.gz && C:\Users\biocbuild\bbs-3.6-bioc\R\bin\R.exe CMD INSTALL --build --library=affycomp.buildbin-libdir --merge-multiarch affycomp_1.54.0.tar.gz && C:\Users\biocbuild\bbs-3.6-bioc\R\bin\R.exe CMD INSTALL affycomp_1.54.0.zip && rm affycomp_1.54.0.tar.gz affycomp_1.54.0.zip |
| StartedAt: 2018-04-11 18:23:18 -0400 (Wed, 11 Apr 2018) |
| EndedAt: 2018-04-11 18:24:24 -0400 (Wed, 11 Apr 2018) |
| EllapsedTime: 66.1 seconds |
| RetCode: 0 |
| Status: OK |
##############################################################################
##############################################################################
###
### Running command:
###
### rm -rf affycomp.buildbin-libdir && mkdir affycomp.buildbin-libdir && C:\cygwin\bin\curl.exe -O https://malbec1.bioconductor.org/BBS/3.6/bioc/src/contrib/affycomp_1.54.0.tar.gz && C:\Users\biocbuild\bbs-3.6-bioc\R\bin\R.exe CMD INSTALL --build --library=affycomp.buildbin-libdir --merge-multiarch affycomp_1.54.0.tar.gz && C:\Users\biocbuild\bbs-3.6-bioc\R\bin\R.exe CMD INSTALL affycomp_1.54.0.zip && rm affycomp_1.54.0.tar.gz affycomp_1.54.0.zip
###
##############################################################################
##############################################################################
% Total % Received % Xferd Average Speed Time Time Time Current
Dload Upload Total Spent Left Speed
0 0 0 0 0 0 0 0 --:--:-- --:--:-- --:--:-- 0
100 7135k 100 7135k 0 0 74.5M 0 --:--:-- --:--:-- --:--:-- 77.4M
install for i386
* installing *source* package 'affycomp' ...
** R
** data
** inst
** preparing package for lazy loading
** help
*** installing help indices
converting help for package 'affycomp'
finding HTML links ... done
SD html
affycomp.compfigs.auxiliary html
affycomp.figures.auxiliary html
affycomp.table html
affycompPlot html
assessAll html
assessDilution html
assessSD html
assessSpikeIn html
assessSpikeIn2 html
dilution.phenodata html
exprset.log html
hgu133a.spikein.phenodata html
mas5.assessment html
Rd warning: C:/Users/biocbuild/bbs-3.6-bioc/tmpdir/RtmpsLfw6X/R.INSTALLeec6a0bd3/affycomp/man/mas5.assessment.Rd:10: missing file link 'ExpressionSet'
readin html
remove.hgu133a.xhyb html
spikein.phenodata html
xhyb html
** building package indices
** installing vignettes
** testing if installed package can be loaded
In R CMD INSTALL
install for x64
* installing *source* package 'affycomp' ...
** testing if installed package can be loaded
* MD5 sums
packaged installation of 'affycomp' as affycomp_1.54.0.zip
* DONE (affycomp)
In R CMD INSTALL
In R CMD INSTALL
* installing to library 'C:/Users/biocbuild/bbs-3.6-bioc/R/library'
package 'affycomp' successfully unpacked and MD5 sums checked
In R CMD INSTALL