| Back to Multiple platform build/check report for BioC 3.6 |
|
This page was generated on 2018-04-12 13:42:32 -0400 (Thu, 12 Apr 2018).
| Package 1330/1472 | Hostname | OS / Arch | INSTALL | BUILD | CHECK | BUILD BIN | ||||||
| SpidermiR 1.8.2 Claudia Cava
| malbec1 | Linux (Ubuntu 16.04.1 LTS) / x86_64 | OK | OK | OK | |||||||
| tokay1 | Windows Server 2012 R2 Standard / x64 | OK | OK | OK | OK | |||||||
| veracruz1 | OS X 10.11.6 El Capitan / x86_64 | OK | OK | [ OK ] | OK |
| Package: SpidermiR |
| Version: 1.8.2 |
| Command: /Library/Frameworks/R.framework/Versions/Current/Resources/bin/R CMD check --no-vignettes --timings SpidermiR_1.8.2.tar.gz |
| StartedAt: 2018-04-12 09:52:22 -0400 (Thu, 12 Apr 2018) |
| EndedAt: 2018-04-12 09:57:54 -0400 (Thu, 12 Apr 2018) |
| EllapsedTime: 331.8 seconds |
| RetCode: 0 |
| Status: OK |
| CheckDir: SpidermiR.Rcheck |
| Warnings: 0 |
##############################################################################
##############################################################################
###
### Running command:
###
### /Library/Frameworks/R.framework/Versions/Current/Resources/bin/R CMD check --no-vignettes --timings SpidermiR_1.8.2.tar.gz
###
##############################################################################
##############################################################################
* using log directory ‘/Users/biocbuild/bbs-3.6-bioc/meat/SpidermiR.Rcheck’
* using R version 3.4.4 (2018-03-15)
* using platform: x86_64-apple-darwin15.6.0 (64-bit)
* using session charset: UTF-8
* using option ‘--no-vignettes’
* checking for file ‘SpidermiR/DESCRIPTION’ ... OK
* checking extension type ... Package
* this is package ‘SpidermiR’ version ‘1.8.2’
* checking package namespace information ... OK
* checking package dependencies ... OK
* checking if this is a source package ... OK
* checking if there is a namespace ... OK
* checking for hidden files and directories ... OK
* checking for portable file names ... OK
* checking for sufficient/correct file permissions ... OK
* checking whether package ‘SpidermiR’ can be installed ... OK
* checking installed package size ... NOTE
installed size is 5.4Mb
sub-directories of 1Mb or more:
doc 5.0Mb
* checking package directory ... OK
* checking ‘build’ directory ... OK
* checking DESCRIPTION meta-information ... OK
* checking top-level files ... OK
* checking for left-over files ... OK
* checking index information ... OK
* checking package subdirectories ... OK
* checking R files for non-ASCII characters ... OK
* checking R files for syntax errors ... OK
* checking whether the package can be loaded ... OK
* checking whether the package can be loaded with stated dependencies ... OK
* checking whether the package can be unloaded cleanly ... OK
* checking whether the namespace can be loaded with stated dependencies ... OK
* checking whether the namespace can be unloaded cleanly ... OK
* checking dependencies in R code ... OK
* checking S3 generic/method consistency ... OK
* checking replacement functions ... OK
* checking foreign function calls ... OK
* checking R code for possible problems ... NOTE
.SpidermiRvisualize_gene: possible error in simpleNetwork(NetworkData,
linkColour = "gray", textColour = "black", zoom = TRUE): unused
argument (textColour = "black")
Case_Study1_loading_3_network: no visible global function definition
for ‘SpidermiRanalyze_DEnetworkTCGA’
SpidermiRvisualize_plot_target: no visible binding for global variable
‘miRNAs’
SpidermiRvisualize_plot_target: no visible binding for global variable
‘mRNA_target’
Undefined global functions or variables:
SpidermiRanalyze_DEnetworkTCGA mRNA_target miRNAs
* checking Rd files ... OK
* checking Rd metadata ... OK
* checking Rd cross-references ... OK
* checking for missing documentation entries ... OK
* checking for code/documentation mismatches ... OK
* checking Rd \usage sections ... OK
* checking Rd contents ... OK
* checking for unstated dependencies in examples ... OK
* checking contents of ‘data’ directory ... OK
* checking data for non-ASCII characters ... OK
* checking data for ASCII and uncompressed saves ... OK
* checking sizes of PDF files under ‘inst/doc’ ... OK
* checking installed files from ‘inst/doc’ ... OK
* checking files in ‘vignettes’ ... OK
* checking examples ... OK
Examples with CPU or elapsed time > 5s
user system elapsed
SpidermiRdownload_miRNAvalidate 8.452 0.420 13.900
SpidermiRdownload_miRNAprediction 4.880 1.278 10.354
SpidermiRanalyze_mirna_gene_complnet 3.143 0.229 5.429
* checking for unstated dependencies in ‘tests’ ... OK
* checking tests ...
Running ‘testthat.R’
OK
* checking for unstated dependencies in vignettes ... OK
* checking package vignettes in ‘inst/doc’ ... OK
* checking running R code from vignettes ... SKIPPED
* checking re-building of vignette outputs ... SKIPPED
* checking PDF version of manual ... OK
* DONE
Status: 2 NOTEs
See
‘/Users/biocbuild/bbs-3.6-bioc/meat/SpidermiR.Rcheck/00check.log’
for details.
SpidermiR.Rcheck/00install.out
* installing *source* package ‘SpidermiR’ ... ** R ** data *** moving datasets to lazyload DB ** inst ** preparing package for lazy loading ** help *** installing help indices ** building package indices ** installing vignettes ** testing if installed package can be loaded * DONE (SpidermiR)
SpidermiR.Rcheck/tests/testthat.Rout
R version 3.4.4 (2018-03-15) -- "Someone to Lean On"
Copyright (C) 2018 The R Foundation for Statistical Computing
Platform: x86_64-apple-darwin15.6.0 (64-bit)
R is free software and comes with ABSOLUTELY NO WARRANTY.
You are welcome to redistribute it under certain conditions.
Type 'license()' or 'licence()' for distribution details.
R is a collaborative project with many contributors.
Type 'contributors()' for more information and
'citation()' on how to cite R or R packages in publications.
Type 'demo()' for some demos, 'help()' for on-line help, or
'help.start()' for an HTML browser interface to help.
Type 'q()' to quit R.
> library(testthat)
> library(SpidermiR)
Loading required package: miRNAtap
Loading required package: AnnotationDbi
Loading required package: stats4
Loading required package: BiocGenerics
Loading required package: parallel
Attaching package: 'BiocGenerics'
The following objects are masked from 'package:parallel':
clusterApply, clusterApplyLB, clusterCall, clusterEvalQ,
clusterExport, clusterMap, parApply, parCapply, parLapply,
parLapplyLB, parRapply, parSapply, parSapplyLB
The following objects are masked from 'package:stats':
IQR, mad, sd, var, xtabs
The following objects are masked from 'package:base':
Filter, Find, Map, Position, Reduce, anyDuplicated, append,
as.data.frame, cbind, colMeans, colSums, colnames, do.call,
duplicated, eval, evalq, get, grep, grepl, intersect, is.unsorted,
lapply, lengths, mapply, match, mget, order, paste, pmax, pmax.int,
pmin, pmin.int, rank, rbind, rowMeans, rowSums, rownames, sapply,
setdiff, sort, table, tapply, union, unique, unsplit, which,
which.max, which.min
Loading required package: Biobase
Welcome to Bioconductor
Vignettes contain introductory material; view with
'browseVignettes()'. To cite Bioconductor, see
'citation("Biobase")', and for packages 'citation("pkgname")'.
Loading required package: IRanges
Loading required package: S4Vectors
Attaching package: 'S4Vectors'
The following object is masked from 'package:base':
expand.grid
>
> test_check("SpidermiR")
[1] "Downloading: http://genemania.org/data/current/Saccharomyces_cerevisiae/Shared_protein_domains.INTERPRO.txt ... reference n. 1 of 2"
[1] "Downloading: http://genemania.org/data/current/Saccharomyces_cerevisiae/Shared_protein_domains.PFAM.txt ... reference n. 2 of 2"
══ testthat results ═══════════════════════════════════════════════════════════
OK: 4 SKIPPED: 0 FAILED: 0
>
> proc.time()
user system elapsed
13.660 0.424 15.643
SpidermiR.Rcheck/SpidermiR-Ex.timings
| name | user | system | elapsed | |
| Case_Study1_loading_1_network | 0.001 | 0.000 | 0.000 | |
| Case_Study1_loading_2_network | 0.000 | 0.000 | 0.001 | |
| Case_Study1_loading_3_network | 0.001 | 0.000 | 0.000 | |
| Case_Study1_loading_4_network | 0 | 0 | 0 | |
| Case_Study2_loading_1_network | 0.001 | 0.000 | 0.000 | |
| Case_Study2_loading_2_network | 0.000 | 0.001 | 0.001 | |
| Case_Study2_loading_3_network | 0 | 0 | 0 | |
| SpidermiRanalyze_Community_detection | 0.049 | 0.001 | 0.055 | |
| SpidermiRanalyze_Community_detection_bi | 0.400 | 0.003 | 0.407 | |
| SpidermiRanalyze_Community_detection_net | 0.007 | 0.000 | 0.008 | |
| SpidermiRanalyze_degree_centrality | 0.003 | 0.000 | 0.002 | |
| SpidermiRanalyze_direct_net | 0.032 | 0.000 | 0.032 | |
| SpidermiRanalyze_direct_subnetwork | 0.003 | 0.001 | 0.004 | |
| SpidermiRanalyze_mirna_gene_complnet | 3.143 | 0.229 | 5.429 | |
| SpidermiRanalyze_mirna_network | 2.726 | 0.192 | 4.797 | |
| SpidermiRanalyze_mirnanet_pharm | 0.002 | 0.000 | 0.002 | |
| SpidermiRanalyze_subnetwork_neigh | 0.042 | 0.004 | 0.047 | |
| SpidermiRdownload_miRNAextra_cir | 0.064 | 0.005 | 2.046 | |
| SpidermiRdownload_miRNAprediction | 4.880 | 1.278 | 10.354 | |
| SpidermiRdownload_miRNAvalidate | 8.452 | 0.420 | 13.900 | |
| SpidermiRdownload_net | 0.425 | 0.015 | 1.263 | |
| SpidermiRdownload_pharmacomir | 0.014 | 0.001 | 0.357 | |
| SpidermiRprepare_NET | 0.576 | 0.047 | 1.665 | |
| SpidermiRquery_disease | 0.028 | 0.003 | 0.608 | |
| SpidermiRquery_networks_type | 0.015 | 0.001 | 0.311 | |
| SpidermiRquery_spec_networks | 0.053 | 0.000 | 0.207 | |
| SpidermiRquery_species | 0.010 | 0.000 | 0.111 | |
| SpidermiRvisualize_3Dbarplot | 0.138 | 0.001 | 0.140 | |
| SpidermiRvisualize_BI | 0.286 | 0.007 | 0.298 | |
| SpidermiRvisualize_adj_matrix | 0.088 | 0.002 | 0.092 | |
| SpidermiRvisualize_degree_dist | 0.012 | 0.001 | 0.014 | |
| SpidermiRvisualize_direction | 0.271 | 0.012 | 0.300 | |
| SpidermiRvisualize_mirnanet | 0.070 | 0.004 | 0.077 | |
| SpidermiRvisualize_plot_target | 1.039 | 0.003 | 1.065 | |