| Back to Multiple platform build/check report for BioC 3.6 |
|
This page was generated on 2018-04-12 13:22:39 -0400 (Thu, 12 Apr 2018).
| Package 1328/1472 | Hostname | OS / Arch | INSTALL | BUILD | CHECK | BUILD BIN | ||||||
| SPEM 1.18.0 Xinyi YANG
| malbec1 | Linux (Ubuntu 16.04.1 LTS) / x86_64 | OK | OK | OK | |||||||
| tokay1 | Windows Server 2012 R2 Standard / x64 | [ OK ] | OK | OK | OK | |||||||
| veracruz1 | OS X 10.11.6 El Capitan / x86_64 | OK | OK | OK | OK |
| Package: SPEM |
| Version: 1.18.0 |
| Command: rm -rf SPEM.buildbin-libdir && mkdir SPEM.buildbin-libdir && C:\cygwin\bin\curl.exe -O https://malbec1.bioconductor.org/BBS/3.6/bioc/src/contrib/SPEM_1.18.0.tar.gz && C:\Users\biocbuild\bbs-3.6-bioc\R\bin\R.exe CMD INSTALL --build --library=SPEM.buildbin-libdir --merge-multiarch SPEM_1.18.0.tar.gz && C:\Users\biocbuild\bbs-3.6-bioc\R\bin\R.exe CMD INSTALL SPEM_1.18.0.zip && rm SPEM_1.18.0.tar.gz SPEM_1.18.0.zip |
| StartedAt: 2018-04-11 18:24:43 -0400 (Wed, 11 Apr 2018) |
| EndedAt: 2018-04-11 18:25:28 -0400 (Wed, 11 Apr 2018) |
| EllapsedTime: 44.8 seconds |
| RetCode: 0 |
| Status: OK |
##############################################################################
##############################################################################
###
### Running command:
###
### rm -rf SPEM.buildbin-libdir && mkdir SPEM.buildbin-libdir && C:\cygwin\bin\curl.exe -O https://malbec1.bioconductor.org/BBS/3.6/bioc/src/contrib/SPEM_1.18.0.tar.gz && C:\Users\biocbuild\bbs-3.6-bioc\R\bin\R.exe CMD INSTALL --build --library=SPEM.buildbin-libdir --merge-multiarch SPEM_1.18.0.tar.gz && C:\Users\biocbuild\bbs-3.6-bioc\R\bin\R.exe CMD INSTALL SPEM_1.18.0.zip && rm SPEM_1.18.0.tar.gz SPEM_1.18.0.zip
###
##############################################################################
##############################################################################
% Total % Received % Xferd Average Speed Time Time Time Current
Dload Upload Total Spent Left Speed
0 0 0 0 0 0 0 0 --:--:-- --:--:-- --:--:-- 0
100 157k 100 157k 0 0 5877k 0 --:--:-- --:--:-- --:--:-- 6861k
install for i386
* installing *source* package 'SPEM' ...
** R
** data
** inst
** preparing package for lazy loading
** help
*** installing help indices
converting help for package 'SPEM'
finding HTML links ... done
SPEM-package html
SPEM html
row_optimize html
s_diff html
sos html
** building package indices
** installing vignettes
** testing if installed package can be loaded
In R CMD INSTALL
install for x64
* installing *source* package 'SPEM' ...
** testing if installed package can be loaded
* MD5 sums
packaged installation of 'SPEM' as SPEM_1.18.0.zip
* DONE (SPEM)
In R CMD INSTALL
In R CMD INSTALL
* installing to library 'C:/Users/biocbuild/bbs-3.6-bioc/R/library'
package 'SPEM' successfully unpacked and MD5 sums checked
In R CMD INSTALL