| Back to Multiple platform build/check report for BioC 3.6 |
|
This page was generated on 2018-04-12 13:19:03 -0400 (Thu, 12 Apr 2018).
| Package 1310/1472 | Hostname | OS / Arch | INSTALL | BUILD | CHECK | BUILD BIN | ||||||
| SLGI 1.38.0 Nolwenn Le Meur
| malbec1 | Linux (Ubuntu 16.04.1 LTS) / x86_64 | OK | OK | OK | |||||||
| tokay1 | Windows Server 2012 R2 Standard / x64 | OK | OK | [ OK ] | OK | |||||||
| veracruz1 | OS X 10.11.6 El Capitan / x86_64 | OK | OK | OK | OK |
| Package: SLGI |
| Version: 1.38.0 |
| Command: rm -rf SLGI.buildbin-libdir SLGI.Rcheck && mkdir SLGI.buildbin-libdir SLGI.Rcheck && C:\Users\biocbuild\bbs-3.6-bioc\R\bin\R.exe CMD INSTALL --build --merge-multiarch --library=SLGI.buildbin-libdir SLGI_1.38.0.tar.gz >SLGI.Rcheck\00install.out 2>&1 && cp SLGI.Rcheck\00install.out SLGI-install.out && C:\Users\biocbuild\bbs-3.6-bioc\R\bin\R.exe CMD check --library=SLGI.buildbin-libdir --install="check:SLGI-install.out" --force-multiarch --no-vignettes --timings SLGI_1.38.0.tar.gz |
| StartedAt: 2018-04-12 03:15:47 -0400 (Thu, 12 Apr 2018) |
| EndedAt: 2018-04-12 03:22:28 -0400 (Thu, 12 Apr 2018) |
| EllapsedTime: 400.9 seconds |
| RetCode: 0 |
| Status: OK |
| CheckDir: SLGI.Rcheck |
| Warnings: 0 |
##############################################################################
##############################################################################
###
### Running command:
###
### rm -rf SLGI.buildbin-libdir SLGI.Rcheck && mkdir SLGI.buildbin-libdir SLGI.Rcheck && C:\Users\biocbuild\bbs-3.6-bioc\R\bin\R.exe CMD INSTALL --build --merge-multiarch --library=SLGI.buildbin-libdir SLGI_1.38.0.tar.gz >SLGI.Rcheck\00install.out 2>&1 && cp SLGI.Rcheck\00install.out SLGI-install.out && C:\Users\biocbuild\bbs-3.6-bioc\R\bin\R.exe CMD check --library=SLGI.buildbin-libdir --install="check:SLGI-install.out" --force-multiarch --no-vignettes --timings SLGI_1.38.0.tar.gz
###
##############################################################################
##############################################################################
* using log directory 'C:/Users/biocbuild/bbs-3.6-bioc/meat/SLGI.Rcheck'
* using R version 3.4.4 (2018-03-15)
* using platform: x86_64-w64-mingw32 (64-bit)
* using session charset: ISO8859-1
* using option '--no-vignettes'
* checking for file 'SLGI/DESCRIPTION' ... OK
* this is package 'SLGI' version '1.38.0'
* checking package namespace information ... OK
* checking package dependencies ... OK
* checking if this is a source package ... OK
* checking if there is a namespace ... OK
* checking for hidden files and directories ... OK
* checking for portable file names ... OK
* checking whether package 'SLGI' can be installed ... OK
* checking installed package size ... NOTE
installed size is 16.0Mb
sub-directories of 1Mb or more:
data 4.2Mb
extdata 11.3Mb
* checking package directory ... OK
* checking 'build' directory ... OK
* checking DESCRIPTION meta-information ... NOTE
Malformed Description field: should contain one or more complete sentences.
Packages listed in more than one of Depends, Imports, Suggests, Enhances:
'ScISI' 'lattice' 'GO.db'
A package should be listed in only one of these fields.
* checking top-level files ... OK
* checking for left-over files ... OK
* checking index information ... OK
* checking package subdirectories ... OK
* checking R files for non-ASCII characters ... OK
* checking R files for syntax errors ... OK
* loading checks for arch 'i386'
** checking whether the package can be loaded ... OK
** checking whether the package can be loaded with stated dependencies ... OK
** checking whether the package can be unloaded cleanly ... OK
** checking whether the namespace can be loaded with stated dependencies ... OK
** checking whether the namespace can be unloaded cleanly ... OK
* loading checks for arch 'x64'
** checking whether the package can be loaded ... OK
** checking whether the package can be loaded with stated dependencies ... OK
** checking whether the package can be unloaded cleanly ... OK
** checking whether the namespace can be loaded with stated dependencies ... OK
** checking whether the namespace can be unloaded cleanly ... OK
* checking dependencies in R code ... NOTE
'library' or 'require' call to 'GO.db' in package code.
Please use :: or requireNamespace() instead.
See section 'Suggested packages' in the 'Writing R Extensions' manual.
* checking S3 generic/method consistency ... OK
* checking replacement functions ... OK
* checking foreign function calls ... OK
* checking R code for possible problems ... OK
* checking Rd files ... OK
* checking Rd metadata ... OK
* checking Rd cross-references ... OK
* checking for missing documentation entries ... OK
* checking for code/documentation mismatches ... OK
* checking Rd \usage sections ... OK
* checking Rd contents ... OK
* checking for unstated dependencies in examples ... OK
* checking contents of 'data' directory ... OK
* checking data for non-ASCII characters ... OK
* checking data for ASCII and uncompressed saves ... OK
* checking installed files from 'inst/doc' ... OK
* checking files in 'vignettes' ... OK
* checking examples ...
** running examples for arch 'i386' ... OK
Examples with CPU or elapsed time > 5s
user system elapsed
compare 16.55 8.34 24.90
iSummary 20.49 3.83 24.32
siResult-class 15.72 0.76 16.49
plot 13.38 0.05 13.43
modelSLGI 11.42 0.71 12.14
topInteraction 7.69 0.96 8.64
AtongFnDomain 6.24 0.28 6.52
** running examples for arch 'x64' ... OK
Examples with CPU or elapsed time > 5s
user system elapsed
iSummary 21.36 1.16 22.52
compare 17.70 3.22 20.92
siResult-class 10.12 3.39 13.51
plot 10.99 1.56 12.54
modelSLGI 9.19 1.98 11.17
normInteraction 5.14 1.74 6.88
topInteraction 5.34 1.53 6.87
* checking for unstated dependencies in vignettes ... OK
* checking package vignettes in 'inst/doc' ... OK
* checking running R code from vignettes ... SKIPPED
* checking re-building of vignette outputs ... SKIPPED
* checking PDF version of manual ... OK
* DONE
Status: 3 NOTEs
See
'C:/Users/biocbuild/bbs-3.6-bioc/meat/SLGI.Rcheck/00check.log'
for details.
SLGI.Rcheck/00install.out
install for i386
* installing *source* package 'SLGI' ...
** R
** data
** inst
** preparing package for lazy loading
No methods found in package 'Biobase' for request: 'listlen' when loading 'RpsiXML'
No methods found in package 'annotate' for requests: 'pubmed', 'buildPubMedAbst' when loading 'RpsiXML'
No methods found in package 'BiocGenerics' for request: 'plot' when loading 'SLGI'
** help
*** installing help indices
converting help for package 'SLGI'
finding HTML links ... done
Atong html
AtongFnDomain html
AtongPair html
Boeke html
SDL html
SGA html
SGD.SL html
TFmat html
byComplex html
comemberIn html
compare html
congruence html
createSquareMatrix html
dSLAM.GPL1444 html
domainDist html
essglist html
getInteraction html
getSharedDomains html
getSharedInteraction html
getTestedPairs html
getUniquePairs html
gi2005 html
gi2007 html
gi2Interactome html
hyperG html
iSummary html
modelSLGI html
normInteraction html
plot html
seqMatcherAlign html
sharedBy html
sharedInt html
siResult-class html
test2Interact html
topInteraction html
twoWayTable html
withinComplex html
** building package indices
** installing vignettes
** testing if installed package can be loaded
No methods found in package 'Biobase' for request: 'listlen' when loading 'RpsiXML'
No methods found in package 'annotate' for requests: 'pubmed', 'buildPubMedAbst' when loading 'RpsiXML'
No methods found in package 'BiocGenerics' for request: 'plot' when loading 'SLGI'
In R CMD INSTALL
install for x64
* installing *source* package 'SLGI' ...
** testing if installed package can be loaded
No methods found in package 'Biobase' for request: 'listlen' when loading 'RpsiXML'
No methods found in package 'annotate' for requests: 'pubmed', 'buildPubMedAbst' when loading 'RpsiXML'
No methods found in package 'BiocGenerics' for request: 'plot' when loading 'SLGI'
* MD5 sums
packaged installation of 'SLGI' as SLGI_1.38.0.zip
* DONE (SLGI)
In R CMD INSTALL
In R CMD INSTALL
|
SLGI.Rcheck/examples_i386/SLGI-Ex.timings
|
SLGI.Rcheck/examples_x64/SLGI-Ex.timings
|