| Back to Multiple platform build/check report for BioC 3.6 |
|
This page was generated on 2018-04-12 13:37:14 -0400 (Thu, 12 Apr 2018).
| Package 1225/1472 | Hostname | OS / Arch | INSTALL | BUILD | CHECK | BUILD BIN | ||||||
| RTN 2.2.0 Mauro Castro
| malbec1 | Linux (Ubuntu 16.04.1 LTS) / x86_64 | OK | OK | OK | |||||||
| tokay1 | Windows Server 2012 R2 Standard / x64 | OK | OK | WARNINGS | OK | |||||||
| veracruz1 | OS X 10.11.6 El Capitan / x86_64 | OK | OK | [ OK ] | OK |
| Package: RTN |
| Version: 2.2.0 |
| Command: /Library/Frameworks/R.framework/Versions/Current/Resources/bin/R CMD check --no-vignettes --timings RTN_2.2.0.tar.gz |
| StartedAt: 2018-04-12 09:06:33 -0400 (Thu, 12 Apr 2018) |
| EndedAt: 2018-04-12 09:08:59 -0400 (Thu, 12 Apr 2018) |
| EllapsedTime: 146.0 seconds |
| RetCode: 0 |
| Status: OK |
| CheckDir: RTN.Rcheck |
| Warnings: 0 |
##############################################################################
##############################################################################
###
### Running command:
###
### /Library/Frameworks/R.framework/Versions/Current/Resources/bin/R CMD check --no-vignettes --timings RTN_2.2.0.tar.gz
###
##############################################################################
##############################################################################
* using log directory ‘/Users/biocbuild/bbs-3.6-bioc/meat/RTN.Rcheck’
* using R version 3.4.4 (2018-03-15)
* using platform: x86_64-apple-darwin15.6.0 (64-bit)
* using session charset: UTF-8
* using option ‘--no-vignettes’
* checking for file ‘RTN/DESCRIPTION’ ... OK
* checking extension type ... Package
* this is package ‘RTN’ version ‘2.2.0’
* checking package namespace information ... OK
* checking package dependencies ... OK
* checking if this is a source package ... OK
* checking if there is a namespace ... OK
* checking for hidden files and directories ... OK
* checking for portable file names ... OK
* checking for sufficient/correct file permissions ... OK
* checking whether package ‘RTN’ can be installed ... OK
* checking installed package size ... NOTE
installed size is 12.3Mb
sub-directories of 1Mb or more:
data 10.9Mb
* checking package directory ... OK
* checking ‘build’ directory ... OK
* checking DESCRIPTION meta-information ... OK
* checking top-level files ... OK
* checking for left-over files ... OK
* checking index information ... OK
* checking package subdirectories ... OK
* checking R files for non-ASCII characters ... OK
* checking R files for syntax errors ... OK
* checking whether the package can be loaded ... OK
* checking whether the package can be loaded with stated dependencies ... OK
* checking whether the package can be unloaded cleanly ... OK
* checking whether the namespace can be loaded with stated dependencies ... OK
* checking whether the namespace can be unloaded cleanly ... OK
* checking dependencies in R code ... OK
* checking S3 generic/method consistency ... OK
* checking replacement functions ... OK
* checking foreign function calls ... OK
* checking R code for possible problems ... OK
* checking Rd files ... OK
* checking Rd metadata ... OK
* checking Rd cross-references ... OK
* checking for missing documentation entries ... OK
* checking for code/documentation mismatches ... OK
* checking Rd \usage sections ... OK
* checking Rd contents ... OK
* checking for unstated dependencies in examples ... OK
* checking contents of ‘data’ directory ... OK
* checking data for non-ASCII characters ... OK
* checking data for ASCII and uncompressed saves ... OK
* checking installed files from ‘inst/doc’ ... OK
* checking files in ‘vignettes’ ... OK
* checking examples ... OK
* checking for unstated dependencies in ‘tests’ ... OK
* checking tests ...
Running ‘runTests.R’
OK
* checking for unstated dependencies in vignettes ... OK
* checking package vignettes in ‘inst/doc’ ... OK
* checking running R code from vignettes ... SKIPPED
* checking re-building of vignette outputs ... SKIPPED
* checking PDF version of manual ... OK
* DONE
Status: 1 NOTE
See
‘/Users/biocbuild/bbs-3.6-bioc/meat/RTN.Rcheck/00check.log’
for details.
RTN.Rcheck/00install.out
* installing *source* package ‘RTN’ ... ** R ** data ** inst ** preparing package for lazy loading ** help *** installing help indices ** building package indices ** installing vignettes ** testing if installed package can be loaded * DONE (RTN)
RTN.Rcheck/tests/runTests.Rout
R version 3.4.4 (2018-03-15) -- "Someone to Lean On"
Copyright (C) 2018 The R Foundation for Statistical Computing
Platform: x86_64-apple-darwin15.6.0 (64-bit)
R is free software and comes with ABSOLUTELY NO WARRANTY.
You are welcome to redistribute it under certain conditions.
Type 'license()' or 'licence()' for distribution details.
R is a collaborative project with many contributors.
Type 'contributors()' for more information and
'citation()' on how to cite R or R packages in publications.
Type 'demo()' for some demos, 'help()' for on-line help, or
'help.start()' for an HTML browser interface to help.
Type 'q()' to quit R.
> BiocGenerics:::testPackage("RTN")
-Preprocessing for input data...
--Mapping 'gexp' to 'rowAnnotation'...
--Removing duplicated genes (keep max coefficient of variation!)...
--Checking TFs in the dataset...
-Preprocessing complete!
-Performing permutation analysis...
--For 5 regulons...
|
| | 0%
|
|======= | 10%
|
|============== | 20%
|
|===================== | 30%
|
|============================ | 40%
|
|=================================== | 50%
|
|========================================== | 60%
|
|================================================= | 70%
|
|======================================================== | 80%
|
|=============================================================== | 90%
|
|======================================================================| 100%
-Permutation analysis complete!
-Performing bootstrap analysis...
--For 5 regulons...
|
| | 0%
|
|======= | 10%
|
|============== | 20%
|
|===================== | 30%
|
|============================ | 40%
|
|=================================== | 50%
|
|========================================== | 60%
|
|================================================= | 70%
|
|======================================================== | 80%
|
|=============================================================== | 90%
|
|======================================================================| 100%
-Bootstrap analysis complete!
-Applying dpi filter...
-DPI filter complete!
-Preprocessing for input data...
--Mapping 'phenotype' to 'phenoIDs'...
--Removing genes without names or values in 'phenotype'...
--Removing duplicated genes...
--Mapping 'hits' to 'phenoIDs'...
--Removing duplicated hits...
--Mapping 'transcriptionalNetwork' annotation to 'phenotype'...
--Checking agreement between 'transcriptionalNetwork' and 'phenotype'... 99.8% !
--Removing 'hits' not listed in 'transcriptionalNetwork' universe...
--Extracting regulons...
-Preprocessing complete!
-Performing master regulatory analysis...
--For 5 regulons...
|
| | 0%
|
|============== | 20%
|
|============================ | 40%
|
|========================================== | 60%
|
|======================================================== | 80%
|
|======================================================================| 100%
-Master regulatory analysis complete
-Performing overlap analysis...
--For 5 regulons...
|
| | 0%
|
|============== | 20%
|
|============================ | 40%
|
|========================================== | 60%
|
|======================================================== | 80%
|
|======================================================================| 100%
-Overlap analysis complete
-Performing gene set enrichment analysis...
--For 5 regulons...
|
| | 0%
|
|============== | 20%
|
|============================ | 40%
|
|========================================== | 60%
|
|======================================================== | 80%
|
|======================================================================| 100%
-Gene set enrichment analysis complete
-Performing two-tailed GSEA analysis...
--For 5 regulons...
|
| | 0%
|
|============== | 20%
|
|============================ | 40%
|
|========================================== | 60%
|
|======================================================== | 80%
|
|======================================================================| 100%
|
| | 0%
|
|============== | 20%
|
|============================ | 40%
|
|========================================== | 60%
|
|======================================================== | 80%
|
|======================================================================| 100%
-GSEA2 analysis complete
-Performing synergy analysis...
--For 10 regulon pairs...
|
| | 0%
|
|======= | 10%
|
|============== | 20%
|
|===================== | 30%
|
|============================ | 40%
|
|=================================== | 50%
|
|========================================== | 60%
|
|================================================= | 70%
|
|======================================================== | 80%
|
|=============================================================== | 90%
|
|======================================================================| 100%
-Synergy analysis complete
-Performing shadow analysis...
--For 4 regulon pairs...
|
| | 0%
|
|================== | 25%
|
|=================================== | 50%
|
|==================================================== | 75%
|
|======================================================================| 100%
|
| | 0%
|
|================== | 25%
|
|=================================== | 50%
|
|==================================================== | 75%
|
|======================================================================| 100%
-Shadow analysis complete
-Preprocessing for input data...
--Mapping 'gexp' to 'rowAnnotation'...
--Removing duplicated genes (keep max coefficient of variation!)...
--Checking TFs in the dataset...
-Preprocessing complete!
-Performing permutation analysis...
--For 2 regulons...
|
| | 0%
|
|======= | 10%
|
|============== | 20%
|
|===================== | 30%
|
|============================ | 40%
|
|=================================== | 50%
|
|========================================== | 60%
|
|================================================= | 70%
|
|======================================================== | 80%
|
|=============================================================== | 90%
|
|======================================================================| 100%
-Permutation analysis complete!
-Performing bootstrap analysis...
--For 2 regulons...
|
| | 0%
|
|======= | 10%
|
|============== | 20%
|
|===================== | 30%
|
|============================ | 40%
|
|=================================== | 50%
|
|========================================== | 60%
|
|================================================= | 70%
|
|======================================================== | 80%
|
|=============================================================== | 90%
|
|======================================================================| 100%
-Bootstrap analysis complete!
-Applying dpi filter...
-DPI filter complete!
-Preprocessing for input data...
--Checking modulators in the dataset...
--Extracting TF-targets...
--Applying modulator independence constraint...
--Applying modulator range constraint...
--Selecting subsamples...
-Estimating mutual information threshold...
|
| | 0%
|
|======= | 10%
|
|============== | 20%
|
|===================== | 30%
|
|============================ | 40%
|
|=================================== | 50%
|
|========================================== | 60%
|
|================================================= | 70%
|
|======================================================== | 80%
|
|=============================================================== | 90%
|
|======================================================================| 100%
-Performing conditional mutual information analysis...
--For 2 tfs and 2 candidate modulator(s)
|
| | 0%
|
|=================================== | 50%
|
|======================================================================| 100%
-Conditional analysis complete!
RUNIT TEST PROTOCOL -- Thu Apr 12 09:08:54 2018
***********************************************
Number of test functions: 2
Number of errors: 0
Number of failures: 0
1 Test Suite :
RTN RUnit Tests - 2 test functions, 0 errors, 0 failures
Number of test functions: 2
Number of errors: 0
Number of failures: 0
>
> proc.time()
user system elapsed
16.881 1.129 18.335
RTN.Rcheck/RTN-Ex.timings
| name | user | system | elapsed | |
| AVS-class | 0.001 | 0.000 | 0.001 | |
| RTN.data | 1.000 | 0.031 | 1.049 | |
| TNA-class | 0.001 | 0.000 | 0.001 | |
| TNI-class | 0.001 | 0.000 | 0.000 | |
| TNI.data | 0.489 | 0.014 | 0.513 | |
| avs.evse | 0.003 | 0.000 | 0.003 | |
| avs.get | 0.001 | 0.001 | 0.001 | |
| avs.plot1 | 0.001 | 0.000 | 0.000 | |
| avs.plot2 | 0 | 0 | 0 | |
| avs.preprocess.LD1000gRel20130502 | 0.000 | 0.000 | 0.001 | |
| avs.preprocess.LDHapMapRel27 | 0.001 | 0.000 | 0.000 | |
| avs.vse | 0.003 | 0.001 | 0.004 | |
| tna.get | 0.972 | 0.016 | 1.005 | |
| tna.graph | 0.991 | 0.019 | 1.025 | |
| tna.gsea1 | 1.000 | 0.019 | 1.039 | |
| tna.gsea2 | 0.996 | 0.016 | 1.037 | |
| tna.mra | 0.989 | 0.019 | 1.031 | |
| tna.overlap | 1.000 | 0.017 | 1.036 | |
| tna.plot.gsea1 | 0.990 | 0.018 | 1.036 | |
| tna.plot.gsea2 | 0.996 | 0.015 | 1.031 | |
| tna.shadow | 1.017 | 0.018 | 1.045 | |
| tna.synergy | 1.009 | 0.016 | 1.041 | |
| tni.bootstrap | 1.015 | 0.018 | 1.059 | |
| tni.conditional | 0.995 | 0.018 | 1.044 | |
| tni.constructor | 2.163 | 0.087 | 2.295 | |
| tni.dpi.filter | 0.833 | 0.018 | 0.871 | |
| tni.get | 0.831 | 0.022 | 0.865 | |
| tni.graph | 0.810 | 0.017 | 0.850 | |
| tni.gsea2 | 0.84 | 0.02 | 0.87 | |
| tni.permutation | 0.838 | 0.016 | 0.864 | |
| tni.preprocess | 0.001 | 0.000 | 0.001 | |
| tni2tna.preprocess | 0.875 | 0.016 | 0.918 | |
| upgradeTNA | 0.001 | 0.000 | 0.001 | |
| upgradeTNI | 0.001 | 0.001 | 0.001 | |