| Back to Multiple platform build/check report for BioC 3.6 |
|
This page was generated on 2018-04-12 13:31:01 -0400 (Thu, 12 Apr 2018).
| Package 1201/1472 | Hostname | OS / Arch | INSTALL | BUILD | CHECK | BUILD BIN | ||||||
| ROC 1.54.0 Vince Carey
| malbec1 | Linux (Ubuntu 16.04.1 LTS) / x86_64 | OK | OK | OK | |||||||
| tokay1 | Windows Server 2012 R2 Standard / x64 | OK | OK | OK | OK | |||||||
| veracruz1 | OS X 10.11.6 El Capitan / x86_64 | OK | OK | [ OK ] | OK |
| Package: ROC |
| Version: 1.54.0 |
| Command: /Library/Frameworks/R.framework/Versions/Current/Resources/bin/R CMD check --no-vignettes --timings ROC_1.54.0.tar.gz |
| StartedAt: 2018-04-12 08:57:41 -0400 (Thu, 12 Apr 2018) |
| EndedAt: 2018-04-12 08:58:08 -0400 (Thu, 12 Apr 2018) |
| EllapsedTime: 26.6 seconds |
| RetCode: 0 |
| Status: OK |
| CheckDir: ROC.Rcheck |
| Warnings: 0 |
##############################################################################
##############################################################################
###
### Running command:
###
### /Library/Frameworks/R.framework/Versions/Current/Resources/bin/R CMD check --no-vignettes --timings ROC_1.54.0.tar.gz
###
##############################################################################
##############################################################################
* using log directory ‘/Users/biocbuild/bbs-3.6-bioc/meat/ROC.Rcheck’
* using R version 3.4.4 (2018-03-15)
* using platform: x86_64-apple-darwin15.6.0 (64-bit)
* using session charset: UTF-8
* using option ‘--no-vignettes’
* checking for file ‘ROC/DESCRIPTION’ ... OK
* this is package ‘ROC’ version ‘1.54.0’
* checking package namespace information ... OK
* checking package dependencies ... OK
* checking if this is a source package ... OK
* checking if there is a namespace ... OK
* checking for hidden files and directories ... OK
* checking for portable file names ... OK
* checking for sufficient/correct file permissions ... OK
* checking whether package ‘ROC’ can be installed ... OK
* checking installed package size ... OK
* checking package directory ... OK
* checking ‘build’ directory ... OK
* checking DESCRIPTION meta-information ... NOTE
Malformed Description field: should contain one or more complete sentences.
* checking top-level files ... OK
* checking for left-over files ... OK
* checking index information ... OK
* checking package subdirectories ... OK
* checking R files for non-ASCII characters ... OK
* checking R files for syntax errors ... OK
* checking whether the package can be loaded ... OK
* checking whether the package can be loaded with stated dependencies ... OK
* checking whether the package can be unloaded cleanly ... OK
* checking whether the namespace can be loaded with stated dependencies ... OK
* checking whether the namespace can be unloaded cleanly ... OK
* checking dependencies in R code ... OK
* checking S3 generic/method consistency ... OK
* checking replacement functions ... OK
* checking foreign function calls ... OK
* checking R code for possible problems ... NOTE
AUCi: no visible global function definition for ‘integrate’
ROC: no visible global function definition for ‘approx’
pAUCi: no visible global function definition for ‘integrate’
trapezint: no visible global function definition for ‘approx’
plot,rocc: no visible global function definition for ‘text’
Undefined global functions or variables:
approx integrate text
Consider adding
importFrom("graphics", "text")
importFrom("stats", "approx", "integrate")
to your NAMESPACE file.
* checking Rd files ... NOTE
prepare_Rd: AUC.Rd:38-39: Dropping empty section \value
prepare_Rd: AUC.Rd:48: Dropping empty section \note
prepare_Rd: rocdemo.sca.Rd:40: Dropping empty section \note
prepare_Rd: rocdemo.sca.Rd:38: Dropping empty section \references
prepare_Rd: trapezint.Rd:23: Dropping empty section \note
prepare_Rd: trapezint.Rd:22: Dropping empty section \author
prepare_Rd: trapezint.Rd:21: Dropping empty section \references
prepare_Rd: trapezint.Rd:24: Dropping empty section \seealso
* checking Rd metadata ... OK
* checking Rd cross-references ... OK
* checking for missing documentation entries ... OK
* checking for code/documentation mismatches ... OK
* checking Rd \usage sections ... OK
* checking Rd contents ... OK
* checking for unstated dependencies in examples ... OK
* checking line endings in C/C++/Fortran sources/headers ... OK
* checking compiled code ... OK
* checking sizes of PDF files under ‘inst/doc’ ... OK
* checking installed files from ‘inst/doc’ ... OK
* checking files in ‘vignettes’ ... OK
* checking examples ... OK
* checking for unstated dependencies in vignettes ... OK
* checking package vignettes in ‘inst/doc’ ... OK
* checking running R code from vignettes ... SKIPPED
* checking re-building of vignette outputs ... SKIPPED
* checking PDF version of manual ... OK
* DONE
Status: 3 NOTEs
See
‘/Users/biocbuild/bbs-3.6-bioc/meat/ROC.Rcheck/00check.log’
for details.
ROC.Rcheck/00install.out
* installing *source* package ‘ROC’ ... ** libs clang++ -I/Library/Frameworks/R.framework/Resources/include -DNDEBUG -I/usr/local/include -fPIC -Wall -g -O2 -c ROC.cc -o ROC.o clang++ -dynamiclib -Wl,-headerpad_max_install_names -undefined dynamic_lookup -single_module -multiply_defined suppress -L/Library/Frameworks/R.framework/Resources/lib -L/usr/local/lib -o ROC.so ROC.o -F/Library/Frameworks/R.framework/.. -framework R -Wl,-framework -Wl,CoreFoundation installing to /Users/biocbuild/bbs-3.6-bioc/meat/ROC.Rcheck/ROC/libs ** R ** inst ** preparing package for lazy loading ** help *** installing help indices ** building package indices ** installing vignettes ** testing if installed package can be loaded * DONE (ROC)
ROC.Rcheck/ROC-Ex.timings
| name | user | system | elapsed | |
| AUC | 0.036 | 0.001 | 0.037 | |
| plot-methods | 0.033 | 0.000 | 0.034 | |
| rocc-class | 0.022 | 0.000 | 0.022 | |
| rocdemo.sca | 1.268 | 0.017 | 1.319 | |
| trapezint | 0.001 | 0.000 | 0.001 | |