| Back to Multiple platform build/check report for BioC 3.6 |
|
This page was generated on 2018-04-12 13:42:41 -0400 (Thu, 12 Apr 2018).
| Package 1106/1472 | Hostname | OS / Arch | INSTALL | BUILD | CHECK | BUILD BIN | ||||||
| QUBIC 1.6.4 Yu Zhang
| malbec1 | Linux (Ubuntu 16.04.1 LTS) / x86_64 | OK | OK | OK | |||||||
| tokay1 | Windows Server 2012 R2 Standard / x64 | OK | OK | OK | OK | |||||||
| veracruz1 | OS X 10.11.6 El Capitan / x86_64 | OK | OK | [ OK ] | OK |
| Package: QUBIC |
| Version: 1.6.4 |
| Command: /Library/Frameworks/R.framework/Versions/Current/Resources/bin/R CMD check --no-vignettes --timings QUBIC_1.6.4.tar.gz |
| StartedAt: 2018-04-12 08:10:50 -0400 (Thu, 12 Apr 2018) |
| EndedAt: 2018-04-12 08:12:09 -0400 (Thu, 12 Apr 2018) |
| EllapsedTime: 79.8 seconds |
| RetCode: 0 |
| Status: OK |
| CheckDir: QUBIC.Rcheck |
| Warnings: 0 |
##############################################################################
##############################################################################
###
### Running command:
###
### /Library/Frameworks/R.framework/Versions/Current/Resources/bin/R CMD check --no-vignettes --timings QUBIC_1.6.4.tar.gz
###
##############################################################################
##############################################################################
* using log directory ‘/Users/biocbuild/bbs-3.6-bioc/meat/QUBIC.Rcheck’
* using R version 3.4.4 (2018-03-15)
* using platform: x86_64-apple-darwin15.6.0 (64-bit)
* using session charset: UTF-8
* using option ‘--no-vignettes’
* checking for file ‘QUBIC/DESCRIPTION’ ... OK
* checking extension type ... Package
* this is package ‘QUBIC’ version ‘1.6.4’
* checking package namespace information ... OK
* checking package dependencies ... OK
* checking if this is a source package ... OK
* checking if there is a namespace ... OK
* checking for hidden files and directories ... OK
* checking for portable file names ... OK
* checking for sufficient/correct file permissions ... OK
* checking whether package ‘QUBIC’ can be installed ... OK
* checking installed package size ... OK
* checking package directory ... OK
* checking ‘build’ directory ... OK
* checking DESCRIPTION meta-information ... OK
* checking top-level files ... OK
* checking for left-over files ... OK
* checking index information ... OK
* checking package subdirectories ... OK
* checking R files for non-ASCII characters ... OK
* checking R files for syntax errors ... OK
* checking whether the package can be loaded ... OK
* checking whether the package can be loaded with stated dependencies ... OK
* checking whether the package can be unloaded cleanly ... OK
* checking whether the namespace can be loaded with stated dependencies ... OK
* checking whether the namespace can be unloaded cleanly ... OK
* checking dependencies in R code ... OK
* checking S3 generic/method consistency ... OK
* checking replacement functions ... OK
* checking foreign function calls ... OK
* checking R code for possible problems ... OK
* checking Rd files ... OK
* checking Rd metadata ... OK
* checking Rd cross-references ... OK
* checking for missing documentation entries ... OK
* checking for code/documentation mismatches ... OK
* checking Rd \usage sections ... OK
* checking Rd contents ... OK
* checking for unstated dependencies in examples ... OK
* checking line endings in C/C++/Fortran sources/headers ... OK
* checking line endings in Makefiles ... OK
* checking compilation flags in Makevars ... OK
* checking for GNU extensions in Makefiles ... OK
* checking for portable use of $(BLAS_LIBS) and $(LAPACK_LIBS) ... OK
* checking compiled code ... NOTE
File ‘QUBIC/libs/QUBIC.so’:
Found ‘___stderrp’, possibly from ‘stderr’ (C)
Objects: ‘edge_list.o’, ‘qubic.o’
Found ‘___stdoutp’, possibly from ‘stdout’ (C)
Objects: ‘charset.o’, ‘cluster.o’, ‘edge_list.o’, ‘qubic.o’
Compiled code should not call entry points which might terminate R nor
write to stdout/stderr instead of to the console, nor use Fortran I/O
nor system RNGs.
See ‘Writing portable packages’ in the ‘Writing R Extensions’ manual.
* checking sizes of PDF files under ‘inst/doc’ ... OK
* checking installed files from ‘inst/doc’ ... OK
* checking files in ‘vignettes’ ... OK
* checking examples ... OK
* checking for unstated dependencies in vignettes ... OK
* checking package vignettes in ‘inst/doc’ ... OK
* checking running R code from vignettes ... SKIPPED
* checking re-building of vignette outputs ... SKIPPED
* checking PDF version of manual ... OK
* DONE
Status: 1 NOTE
See
‘/Users/biocbuild/bbs-3.6-bioc/meat/QUBIC.Rcheck/00check.log’
for details.
QUBIC.Rcheck/00install.out
* installing *source* package ‘QUBIC’ ... ** libs clang++ -std=gnu++11 -I/Library/Frameworks/R.framework/Resources/include -DNDEBUG -I"/Library/Frameworks/R.framework/Versions/3.4/Resources/library/Rcpp/include" -I"/Library/Frameworks/R.framework/Versions/3.4/Resources/library/RcppArmadillo/include" -I/usr/local/include -fopenmp -fPIC -Wall -g -O2 -c RcppExports.cpp -o RcppExports.o clang++ -std=gnu++11 -I/Library/Frameworks/R.framework/Resources/include -DNDEBUG -I"/Library/Frameworks/R.framework/Versions/3.4/Resources/library/Rcpp/include" -I"/Library/Frameworks/R.framework/Versions/3.4/Resources/library/RcppArmadillo/include" -I/usr/local/include -fopenmp -fPIC -Wall -g -O2 -c charset.cc -o charset.o clang++ -std=gnu++11 -I/Library/Frameworks/R.framework/Resources/include -DNDEBUG -I"/Library/Frameworks/R.framework/Versions/3.4/Resources/library/Rcpp/include" -I"/Library/Frameworks/R.framework/Versions/3.4/Resources/library/RcppArmadillo/include" -I/usr/local/include -fopenmp -fPIC -Wall -g -O2 -c cluster.cc -o cluster.o clang++ -std=gnu++11 -I/Library/Frameworks/R.framework/Resources/include -DNDEBUG -I"/Library/Frameworks/R.framework/Versions/3.4/Resources/library/Rcpp/include" -I"/Library/Frameworks/R.framework/Versions/3.4/Resources/library/RcppArmadillo/include" -I/usr/local/include -fopenmp -fPIC -Wall -g -O2 -c discretize.cc -o discretize.o clang++ -std=gnu++11 -I/Library/Frameworks/R.framework/Resources/include -DNDEBUG -I"/Library/Frameworks/R.framework/Versions/3.4/Resources/library/Rcpp/include" -I"/Library/Frameworks/R.framework/Versions/3.4/Resources/library/RcppArmadillo/include" -I/usr/local/include -fopenmp -fPIC -Wall -g -O2 -c edge_list.cc -o edge_list.o clang -I/Library/Frameworks/R.framework/Resources/include -DNDEBUG -I"/Library/Frameworks/R.framework/Versions/3.4/Resources/library/Rcpp/include" -I"/Library/Frameworks/R.framework/Versions/3.4/Resources/library/RcppArmadillo/include" -I/usr/local/include -fPIC -Wall -g -O2 -c fib.c -o fib.o clang++ -std=gnu++11 -I/Library/Frameworks/R.framework/Resources/include -DNDEBUG -I"/Library/Frameworks/R.framework/Versions/3.4/Resources/library/Rcpp/include" -I"/Library/Frameworks/R.framework/Versions/3.4/Resources/library/RcppArmadillo/include" -I/usr/local/include -fopenmp -fPIC -Wall -g -O2 -c fopen_matrix.cc -o fopen_matrix.o clang++ -std=gnu++11 -I/Library/Frameworks/R.framework/Resources/include -DNDEBUG -I"/Library/Frameworks/R.framework/Versions/3.4/Resources/library/Rcpp/include" -I"/Library/Frameworks/R.framework/Versions/3.4/Resources/library/RcppArmadillo/include" -I/usr/local/include -fopenmp -fPIC -Wall -g -O2 -c qubic.cc -o qubic.o clang++ -std=gnu++11 -I/Library/Frameworks/R.framework/Resources/include -DNDEBUG -I"/Library/Frameworks/R.framework/Versions/3.4/Resources/library/Rcpp/include" -I"/Library/Frameworks/R.framework/Versions/3.4/Resources/library/RcppArmadillo/include" -I/usr/local/include -fopenmp -fPIC -Wall -g -O2 -c rcpp_qubic.cpp -o rcpp_qubic.o clang++ -std=gnu++11 -I/Library/Frameworks/R.framework/Resources/include -DNDEBUG -I"/Library/Frameworks/R.framework/Versions/3.4/Resources/library/Rcpp/include" -I"/Library/Frameworks/R.framework/Versions/3.4/Resources/library/RcppArmadillo/include" -I/usr/local/include -fopenmp -fPIC -Wall -g -O2 -c struct.cc -o struct.o clang++ -std=gnu++11 -dynamiclib -Wl,-headerpad_max_install_names -undefined dynamic_lookup -single_module -multiply_defined suppress -L/Library/Frameworks/R.framework/Resources/lib -L/usr/local/lib -o QUBIC.so RcppExports.o charset.o cluster.o discretize.o edge_list.o fib.o fopen_matrix.o qubic.o rcpp_qubic.o struct.o -fopenmp -F/Library/Frameworks/R.framework/.. -framework R -Wl,-framework -Wl,CoreFoundation installing to /Users/biocbuild/bbs-3.6-bioc/meat/QUBIC.Rcheck/QUBIC/libs ** R ** inst ** preparing package for lazy loading ** help *** installing help indices ** building package indices ** installing vignettes ** testing if installed package can be loaded * DONE (QUBIC)
QUBIC.Rcheck/QUBIC-Ex.timings
| name | user | system | elapsed | |
| QUBIC | 0.333 | 0.049 | 0.196 | |
| qudiscretize | 0.009 | 0.003 | 0.006 | |
| quheatmap | 1.108 | 0.063 | 1.084 | |
| qunet2xml | 0.146 | 0.050 | 0.076 | |
| qunetwork | 0.151 | 0.043 | 0.065 | |
| showinfo | 0.052 | 0.012 | 0.028 | |