| Back to Multiple platform build/check report for BioC 3.6 |
|
This page was generated on 2018-04-12 13:09:11 -0400 (Thu, 12 Apr 2018).
| Package 908/1472 | Hostname | OS / Arch | INSTALL | BUILD | CHECK | BUILD BIN | ||||||
| Mulcom 1.28.0 Claudio Isella
| malbec1 | Linux (Ubuntu 16.04.1 LTS) / x86_64 | OK | OK | [ OK ] | |||||||
| tokay1 | Windows Server 2012 R2 Standard / x64 | OK | OK | OK | OK | |||||||
| veracruz1 | OS X 10.11.6 El Capitan / x86_64 | OK | OK | OK | OK |
| Package: Mulcom |
| Version: 1.28.0 |
| Command: /home/biocbuild/bbs-3.6-bioc/R/bin/R CMD check --no-vignettes --timings Mulcom_1.28.0.tar.gz |
| StartedAt: 2018-04-12 01:20:19 -0400 (Thu, 12 Apr 2018) |
| EndedAt: 2018-04-12 01:21:15 -0400 (Thu, 12 Apr 2018) |
| EllapsedTime: 56.2 seconds |
| RetCode: 0 |
| Status: OK |
| CheckDir: Mulcom.Rcheck |
| Warnings: 0 |
##############################################################################
##############################################################################
###
### Running command:
###
### /home/biocbuild/bbs-3.6-bioc/R/bin/R CMD check --no-vignettes --timings Mulcom_1.28.0.tar.gz
###
##############################################################################
##############################################################################
* using log directory ‘/home/biocbuild/bbs-3.6-bioc/meat/Mulcom.Rcheck’
* using R version 3.4.4 (2018-03-15)
* using platform: x86_64-pc-linux-gnu (64-bit)
* using session charset: UTF-8
* using option ‘--no-vignettes’
* checking for file ‘Mulcom/DESCRIPTION’ ... OK
* checking extension type ... Package
* this is package ‘Mulcom’ version ‘1.28.0’
* checking package namespace information ... OK
* checking package dependencies ... OK
* checking if this is a source package ... OK
* checking if there is a namespace ... OK
* checking for hidden files and directories ... OK
* checking for portable file names ... OK
* checking for sufficient/correct file permissions ... OK
* checking whether package ‘Mulcom’ can be installed ... OK
* checking installed package size ... OK
* checking package directory ... OK
* checking ‘build’ directory ... OK
* checking DESCRIPTION meta-information ... NOTE
Malformed Description field: should contain one or more complete sentences.
* checking top-level files ... OK
* checking for left-over files ... OK
* checking index information ... OK
* checking package subdirectories ... OK
* checking R files for non-ASCII characters ... OK
* checking R files for syntax errors ... OK
* checking whether the package can be loaded ... OK
* checking whether the package can be loaded with stated dependencies ... OK
* checking whether the package can be unloaded cleanly ... OK
* checking whether the namespace can be loaded with stated dependencies ... OK
* checking whether the namespace can be unloaded cleanly ... OK
* checking dependencies in R code ... NOTE
'library' or 'require' call to ‘fields’ which was already attached by Depends.
Please remove these calls from your code.
Package in Depends field not imported from: ‘fields’
These packages need to be imported from (in the NAMESPACE file)
for when this namespace is loaded but not attached.
* checking S3 generic/method consistency ... OK
* checking replacement functions ... OK
* checking foreign function calls ... OK
* checking R code for possible problems ... NOTE
NB: .First.lib is obsolete and will not be used in R >= 3.0.0
File ‘Mulcom/R/mulib.R’:
.First.lib calls:
cat("Mulcom loaded\n")
Package startup functions should use ‘packageStartupMessage’ to
generate messages.
See section ‘Good practice’ in '?.onAttach'.
mulOptPlot: no visible global function definition for ‘image’
mulOptPlot: no visible global function definition for ‘image.plot’
mulParOpt: no visible global function definition for ‘image.plot’
Undefined global functions or variables:
image image.plot
Consider adding
importFrom("graphics", "image")
to your NAMESPACE file.
* checking Rd files ... OK
* checking Rd metadata ... OK
* checking Rd cross-references ... OK
* checking for missing documentation entries ... OK
* checking for code/documentation mismatches ... OK
* checking Rd \usage sections ... OK
* checking Rd contents ... OK
* checking for unstated dependencies in examples ... OK
* checking contents of ‘data’ directory ... OK
* checking data for non-ASCII characters ... OK
* checking data for ASCII and uncompressed saves ... OK
* checking line endings in C/C++/Fortran sources/headers ... OK
* checking compiled code ... OK
* checking installed files from ‘inst/doc’ ... OK
* checking files in ‘vignettes’ ... OK
* checking examples ... OK
Examples with CPU or elapsed time > 5s
user system elapsed
mulInt 7.332 0.044 7.383
* checking for unstated dependencies in vignettes ... OK
* checking package vignettes in ‘inst/doc’ ... OK
* checking running R code from vignettes ... SKIPPED
* checking re-building of vignette outputs ... SKIPPED
* checking PDF version of manual ... OK
* DONE
Status: 3 NOTEs
See
‘/home/biocbuild/bbs-3.6-bioc/meat/Mulcom.Rcheck/00check.log’
for details.
Mulcom.Rcheck/00install.out
* installing *source* package ‘Mulcom’ ...
** libs
g++ -I/home/biocbuild/bbs-3.6-bioc/R/include -DNDEBUG -I/usr/local/include -fpic -g -O2 -Wall -c mulLibs.cc -o mulLibs.o
mulLibs.cc: In function ‘void Single_SimulationC(double*, double*, double*, double*, double*, double*, int*, int*, int*, int*, int*)’:
mulLibs.cc:708:33: warning: statement has no effect [-Wunused-value]
current_cluster ;
^
mulLibs.cc: In function ‘void Complete_SimulationC(double*, int*, double*, double*, int*, int*, int*, int*, int*)’:
mulLibs.cc:1022:38: warning: comparison between signed and unsigned integer expressions [-Wsign-compare]
for ( int i = 0 ; i < sss2.size() ; i++ ) {
^
mulLibs.cc:1023:46: warning: comparison between signed and unsigned integer expressions [-Wsign-compare]
for ( int j = 0 ; j < harmonic_means.size() ; j++ ) {
^
g++ -shared -L/home/biocbuild/bbs-3.6-bioc/R/lib -L/usr/local/lib -o Mulcom.so mulLibs.o -L/home/biocbuild/bbs-3.6-bioc/R/lib -lR
installing to /home/biocbuild/bbs-3.6-bioc/meat/Mulcom.Rcheck/Mulcom/libs
** R
** data
** inst
** preparing package for lazy loading
** help
*** installing help indices
** building package indices
** installing vignettes
** testing if installed package can be loaded
* DONE (Mulcom)
Mulcom.Rcheck/Mulcom-Ex.timings
| name | user | system | elapsed | |
| MULCOM-class | 0.428 | 0.008 | 0.435 | |
| MULCOM_P | 0.376 | 0.000 | 0.375 | |
| mulCAND | 0.924 | 0.012 | 0.933 | |
| mulCalc | 0.208 | 0.008 | 0.215 | |
| mulDELTA | 0.192 | 0.004 | 0.196 | |
| mulDiff | 0.752 | 0.028 | 0.780 | |
| mulFSG | 0.624 | 0.008 | 0.632 | |
| mulIndex | 0.184 | 0.004 | 0.187 | |
| mulInt | 7.332 | 0.044 | 7.383 | |
| mulOpt | 4.284 | 0.060 | 4.344 | |
| mulOptPars | 0.508 | 0.004 | 0.510 | |
| mulOptPlot | 1.536 | 0.016 | 1.555 | |
| mulParOpt | 1.260 | 0.008 | 1.270 | |
| mulPerm | 0.508 | 0.008 | 0.517 | |
| mulPermC | 0.184 | 0.000 | 0.184 | |
| mulScores | 0.216 | 0.004 | 0.221 | |