| Back to Multiple platform build/check report for BioC 3.6 |
|
This page was generated on 2018-04-12 13:18:10 -0400 (Thu, 12 Apr 2018).
| Package 847/1472 | Hostname | OS / Arch | INSTALL | BUILD | CHECK | BUILD BIN | ||||||
| Mfuzz 2.38.0 Matthias Futschik
| malbec1 | Linux (Ubuntu 16.04.1 LTS) / x86_64 | OK | OK | OK | |||||||
| tokay1 | Windows Server 2012 R2 Standard / x64 | [ OK ] | OK | OK | OK | |||||||
| veracruz1 | OS X 10.11.6 El Capitan / x86_64 | OK | OK | OK | OK |
| Package: Mfuzz |
| Version: 2.38.0 |
| Command: rm -rf Mfuzz.buildbin-libdir && mkdir Mfuzz.buildbin-libdir && C:\cygwin\bin\curl.exe -O https://malbec1.bioconductor.org/BBS/3.6/bioc/src/contrib/Mfuzz_2.38.0.tar.gz && C:\Users\biocbuild\bbs-3.6-bioc\R\bin\R.exe CMD INSTALL --build --library=Mfuzz.buildbin-libdir --merge-multiarch Mfuzz_2.38.0.tar.gz && C:\Users\biocbuild\bbs-3.6-bioc\R\bin\R.exe CMD INSTALL Mfuzz_2.38.0.zip && rm Mfuzz_2.38.0.tar.gz Mfuzz_2.38.0.zip |
| StartedAt: 2018-04-11 18:20:55 -0400 (Wed, 11 Apr 2018) |
| EndedAt: 2018-04-11 18:22:31 -0400 (Wed, 11 Apr 2018) |
| EllapsedTime: 96.3 seconds |
| RetCode: 0 |
| Status: OK |
##############################################################################
##############################################################################
###
### Running command:
###
### rm -rf Mfuzz.buildbin-libdir && mkdir Mfuzz.buildbin-libdir && C:\cygwin\bin\curl.exe -O https://malbec1.bioconductor.org/BBS/3.6/bioc/src/contrib/Mfuzz_2.38.0.tar.gz && C:\Users\biocbuild\bbs-3.6-bioc\R\bin\R.exe CMD INSTALL --build --library=Mfuzz.buildbin-libdir --merge-multiarch Mfuzz_2.38.0.tar.gz && C:\Users\biocbuild\bbs-3.6-bioc\R\bin\R.exe CMD INSTALL Mfuzz_2.38.0.zip && rm Mfuzz_2.38.0.tar.gz Mfuzz_2.38.0.zip
###
##############################################################################
##############################################################################
% Total % Received % Xferd Average Speed Time Time Time Current
Dload Upload Total Spent Left Speed
0 0 0 0 0 0 0 0 --:--:-- --:--:-- --:--:-- 0
100 417k 100 417k 0 0 15.5M 0 --:--:-- --:--:-- --:--:-- 17.7M
install for i386
* installing *source* package 'Mfuzz' ...
** R
** data
** inst
** preparing package for lazy loading
** help
*** installing help indices
converting help for package 'Mfuzz'
finding HTML links ... done
Dmin html
Mfuzzgui html
acore html
cselection html
fill.NA html
filter.NA html
filter.std html
kmeans2 html
kmeans2.plot html
membership html
mestimate html
mfuzz html
mfuzz.plot html
mfuzz.plot2 html
mfuzzColorBar html
overlap html
overlap.plot html
partcoef html
randomise html
standardise html
standardise2 html
table2eset html
top.count html
yeast html
yeast.table html
yeast.table2 html
** building package indices
** installing vignettes
** testing if installed package can be loaded
In R CMD INSTALL
install for x64
* installing *source* package 'Mfuzz' ...
** testing if installed package can be loaded
* MD5 sums
packaged installation of 'Mfuzz' as Mfuzz_2.38.0.zip
* DONE (Mfuzz)
In R CMD INSTALL
In R CMD INSTALL
* installing to library 'C:/Users/biocbuild/bbs-3.6-bioc/R/library'
package 'Mfuzz' successfully unpacked and MD5 sums checked
In R CMD INSTALL