| Back to Multiple platform build/check report for BioC 3.6 |
|
This page was generated on 2018-04-12 13:28:52 -0400 (Thu, 12 Apr 2018).
| Package 790/1472 | Hostname | OS / Arch | INSTALL | BUILD | CHECK | BUILD BIN | ||||||
| MAST 1.4.1 Andrew McDavid
| malbec1 | Linux (Ubuntu 16.04.1 LTS) / x86_64 | OK | OK | OK | |||||||
| tokay1 | Windows Server 2012 R2 Standard / x64 | [ OK ] | OK | OK | OK | |||||||
| veracruz1 | OS X 10.11.6 El Capitan / x86_64 | OK | OK | OK | OK |
| Package: MAST |
| Version: 1.4.1 |
| Command: rm -rf MAST.buildbin-libdir && mkdir MAST.buildbin-libdir && C:\cygwin\bin\curl.exe -O https://malbec1.bioconductor.org/BBS/3.6/bioc/src/contrib/MAST_1.4.1.tar.gz && C:\Users\biocbuild\bbs-3.6-bioc\R\bin\R.exe CMD INSTALL --build --library=MAST.buildbin-libdir --merge-multiarch MAST_1.4.1.tar.gz && C:\Users\biocbuild\bbs-3.6-bioc\R\bin\R.exe CMD INSTALL MAST_1.4.1.zip && rm MAST_1.4.1.tar.gz MAST_1.4.1.zip |
| StartedAt: 2018-04-11 18:43:51 -0400 (Wed, 11 Apr 2018) |
| EndedAt: 2018-04-11 18:46:02 -0400 (Wed, 11 Apr 2018) |
| EllapsedTime: 130.1 seconds |
| RetCode: 0 |
| Status: OK |
##############################################################################
##############################################################################
###
### Running command:
###
### rm -rf MAST.buildbin-libdir && mkdir MAST.buildbin-libdir && C:\cygwin\bin\curl.exe -O https://malbec1.bioconductor.org/BBS/3.6/bioc/src/contrib/MAST_1.4.1.tar.gz && C:\Users\biocbuild\bbs-3.6-bioc\R\bin\R.exe CMD INSTALL --build --library=MAST.buildbin-libdir --merge-multiarch MAST_1.4.1.tar.gz && C:\Users\biocbuild\bbs-3.6-bioc\R\bin\R.exe CMD INSTALL MAST_1.4.1.zip && rm MAST_1.4.1.tar.gz MAST_1.4.1.zip
###
##############################################################################
##############################################################################
% Total % Received % Xferd Average Speed Time Time Time Current
Dload Upload Total Spent Left Speed
0 0 0 0 0 0 0 0 --:--:-- --:--:-- --:--:-- 0
0 2307k 0 0 0 0 0 0 --:--:-- --:--:-- --:--:-- 0
77 2307k 77 1792k 0 0 1019k 0 0:00:02 0:00:01 0:00:01 1020k
100 2307k 100 2307k 0 0 1308k 0 0:00:01 0:00:01 --:--:-- 1310k
install for i386
* installing *source* package 'MAST' ...
** R
** data
*** moving datasets to lazyload DB
** inst
** preparing package for lazy loading
** help
*** installing help indices
converting help for package 'MAST'
finding HTML links ... done
BayesGLMlike-class html
Drop html
FromFlatDF html
FromMatrix html
GLMlike-class html
GSEATests-class html
Hypothesis html
LMERlike-class html
LMlike-class html
LRT html
MAST-package html
ZlmFit-class html
applyFlat html
bootVcov1 html
cData html
finding level-2 HTML links ... done
calcZ html
colData-set-SingleCellAssay-DataFrame-method
html
collectResiduals html
computeEtFromCt html
convertMASTClassicToSingleCellAssay html
defaultPrior html
dof html
ebayes html
expavg html
fData-methods html
featureData-methods html
filterLowExpressedGenes html
fit html
freq html
getConcordance html
getwellKey html
gseaAfterBoot html
hushWarning html
impute html
influence.bayesglm html
invlogit html
logFC html
logmean html
lrTest-ZlmFit-character-method html
lrTest html
maits-dataset html
mast_filter html
melt.SingleCellAssay html
model.matrix-set html
model.matrix html
myBiplot html
pbootVcov1 html
plot.thresholdSCRNACountMatrix html
plotSCAConcordance html
plotlrt html
predict.ZlmFit html
primerAverage html
print.summaryZlmFit html
read.fluidigm html
removeResponse html
rstandard.bayesglm html
se.coef html
show html
split-SingleCellAssay-character-method
html
stat_ell html
subset-SingleCellAssay-method html
summarize html
summary-GSEATests-method html
summary-ZlmFit-method html
summary.thresholdSCRNACountMatrix html
thresholdSCRNACountMatrix html
vbeta-dataset html
vbetaFA-dataset html
waldTest-ZlmFit-matrix-method html
waldTest html
xform html
zlm html
** building package indices
** installing vignettes
** testing if installed package can be loaded
In R CMD INSTALL
install for x64
* installing *source* package 'MAST' ...
** testing if installed package can be loaded
* MD5 sums
packaged installation of 'MAST' as MAST_1.4.1.zip
* DONE (MAST)
In R CMD INSTALL
In R CMD INSTALL
* installing to library 'C:/Users/biocbuild/bbs-3.6-bioc/R/library'
package 'MAST' successfully unpacked and MD5 sums checked
In R CMD INSTALL