| Back to Multiple platform build/check report for BioC 3.6 |
|
This page was generated on 2018-04-12 13:19:55 -0400 (Thu, 12 Apr 2018).
| Package 749/1472 | Hostname | OS / Arch | INSTALL | BUILD | CHECK | BUILD BIN | ||||||
| LiquidAssociation 1.32.0 Yen-Yi Ho
| malbec1 | Linux (Ubuntu 16.04.1 LTS) / x86_64 | OK | OK | OK | |||||||
| tokay1 | Windows Server 2012 R2 Standard / x64 | OK | OK | [ OK ] | OK | |||||||
| veracruz1 | OS X 10.11.6 El Capitan / x86_64 | OK | OK | OK | OK |
| Package: LiquidAssociation |
| Version: 1.32.0 |
| Command: rm -rf LiquidAssociation.buildbin-libdir LiquidAssociation.Rcheck && mkdir LiquidAssociation.buildbin-libdir LiquidAssociation.Rcheck && C:\Users\biocbuild\bbs-3.6-bioc\R\bin\R.exe CMD INSTALL --build --merge-multiarch --library=LiquidAssociation.buildbin-libdir LiquidAssociation_1.32.0.tar.gz >LiquidAssociation.Rcheck\00install.out 2>&1 && cp LiquidAssociation.Rcheck\00install.out LiquidAssociation-install.out && C:\Users\biocbuild\bbs-3.6-bioc\R\bin\R.exe CMD check --library=LiquidAssociation.buildbin-libdir --install="check:LiquidAssociation-install.out" --force-multiarch --no-vignettes --timings LiquidAssociation_1.32.0.tar.gz |
| StartedAt: 2018-04-12 01:01:41 -0400 (Thu, 12 Apr 2018) |
| EndedAt: 2018-04-12 01:03:43 -0400 (Thu, 12 Apr 2018) |
| EllapsedTime: 122.2 seconds |
| RetCode: 0 |
| Status: OK |
| CheckDir: LiquidAssociation.Rcheck |
| Warnings: 0 |
##############################################################################
##############################################################################
###
### Running command:
###
### rm -rf LiquidAssociation.buildbin-libdir LiquidAssociation.Rcheck && mkdir LiquidAssociation.buildbin-libdir LiquidAssociation.Rcheck && C:\Users\biocbuild\bbs-3.6-bioc\R\bin\R.exe CMD INSTALL --build --merge-multiarch --library=LiquidAssociation.buildbin-libdir LiquidAssociation_1.32.0.tar.gz >LiquidAssociation.Rcheck\00install.out 2>&1 && cp LiquidAssociation.Rcheck\00install.out LiquidAssociation-install.out && C:\Users\biocbuild\bbs-3.6-bioc\R\bin\R.exe CMD check --library=LiquidAssociation.buildbin-libdir --install="check:LiquidAssociation-install.out" --force-multiarch --no-vignettes --timings LiquidAssociation_1.32.0.tar.gz
###
##############################################################################
##############################################################################
* using log directory 'C:/Users/biocbuild/bbs-3.6-bioc/meat/LiquidAssociation.Rcheck'
* using R version 3.4.4 (2018-03-15)
* using platform: x86_64-w64-mingw32 (64-bit)
* using session charset: ISO8859-1
* using option '--no-vignettes'
* checking for file 'LiquidAssociation/DESCRIPTION' ... OK
* checking extension type ... Package
* this is package 'LiquidAssociation' version '1.32.0'
* checking package namespace information ... OK
* checking package dependencies ... OK
* checking if this is a source package ... OK
* checking if there is a namespace ... OK
* checking for hidden files and directories ... OK
* checking for portable file names ... OK
* checking whether package 'LiquidAssociation' can be installed ... OK
* checking installed package size ... OK
* checking package directory ... OK
* checking 'build' directory ... OK
* checking DESCRIPTION meta-information ... NOTE
Package listed in more than one of Depends, Imports, Suggests, Enhances:
'methods'
A package should be listed in only one of these fields.
* checking top-level files ... OK
* checking for left-over files ... OK
* checking index information ... OK
* checking package subdirectories ... OK
* checking R files for non-ASCII characters ... OK
* checking R files for syntax errors ... OK
* loading checks for arch 'i386'
** checking whether the package can be loaded ... OK
** checking whether the package can be loaded with stated dependencies ... OK
** checking whether the package can be unloaded cleanly ... OK
** checking whether the namespace can be loaded with stated dependencies ... OK
** checking whether the namespace can be unloaded cleanly ... OK
* loading checks for arch 'x64'
** checking whether the package can be loaded ... OK
** checking whether the package can be loaded with stated dependencies ... OK
** checking whether the package can be unloaded cleanly ... OK
** checking whether the namespace can be loaded with stated dependencies ... OK
** checking whether the namespace can be unloaded cleanly ... OK
* checking dependencies in R code ... NOTE
Packages in Depends field not imported from:
'geepack' 'org.Sc.sgd.db' 'yeastCC'
These packages need to be imported from (in the NAMESPACE file)
for when this namespace is loaded but not attached.
* checking S3 generic/method consistency ... OK
* checking replacement functions ... OK
* checking foreign function calls ... OK
* checking R code for possible problems ... NOTE
CNM.full,matrix: no visible global function definition for 'geese'
CNM.full,matrix: no visible binding for global variable 'groupid'
CNM.full,matrix: no visible binding for global variable 'visit'
CNM.full,matrix: no visible global function definition for
'geese.control'
CNM.simple,matrix: no visible global function definition for 'geese'
CNM.simple,matrix: no visible binding for global variable 'groupid'
CNM.simple,matrix: no visible binding for global variable 'visit'
CNM.simple,matrix: no visible global function definition for
'geese.control'
Undefined global functions or variables:
geese geese.control groupid visit
* checking Rd files ... OK
* checking Rd metadata ... OK
* checking Rd cross-references ... OK
* checking for missing documentation entries ... OK
* checking for code/documentation mismatches ... OK
* checking Rd \usage sections ... OK
* checking Rd contents ... OK
* checking for unstated dependencies in examples ... OK
* checking installed files from 'inst/doc' ... OK
* checking files in 'vignettes' ... OK
* checking examples ...
** running examples for arch 'i386' ... OK
** running examples for arch 'x64' ... OK
Examples with CPU or elapsed time > 5s
user system elapsed
getsGLA-methods 7.05 0.02 7.06
* checking for unstated dependencies in vignettes ... OK
* checking package vignettes in 'inst/doc' ... OK
* checking running R code from vignettes ... SKIPPED
* checking re-building of vignette outputs ... SKIPPED
* checking PDF version of manual ... OK
* DONE
Status: 3 NOTEs
See
'C:/Users/biocbuild/bbs-3.6-bioc/meat/LiquidAssociation.Rcheck/00check.log'
for details.
LiquidAssociation.Rcheck/00install.out
install for i386
* installing *source* package 'LiquidAssociation' ...
** R
** inst
** preparing package for lazy loading
** help
*** installing help indices
converting help for package 'LiquidAssociation'
finding HTML links ... done
CNM-class html
CNM.full-methods html
CNM.simple-methods html
GLA-methods html
LA-methods html
LiquidAssociation-Internal html
LiquidAssociation-package html
getsGLA-methods html
getsLA-methods html
plotGLA-methods html
** building package indices
** installing vignettes
** testing if installed package can be loaded
In R CMD INSTALL
install for x64
* installing *source* package 'LiquidAssociation' ...
** testing if installed package can be loaded
* MD5 sums
packaged installation of 'LiquidAssociation' as LiquidAssociation_1.32.0.zip
* DONE (LiquidAssociation)
In R CMD INSTALL
In R CMD INSTALL
|
LiquidAssociation.Rcheck/examples_i386/LiquidAssociation-Ex.timings
|
LiquidAssociation.Rcheck/examples_x64/LiquidAssociation-Ex.timings
|