| Back to Multiple platform build/check report for BioC 3.6 |
|
This page was generated on 2018-04-12 13:14:02 -0400 (Thu, 12 Apr 2018).
| Package 757/1472 | Hostname | OS / Arch | INSTALL | BUILD | CHECK | BUILD BIN | ||||||
| LOLA 1.8.0 Nathan Sheffield
| malbec1 | Linux (Ubuntu 16.04.1 LTS) / x86_64 | OK | OK | [ OK ] | |||||||
| tokay1 | Windows Server 2012 R2 Standard / x64 | OK | OK | OK | OK | |||||||
| veracruz1 | OS X 10.11.6 El Capitan / x86_64 | OK | OK | OK | OK |
| Package: LOLA |
| Version: 1.8.0 |
| Command: /home/biocbuild/bbs-3.6-bioc/R/bin/R CMD check --no-vignettes --timings LOLA_1.8.0.tar.gz |
| StartedAt: 2018-04-12 00:40:11 -0400 (Thu, 12 Apr 2018) |
| EndedAt: 2018-04-12 00:41:48 -0400 (Thu, 12 Apr 2018) |
| EllapsedTime: 97.1 seconds |
| RetCode: 0 |
| Status: OK |
| CheckDir: LOLA.Rcheck |
| Warnings: 0 |
############################################################################## ############################################################################## ### ### Running command: ### ### /home/biocbuild/bbs-3.6-bioc/R/bin/R CMD check --no-vignettes --timings LOLA_1.8.0.tar.gz ### ############################################################################## ############################################################################## * using log directory ‘/home/biocbuild/bbs-3.6-bioc/meat/LOLA.Rcheck’ * using R version 3.4.4 (2018-03-15) * using platform: x86_64-pc-linux-gnu (64-bit) * using session charset: UTF-8 * using option ‘--no-vignettes’ * checking for file ‘LOLA/DESCRIPTION’ ... OK * this is package ‘LOLA’ version ‘1.8.0’ * checking package namespace information ... OK * checking package dependencies ... NOTE Package which this enhances but not available for checking: ‘simpleCache’ * checking if this is a source package ... OK * checking if there is a namespace ... OK * checking for hidden files and directories ... NOTE Found the following hidden files and directories: .travis.yml These were most likely included in error. See section ‘Package structure’ in the ‘Writing R Extensions’ manual. * checking for portable file names ... OK * checking for sufficient/correct file permissions ... OK * checking whether package ‘LOLA’ can be installed ... OK * checking installed package size ... OK * checking package directory ... OK * checking ‘build’ directory ... OK * checking DESCRIPTION meta-information ... NOTE Authors@R field gives more than one person with maintainer role: Nathan Sheffield [aut, cre] Christoph Bock [cre] Authors@R field gives no person with maintainer role, valid email address and non-empty name. * checking top-level files ... OK * checking for left-over files ... OK * checking index information ... OK * checking package subdirectories ... OK * checking R files for non-ASCII characters ... OK * checking R files for syntax errors ... OK * checking whether the package can be loaded ... OK * checking whether the package can be loaded with stated dependencies ... OK * checking whether the package can be unloaded cleanly ... OK * checking whether the namespace can be loaded with stated dependencies ... OK * checking whether the namespace can be unloaded cleanly ... OK * checking dependencies in R code ... OK * checking S3 generic/method consistency ... OK * checking replacement functions ... OK * checking foreign function calls ... OK * checking R code for possible problems ... OK * checking Rd files ... OK * checking Rd metadata ... OK * checking Rd cross-references ... OK * checking for missing documentation entries ... OK * checking for code/documentation mismatches ... OK * checking Rd \usage sections ... OK * checking Rd contents ... OK * checking for unstated dependencies in examples ... OK * checking contents of ‘data’ directory ... OK * checking data for non-ASCII characters ... OK * checking data for ASCII and uncompressed saves ... OK * checking installed files from ‘inst/doc’ ... OK * checking files in ‘vignettes’ ... OK * checking examples ... OK * checking for unstated dependencies in ‘tests’ ... OK * checking tests ... Running ‘testthat.R’ OK * checking for unstated dependencies in vignettes ... OK * checking package vignettes in ‘inst/doc’ ... OK * checking running R code from vignettes ... SKIPPED * checking re-building of vignette outputs ... SKIPPED * checking PDF version of manual ... OK * DONE Status: 3 NOTEs See ‘/home/biocbuild/bbs-3.6-bioc/meat/LOLA.Rcheck/00check.log’ for details.
LOLA.Rcheck/00install.out
* installing *source* package ‘LOLA’ ... ** R ** data ** inst ** preparing package for lazy loading ** help *** installing help indices ** building package indices ** installing vignettes ** testing if installed package can be loaded * DONE (LOLA)
LOLA.Rcheck/tests/testthat.Rout
R version 3.4.4 (2018-03-15) -- "Someone to Lean On"
Copyright (C) 2018 The R Foundation for Statistical Computing
Platform: x86_64-pc-linux-gnu (64-bit)
R is free software and comes with ABSOLUTELY NO WARRANTY.
You are welcome to redistribute it under certain conditions.
Type 'license()' or 'licence()' for distribution details.
R is a collaborative project with many contributors.
Type 'contributors()' for more information and
'citation()' on how to cite R or R packages in publications.
Type 'demo()' for some demos, 'help()' for on-line help, or
'help.start()' for an HTML browser interface to help.
Type 'q()' to quit R.
> library(testthat)
> library(LOLA)
>
> test_check("LOLA")
══ testthat results ═══════════════════════════════════════════════════════════
OK: 51 SKIPPED: 0 FAILED: 0
>
> proc.time()
user system elapsed
9.124 0.716 9.998
LOLA.Rcheck/LOLA-Ex.timings
| name | user | system | elapsed | |
| buildRestrictedUniverse | 0.428 | 0.000 | 0.428 | |
| checkUniverseAppropriateness | 0.348 | 0.000 | 0.348 | |
| extractEnrichmentOverlaps | 3.456 | 0.196 | 3.706 | |
| getRegionFile | 1.400 | 0.188 | 1.630 | |
| getRegionSet | 1.544 | 0.196 | 1.788 | |
| listRegionSets | 0.012 | 0.048 | 0.070 | |
| loadRegionDB | 0.240 | 0.052 | 0.309 | |
| mergeRegionDBs | 0.336 | 0.040 | 0.392 | |
| plotTopLOLAEnrichments | 1.872 | 0.212 | 2.136 | |
| readBed | 0.012 | 0.000 | 0.012 | |
| readCollection | 0.120 | 0.000 | 0.119 | |
| readCollectionAnnotation | 0.004 | 0.000 | 0.004 | |
| readCollectionFiles | 0.012 | 0.000 | 0.009 | |
| readRegionGRL | 0.244 | 0.060 | 0.325 | |
| readRegionSetAnnotation | 0.020 | 0.044 | 0.075 | |
| redefineUserSets | 1.960 | 0.284 | 2.288 | |
| runLOLA | 1.248 | 0.196 | 1.487 | |
| setSharedDataDir | 0 | 0 | 0 | |
| splitFileIntoCollection | 0.008 | 0.000 | 0.008 | |
| userSets | 0.000 | 0.000 | 0.001 | |
| writeCombinedEnrichment | 1.644 | 0.268 | 1.947 | |