| Back to Multiple platform build/check report for BioC 3.6 |
|
This page was generated on 2018-04-12 13:17:28 -0400 (Thu, 12 Apr 2018).
| Package 674/1472 | Hostname | OS / Arch | INSTALL | BUILD | CHECK | BUILD BIN | ||||||
| Icens 1.50.0 Bioconductor Package Maintainer
| malbec1 | Linux (Ubuntu 16.04.1 LTS) / x86_64 | OK | OK | OK | |||||||
| tokay1 | Windows Server 2012 R2 Standard / x64 | [ OK ] | OK | OK | OK | |||||||
| veracruz1 | OS X 10.11.6 El Capitan / x86_64 | OK | OK | OK | OK |
| Package: Icens |
| Version: 1.50.0 |
| Command: rm -rf Icens.buildbin-libdir && mkdir Icens.buildbin-libdir && C:\cygwin\bin\curl.exe -O https://malbec1.bioconductor.org/BBS/3.6/bioc/src/contrib/Icens_1.50.0.tar.gz && C:\Users\biocbuild\bbs-3.6-bioc\R\bin\R.exe CMD INSTALL --build --library=Icens.buildbin-libdir --merge-multiarch Icens_1.50.0.tar.gz && C:\Users\biocbuild\bbs-3.6-bioc\R\bin\R.exe CMD INSTALL Icens_1.50.0.zip && rm Icens_1.50.0.tar.gz Icens_1.50.0.zip |
| StartedAt: 2018-04-11 18:20:10 -0400 (Wed, 11 Apr 2018) |
| EndedAt: 2018-04-11 18:21:08 -0400 (Wed, 11 Apr 2018) |
| EllapsedTime: 57.5 seconds |
| RetCode: 0 |
| Status: OK |
##############################################################################
##############################################################################
###
### Running command:
###
### rm -rf Icens.buildbin-libdir && mkdir Icens.buildbin-libdir && C:\cygwin\bin\curl.exe -O https://malbec1.bioconductor.org/BBS/3.6/bioc/src/contrib/Icens_1.50.0.tar.gz && C:\Users\biocbuild\bbs-3.6-bioc\R\bin\R.exe CMD INSTALL --build --library=Icens.buildbin-libdir --merge-multiarch Icens_1.50.0.tar.gz && C:\Users\biocbuild\bbs-3.6-bioc\R\bin\R.exe CMD INSTALL Icens_1.50.0.zip && rm Icens_1.50.0.tar.gz Icens_1.50.0.zip
###
##############################################################################
##############################################################################
% Total % Received % Xferd Average Speed Time Time Time Current
Dload Upload Total Spent Left Speed
0 0 0 0 0 0 0 0 --:--:-- --:--:-- --:--:-- 0
100 21189 100 21189 0 0 888k 0 --:--:-- --:--:-- --:--:-- 1034k
install for i386
* installing *source* package 'Icens' ...
** R
** data
** inst
** preparing package for lazy loading
** help
*** installing help indices
converting help for package 'Icens'
finding HTML links ... done
BVcliques html
BVclmat html
BVsupport html
Bisect html
EM html
EMICM html
ISDM html
Icens-internal html
MLEintvl html
Maclist html
Macmat html
PGM html
PMGA html
Plotboxes html
VEM html
cmv html
cosmesis html
hiv html
icsurv html
plot.icsurv html
pruitt html
** building package indices
** testing if installed package can be loaded
In R CMD INSTALL
install for x64
* installing *source* package 'Icens' ...
** testing if installed package can be loaded
* MD5 sums
packaged installation of 'Icens' as Icens_1.50.0.zip
* DONE (Icens)
In R CMD INSTALL
In R CMD INSTALL
* installing to library 'C:/Users/biocbuild/bbs-3.6-bioc/R/library'
package 'Icens' successfully unpacked and MD5 sums checked
In R CMD INSTALL