| Back to Multiple platform build/check report for BioC 3.6 |
|
This page was generated on 2018-04-12 13:29:43 -0400 (Thu, 12 Apr 2018).
| Package 568/1472 | Hostname | OS / Arch | INSTALL | BUILD | CHECK | BUILD BIN | ||||||
| GenomicScores 1.2.2 Robert Castelo
| malbec1 | Linux (Ubuntu 16.04.1 LTS) / x86_64 | OK | OK | OK | |||||||
| tokay1 | Windows Server 2012 R2 Standard / x64 | [ OK ] | OK | WARNINGS | OK | |||||||
| veracruz1 | OS X 10.11.6 El Capitan / x86_64 | OK | OK | OK | OK |
| Package: GenomicScores |
| Version: 1.2.2 |
| Command: rm -rf GenomicScores.buildbin-libdir && mkdir GenomicScores.buildbin-libdir && C:\cygwin\bin\curl.exe -O https://malbec1.bioconductor.org/BBS/3.6/bioc/src/contrib/GenomicScores_1.2.2.tar.gz && C:\Users\biocbuild\bbs-3.6-bioc\R\bin\R.exe CMD INSTALL --build --library=GenomicScores.buildbin-libdir --merge-multiarch GenomicScores_1.2.2.tar.gz && C:\Users\biocbuild\bbs-3.6-bioc\R\bin\R.exe CMD INSTALL GenomicScores_1.2.2.zip && rm GenomicScores_1.2.2.tar.gz GenomicScores_1.2.2.zip |
| StartedAt: 2018-04-11 18:49:43 -0400 (Wed, 11 Apr 2018) |
| EndedAt: 2018-04-11 18:50:50 -0400 (Wed, 11 Apr 2018) |
| EllapsedTime: 67.1 seconds |
| RetCode: 0 |
| Status: OK |
##############################################################################
##############################################################################
###
### Running command:
###
### rm -rf GenomicScores.buildbin-libdir && mkdir GenomicScores.buildbin-libdir && C:\cygwin\bin\curl.exe -O https://malbec1.bioconductor.org/BBS/3.6/bioc/src/contrib/GenomicScores_1.2.2.tar.gz && C:\Users\biocbuild\bbs-3.6-bioc\R\bin\R.exe CMD INSTALL --build --library=GenomicScores.buildbin-libdir --merge-multiarch GenomicScores_1.2.2.tar.gz && C:\Users\biocbuild\bbs-3.6-bioc\R\bin\R.exe CMD INSTALL GenomicScores_1.2.2.zip && rm GenomicScores_1.2.2.tar.gz GenomicScores_1.2.2.zip
###
##############################################################################
##############################################################################
% Total % Received % Xferd Average Speed Time Time Time Current
Dload Upload Total Spent Left Speed
0 0 0 0 0 0 0 0 --:--:-- --:--:-- --:--:-- 0
100 1708k 100 1708k 0 0 18.0M 0 --:--:-- --:--:-- --:--:-- 18.9M
install for i386
* installing *source* package 'GenomicScores' ...
** R
** inst
** preparing package for lazy loading
** help
*** installing help indices
converting help for package 'GenomicScores'
finding HTML links ... done
GScores-class html
Rd warning: C:/Users/biocbuild/bbs-3.6-bioc/tmpdir/RtmpQtMlCN/R.INSTALLe6423f53c4f/GenomicScores/man/GScores-class.Rd:176: missing file link 'phastCons100way.UCSC.hg19'
MafDb-class html
scores html
Rd warning: C:/Users/biocbuild/bbs-3.6-bioc/tmpdir/RtmpQtMlCN/R.INSTALLe6423f53c4f/GenomicScores/man/scores.Rd:62: missing file link 'phastCons100way.UCSC.hg19'
** building package indices
** installing vignettes
** testing if installed package can be loaded
In R CMD INSTALL
install for x64
* installing *source* package 'GenomicScores' ...
** testing if installed package can be loaded
* MD5 sums
packaged installation of 'GenomicScores' as GenomicScores_1.2.2.zip
* DONE (GenomicScores)
In R CMD INSTALL
In R CMD INSTALL
* installing to library 'C:/Users/biocbuild/bbs-3.6-bioc/R/library'
package 'GenomicScores' successfully unpacked and MD5 sums checked
In R CMD INSTALL