| Back to Multiple platform build/check report for BioC 3.6 |
|
This page was generated on 2018-04-12 13:32:46 -0400 (Thu, 12 Apr 2018).
| Package 581/1472 | Hostname | OS / Arch | INSTALL | BUILD | CHECK | BUILD BIN | ||||||
| GGBase 3.40.0 VJ Carey
| malbec1 | Linux (Ubuntu 16.04.1 LTS) / x86_64 | OK | OK | OK | |||||||
| tokay1 | Windows Server 2012 R2 Standard / x64 | OK | OK | WARNINGS | OK | |||||||
| veracruz1 | OS X 10.11.6 El Capitan / x86_64 | OK | OK | [ OK ] | OK |
| Package: GGBase |
| Version: 3.40.0 |
| Command: /Library/Frameworks/R.framework/Versions/Current/Resources/bin/R CMD check --no-vignettes --timings GGBase_3.40.0.tar.gz |
| StartedAt: 2018-04-12 04:27:08 -0400 (Thu, 12 Apr 2018) |
| EndedAt: 2018-04-12 04:30:22 -0400 (Thu, 12 Apr 2018) |
| EllapsedTime: 193.6 seconds |
| RetCode: 0 |
| Status: OK |
| CheckDir: GGBase.Rcheck |
| Warnings: 0 |
##############################################################################
##############################################################################
###
### Running command:
###
### /Library/Frameworks/R.framework/Versions/Current/Resources/bin/R CMD check --no-vignettes --timings GGBase_3.40.0.tar.gz
###
##############################################################################
##############################################################################
* using log directory ‘/Users/biocbuild/bbs-3.6-bioc/meat/GGBase.Rcheck’
* using R version 3.4.4 (2018-03-15)
* using platform: x86_64-apple-darwin15.6.0 (64-bit)
* using session charset: UTF-8
* using option ‘--no-vignettes’
* checking for file ‘GGBase/DESCRIPTION’ ... OK
* this is package ‘GGBase’ version ‘3.40.0’
* checking package namespace information ... OK
* checking package dependencies ... OK
* checking if this is a source package ... OK
* checking if there is a namespace ... OK
* checking for hidden files and directories ... OK
* checking for portable file names ... OK
* checking for sufficient/correct file permissions ... OK
* checking whether package ‘GGBase’ can be installed ... OK
* checking installed package size ... OK
* checking package directory ... OK
* checking ‘build’ directory ... OK
* checking DESCRIPTION meta-information ... NOTE
Malformed Description field: should contain one or more complete sentences.
* checking top-level files ... OK
* checking for left-over files ... OK
* checking index information ... OK
* checking package subdirectories ... OK
* checking R files for non-ASCII characters ... OK
* checking R files for syntax errors ... OK
* checking whether the package can be loaded ... OK
* checking whether the package can be loaded with stated dependencies ... OK
* checking whether the package can be unloaded cleanly ... OK
* checking whether the namespace can be loaded with stated dependencies ... OK
* checking whether the namespace can be unloaded cleanly ... OK
* checking dependencies in R code ... OK
* checking S3 generic/method consistency ... OK
* checking replacement functions ... OK
* checking foreign function calls ... OK
* checking R code for possible problems ... NOTE
getSS: no visible global function definition for ‘installed.packages’
Undefined global functions or variables:
installed.packages
Consider adding
importFrom("utils", "installed.packages")
to your NAMESPACE file.
* checking Rd files ... OK
* checking Rd metadata ... OK
* checking Rd cross-references ... OK
* checking for missing documentation entries ... OK
* checking for code/documentation mismatches ... OK
* checking Rd \usage sections ... OK
* checking Rd contents ... OK
* checking for unstated dependencies in examples ... OK
* checking sizes of PDF files under ‘inst/doc’ ... OK
* checking installed files from ‘inst/doc’ ... OK
* checking files in ‘vignettes’ ... OK
* checking examples ... OK
* checking for unstated dependencies in ‘tests’ ... OK
* checking tests ...
Running ‘MAFfilter.R’
Running ‘make.R’
Running ‘plot_EvG.R’
OK
* checking for unstated dependencies in vignettes ... OK
* checking package vignettes in ‘inst/doc’ ... OK
* checking running R code from vignettes ... SKIPPED
* checking re-building of vignette outputs ... SKIPPED
* checking PDF version of manual ... OK
* DONE
Status: 2 NOTEs
See
‘/Users/biocbuild/bbs-3.6-bioc/meat/GGBase.Rcheck/00check.log’
for details.
GGBase.Rcheck/00install.out
* installing *source* package ‘GGBase’ ... ** R ** inst ** preparing package for lazy loading ** help *** installing help indices ** building package indices ** installing vignettes ** testing if installed package can be loaded * DONE (GGBase)
GGBase.Rcheck/tests/MAFfilter.Rout
R version 3.4.4 (2018-03-15) -- "Someone to Lean On"
Copyright (C) 2018 The R Foundation for Statistical Computing
Platform: x86_64-apple-darwin15.6.0 (64-bit)
R is free software and comes with ABSOLUTELY NO WARRANTY.
You are welcome to redistribute it under certain conditions.
Type 'license()' or 'licence()' for distribution details.
R is a collaborative project with many contributors.
Type 'contributors()' for more information and
'citation()' on how to cite R or R packages in publications.
Type 'demo()' for some demos, 'help()' for on-line help, or
'help.start()' for an HTML browser interface to help.
Type 'q()' to quit R.
> library(GGBase)
Loading required package: snpStats
Loading required package: survival
Loading required package: Matrix
> if ("GGtools" %in% installed.packages()[,1]) {
+ s20 = getSS("GGtools", "20")
+ nsnp = ncol(smList(s20)[[1]])
+ s20f = MAFfilter(s20, lower=.1)
+ nsnp2 = ncol(smList(s20f)[[1]])
+ ( nsnp == 119921 & nsnp2 == 46755 )
+ }
[1] FALSE
>
> proc.time()
user system elapsed
10.416 0.422 10.944
GGBase.Rcheck/tests/make.Rout
R version 3.4.4 (2018-03-15) -- "Someone to Lean On"
Copyright (C) 2018 The R Foundation for Statistical Computing
Platform: x86_64-apple-darwin15.6.0 (64-bit)
R is free software and comes with ABSOLUTELY NO WARRANTY.
You are welcome to redistribute it under certain conditions.
Type 'license()' or 'licence()' for distribution details.
R is a collaborative project with many contributors.
Type 'contributors()' for more information and
'citation()' on how to cite R or R packages in publications.
Type 'demo()' for some demos, 'help()' for on-line help, or
'help.start()' for an HTML browser interface to help.
Type 'q()' to quit R.
> library(GGBase)
Loading required package: snpStats
Loading required package: survival
Loading required package: Matrix
> if ("GGtools" %in% installed.packages()[,1]) {
+ s20 = getSS("GGtools", "20")
+ remk = make_smlSet( as(s20, "ExpressionSet"), smList(s20) )
+ validObject(s20) & validObject(remk)
+ }
[1] TRUE
>
> proc.time()
user system elapsed
11.153 0.409 11.743
GGBase.Rcheck/tests/plot_EvG.Rout
R version 3.4.4 (2018-03-15) -- "Someone to Lean On"
Copyright (C) 2018 The R Foundation for Statistical Computing
Platform: x86_64-apple-darwin15.6.0 (64-bit)
R is free software and comes with ABSOLUTELY NO WARRANTY.
You are welcome to redistribute it under certain conditions.
Type 'license()' or 'licence()' for distribution details.
R is a collaborative project with many contributors.
Type 'contributors()' for more information and
'citation()' on how to cite R or R packages in publications.
Type 'demo()' for some demos, 'help()' for on-line help, or
'help.start()' for an HTML browser interface to help.
Type 'q()' to quit R.
> library(GGBase)
Loading required package: snpStats
Loading required package: survival
Loading required package: Matrix
> if ("GGtools" %in% installed.packages()[,1]) {
+ s20 = getSS("GGtools", "20")
+ plot_EvG(genesym("CPNE1"), rsid("rs6060535"), s20)
+ }
Attaching package: 'BiocGenerics'
The following objects are masked from 'package:parallel':
clusterApply, clusterApplyLB, clusterCall, clusterEvalQ,
clusterExport, clusterMap, parApply, parCapply, parLapply,
parLapplyLB, parRapply, parSapply, parSapplyLB
The following objects are masked from 'package:Matrix':
colMeans, colSums, rowMeans, rowSums, which
The following objects are masked from 'package:stats':
IQR, mad, sd, var, xtabs
The following objects are masked from 'package:base':
Filter, Find, Map, Position, Reduce, anyDuplicated, append,
as.data.frame, cbind, colMeans, colSums, colnames, do.call,
duplicated, eval, evalq, get, grep, grepl, intersect, is.unsorted,
lapply, lengths, mapply, match, mget, order, paste, pmax, pmax.int,
pmin, pmin.int, rank, rbind, rowMeans, rowSums, rownames, sapply,
setdiff, sort, table, tapply, union, unique, unsplit, which,
which.max, which.min
Welcome to Bioconductor
Vignettes contain introductory material; view with
'browseVignettes()'. To cite Bioconductor, see
'citation("Biobase")', and for packages 'citation("pkgname")'.
Attaching package: 'S4Vectors'
The following object is masked from 'package:Matrix':
expand
The following object is masked from 'package:base':
expand.grid
>
> proc.time()
user system elapsed
11.684 0.484 12.379
GGBase.Rcheck/GGBase-Ex.timings
| name | user | system | elapsed | |
| MAFfilter | 3.429 | 0.178 | 3.659 | |
| clipPCs | 0.001 | 0.000 | 0.001 | |
| externalize | 0.001 | 0.000 | 0.000 | |
| make_smlSet | 3.119 | 0.096 | 3.266 | |
| plot_EvG | 3.344 | 0.125 | 3.528 | |
| rsid-class | 0.002 | 0.001 | 0.002 | |
| smlSet-class | 0.002 | 0.000 | 0.002 | |