| Back to Multiple platform build/check report for BioC 3.6 |
|
This page was generated on 2018-04-12 13:38:10 -0400 (Thu, 12 Apr 2018).
| Package 376/1472 | Hostname | OS / Arch | INSTALL | BUILD | CHECK | BUILD BIN | ||||||
| DMRcate 1.14.0 Tim Peters
| malbec1 | Linux (Ubuntu 16.04.1 LTS) / x86_64 | OK | OK | OK | |||||||
| tokay1 | Windows Server 2012 R2 Standard / x64 | OK | OK | OK | OK | |||||||
| veracruz1 | OS X 10.11.6 El Capitan / x86_64 | [ OK ] | OK | OK | OK |
| Package: DMRcate |
| Version: 1.14.0 |
| Command: /Library/Frameworks/R.framework/Versions/Current/Resources/bin/R CMD INSTALL DMRcate |
| StartedAt: 2018-04-11 18:24:45 -0400 (Wed, 11 Apr 2018) |
| EndedAt: 2018-04-11 18:25:12 -0400 (Wed, 11 Apr 2018) |
| EllapsedTime: 27.4 seconds |
| RetCode: 0 |
| Status: OK |
############################################################################## ############################################################################## ### ### Running command: ### ### /Library/Frameworks/R.framework/Versions/Current/Resources/bin/R CMD INSTALL DMRcate ### ############################################################################## ############################################################################## * installing to library ‘/Library/Frameworks/R.framework/Versions/3.4/Resources/library’ * installing *source* package ‘DMRcate’ ... ** R ** inst ** preparing package for lazy loading ** help *** installing help indices ** building package indices ** installing vignettes ** testing if installed package can be loaded * DONE (DMRcate)