| Back to Multiple platform build/check report for BioC 3.6 |
|
This page was generated on 2018-04-12 13:17:54 -0400 (Thu, 12 Apr 2018).
| Package 184/1472 | Hostname | OS / Arch | INSTALL | BUILD | CHECK | BUILD BIN | ||||||
| Category 2.44.0 Bioconductor Package Maintainer
| malbec1 | Linux (Ubuntu 16.04.1 LTS) / x86_64 | OK | OK | OK | |||||||
| tokay1 | Windows Server 2012 R2 Standard / x64 | [ OK ] | OK | OK | OK | |||||||
| veracruz1 | OS X 10.11.6 El Capitan / x86_64 | OK | OK | OK | OK |
| Package: Category |
| Version: 2.44.0 |
| Command: rm -rf Category.buildbin-libdir && mkdir Category.buildbin-libdir && C:\cygwin\bin\curl.exe -O https://malbec1.bioconductor.org/BBS/3.6/bioc/src/contrib/Category_2.44.0.tar.gz && C:\Users\biocbuild\bbs-3.6-bioc\R\bin\R.exe CMD INSTALL --build --library=Category.buildbin-libdir --merge-multiarch Category_2.44.0.tar.gz && C:\Users\biocbuild\bbs-3.6-bioc\R\bin\R.exe CMD INSTALL Category_2.44.0.zip && rm Category_2.44.0.tar.gz Category_2.44.0.zip |
| StartedAt: 2018-04-11 18:34:22 -0400 (Wed, 11 Apr 2018) |
| EndedAt: 2018-04-11 18:35:40 -0400 (Wed, 11 Apr 2018) |
| EllapsedTime: 77.3 seconds |
| RetCode: 0 |
| Status: OK |
##############################################################################
##############################################################################
###
### Running command:
###
### rm -rf Category.buildbin-libdir && mkdir Category.buildbin-libdir && C:\cygwin\bin\curl.exe -O https://malbec1.bioconductor.org/BBS/3.6/bioc/src/contrib/Category_2.44.0.tar.gz && C:\Users\biocbuild\bbs-3.6-bioc\R\bin\R.exe CMD INSTALL --build --library=Category.buildbin-libdir --merge-multiarch Category_2.44.0.tar.gz && C:\Users\biocbuild\bbs-3.6-bioc\R\bin\R.exe CMD INSTALL Category_2.44.0.zip && rm Category_2.44.0.tar.gz Category_2.44.0.zip
###
##############################################################################
##############################################################################
% Total % Received % Xferd Average Speed Time Time Time Current
Dload Upload Total Spent Left Speed
0 0 0 0 0 0 0 0 --:--:-- --:--:-- --:--:-- 0
100 101k 100 101k 0 0 4171k 0 --:--:-- --:--:-- --:--:-- 4849k
install for i386
* installing *source* package 'Category' ...
** R
** inst
** preparing package for lazy loading
** help
*** installing help indices
converting help for package 'Category'
finding HTML links ... done
Category-defunct html
ChrBandTree-class html
ChrMapHyperGParams-class html
ChrMapHyperGResult-class html
ChrMapLinearMParams-class html
ChrMapLinearMResult-class html
DatPkg-class html
GOHyperGParams-class html
GSEAGOHyperGParams html
HyperGParams-class html
HyperGResult-accessors html
HyperGResult-class html
HyperGResultBase-class html
KEGGHyperGParams-class html
LinearMParams-class html
LinearMResult-class html
LinearMResultBase-class html
MAPAmat html
NewChrBandTree html
OBOHyperGParams-class html
applyByCategory html
cateGOryMatrix html
categoryToEntrezBuilder html
cb_contingency html
cb_parse_band_Hs html
cb_parse_band_Mm html
cb_test html
effectSize html
exampleLevels html
findAMstats html
getPathNames html
gseattperm html
hyperGTest html
hyperg html
linearMTest html
local_test_factory html
makeChrBandGraph html
makeEBcontr html
makeValidParams html
probes2MAP html
probes2Path html
tree_visitor html
ttperm html
universeBuilder html
** building package indices
** installing vignettes
** testing if installed package can be loaded
In R CMD INSTALL
install for x64
* installing *source* package 'Category' ...
** testing if installed package can be loaded
* MD5 sums
packaged installation of 'Category' as Category_2.44.0.zip
* DONE (Category)
In R CMD INSTALL
In R CMD INSTALL
* installing to library 'C:/Users/biocbuild/bbs-3.6-bioc/R/library'
package 'Category' successfully unpacked and MD5 sums checked
In R CMD INSTALL