trackViewer 1.13.8 Jianhong Ou
 | Snapshot Date: 2017-08-15 17:18:21 -0400 (Tue, 15 Aug 2017) |  | URL: https://hedgehog.fhcrc.org/bioconductor/trunk/madman/Rpacks/trackViewer |  | Last Changed Rev: 131036 / Revision: 131943 |  | Last Changed Date: 2017-07-07 10:00:37 -0400 (Fri, 07 Jul 2017) |  
  | malbec1  | Linux (Ubuntu 16.04.1 LTS) / x86_64  |  OK  |  OK  |  WARNINGS  |  |   | 
| tokay1  | Windows Server 2012 R2 Standard / x64  |  OK  |  OK  |  WARNINGS  | [ OK ] |   | 
| veracruz1  | OS X 10.11.6 El Capitan / x86_64  |  OK  |  OK  |  WARNINGS  |  OK  |   | 
##############################################################################
##############################################################################
###
### Running command:
###
###   cd trackViewer.buildbin-libdir/trackViewer && zip -r ../../trackViewer_1.13.8.zip . & cd ../..
###
##############################################################################
##############################################################################
  adding: DESCRIPTION (332 bytes security) (deflated 39%)
  adding: doc/ (372 bytes security) (stored 0%)
  adding: doc/index.html (332 bytes security) (deflated 60%)
  adding: doc/trackViewer.html (332 bytes security) (deflated 53%)
  adding: doc/trackViewer.R (332 bytes security) (deflated 77%)
  adding: doc/trackViewer.Rmd (332 bytes security) (deflated 72%)
  adding: extdata/ (372 bytes security) (stored 0%)
  adding: extdata/cpsf160.repA_+.wig (332 bytes security) (deflated 97%)
  adding: extdata/cpsf160.repA_-.wig (332 bytes security) (deflated 96%)
  adding: extdata/cpsf160.repB_+.wig (332 bytes security) (deflated 96%)
  adding: extdata/cpsf160.repB_-.wig (332 bytes security) (deflated 95%)
  adding: extdata/fox2.bed (332 bytes security) (deflated 73%)
  adding: extdata/ideo.hg38.rds (332 bytes security) (deflated 18%)
  adding: extdata/map-pin-red.xml (332 bytes security) (deflated 81%)
  adding: extdata/methy.bed (332 bytes security) (deflated 84%)
  adding: help/ (372 bytes security) (stored 0%)
  adding: help/aliases.rds (332 bytes security) (stored 0%)
  adding: help/AnIndex (332 bytes security) (deflated 73%)
  adding: help/paths.rds (332 bytes security) (stored 0%)
  adding: help/trackViewer.rdb (332 bytes security) (deflated 2%)
  adding: help/trackViewer.rdx (332 bytes security) (stored 0%)
  adding: html/ (372 bytes security) (stored 0%)
  adding: html/00Index.html (332 bytes security) (deflated 79%)
  adding: html/R.css (332 bytes security) (deflated 75%)
  adding: htmlwidgets/ (372 bytes security) (stored 0%)
  adding: htmlwidgets/browseTracks.js (332 bytes security) (deflated 86%)
  adding: htmlwidgets/browseTracks.yaml (332 bytes security) (deflated 43%)
  adding: htmlwidgets/lib/ (372 bytes security) (stored 0%)
  adding: htmlwidgets/lib/d3/ (372 bytes security) (stored 0%)
  adding: htmlwidgets/lib/d3/d3.v4.min.js (332 bytes security) (deflated 66%)
  adding: htmlwidgets/lib/saveSvgAsPng/ (372 bytes security) (stored 0%)
  adding: htmlwidgets/lib/saveSvgAsPng/saveSvgAsPng.js (332 bytes security) (deflated 68%)
  adding: INDEX (332 bytes security) (deflated 62%)
  adding: MD5 (332 bytes security) (deflated 45%)
  adding: Meta/ (372 bytes security) (stored 0%)
  adding: Meta/features.rds (332 bytes security) (stored 0%)
  adding: Meta/hsearch.rds (332 bytes security) (stored 0%)
  adding: Meta/links.rds (332 bytes security) (stored 0%)
  adding: Meta/nsInfo.rds (332 bytes security) (stored 0%)
  adding: Meta/package.rds (332 bytes security) (stored 0%)
  adding: Meta/Rd.rds (332 bytes security) (stored 0%)
  adding: Meta/vignette.rds (332 bytes security) (stored 0%)
  adding: NAMESPACE (332 bytes security) (deflated 60%)
  adding: NEWS (332 bytes security) (deflated 78%)
  adding: R/ (372 bytes security) (stored 0%)
  adding: R/trackViewer (332 bytes security) (deflated 41%)
  adding: R/trackViewer.rdb (332 bytes security) (deflated 5%)
  adding: R/trackViewer.rdx (332 bytes security) (stored 0%)
  adding: unitTests/ (372 bytes security) (stored 0%)
  adding: unitTests/test_coverage.R (332 bytes security) (deflated 39%)