pcaExplorer 2.3.0 Federico Marini
 | Snapshot Date: 2017-08-15 17:18:21 -0400 (Tue, 15 Aug 2017) |  | URL: https://hedgehog.fhcrc.org/bioconductor/trunk/madman/Rpacks/pcaExplorer |  | Last Changed Rev: 129129 / Revision: 131943 |  | Last Changed Date: 2017-04-24 15:50:57 -0400 (Mon, 24 Apr 2017) |  
  | malbec1  | Linux (Ubuntu 16.04.1 LTS) / x86_64  |  OK  |  OK  |  ERROR  |  |  | 
| tokay1  | Windows Server 2012 R2 Standard / x64  |  OK  |  OK  |  ERROR  | [ OK ] |  | 
| veracruz1  | OS X 10.11.6 El Capitan / x86_64  |  OK  |  OK  |  ERROR  |  OK  |  | 
##############################################################################
##############################################################################
###
### Running command:
###
###   cd pcaExplorer.buildbin-libdir/pcaExplorer && zip -r ../../pcaExplorer_2.3.0.zip . & cd ../..
###
##############################################################################
##############################################################################
  adding: DESCRIPTION (332 bytes security) (deflated 44%)
  adding: doc/ (372 bytes security) (stored 0%)
  adding: doc/index.html (332 bytes security) (deflated 59%)
  adding: doc/pcaExplorer.html (332 bytes security) (deflated 31%)
  adding: doc/pcaExplorer.R (332 bytes security) (deflated 77%)
  adding: doc/pcaExplorer.Rmd (332 bytes security) (deflated 68%)
  adding: extdata/ (372 bytes security) (stored 0%)
  adding: extdata/about.md (332 bytes security) (deflated 52%)
  adding: extdata/instructions.md (332 bytes security) (deflated 65%)
  adding: extdata/reportTemplate.Rmd (332 bytes security) (deflated 69%)
  adding: help/ (372 bytes security) (stored 0%)
  adding: help/aliases.rds (332 bytes security) (stored 0%)
  adding: help/AnIndex (332 bytes security) (deflated 56%)
  adding: help/paths.rds (332 bytes security) (stored 0%)
  adding: help/pcaExplorer.rdb (332 bytes security) (deflated 1%)
  adding: help/pcaExplorer.rdx (332 bytes security) (stored 0%)
  adding: html/ (372 bytes security) (stored 0%)
  adding: html/00Index.html (332 bytes security) (deflated 69%)
  adding: html/R.css (332 bytes security) (deflated 75%)
  adding: INDEX (332 bytes security) (deflated 64%)
  adding: LICENSE (332 bytes security) (deflated 41%)
  adding: MD5 (332 bytes security) (deflated 43%)
  adding: Meta/ (372 bytes security) (stored 0%)
  adding: Meta/features.rds (332 bytes security) (stored 0%)
  adding: Meta/hsearch.rds (332 bytes security) (stored 0%)
  adding: Meta/links.rds (332 bytes security) (stored 0%)
  adding: Meta/nsInfo.rds (332 bytes security) (stored 0%)
  adding: Meta/package.rds (332 bytes security) (stored 0%)
  adding: Meta/Rd.rds (332 bytes security) (stored 0%)
  adding: Meta/vignette.rds (332 bytes security) (stored 0%)
  adding: NAMESPACE (332 bytes security) (deflated 62%)
  adding: NEWS (332 bytes security) (deflated 65%)
  adding: R/ (372 bytes security) (stored 0%)
  adding: R/pcaExplorer (332 bytes security) (deflated 41%)
  adding: R/pcaExplorer.rdb (332 bytes security) (deflated 0%)
  adding: R/pcaExplorer.rdx (332 bytes security) (stored 0%)