paxtoolsr 1.11.0 Augustin Luna
 | Snapshot Date: 2017-08-15 17:18:21 -0400 (Tue, 15 Aug 2017) |  | URL: https://hedgehog.fhcrc.org/bioconductor/trunk/madman/Rpacks/paxtoolsr |  | Last Changed Rev: 129129 / Revision: 131943 |  | Last Changed Date: 2017-04-24 15:50:57 -0400 (Mon, 24 Apr 2017) |  
  | malbec1  | Linux (Ubuntu 16.04.1 LTS) / x86_64  |  OK  |  OK  |  OK  |  |   | 
| tokay1  | Windows Server 2012 R2 Standard / x64  |  OK  |  OK  |  OK  | [ OK ] |   | 
| veracruz1  | OS X 10.11.6 El Capitan / x86_64  |  OK  |  OK  |  OK  |  OK  |   | 
##############################################################################
##############################################################################
###
### Running command:
###
###   cd paxtoolsr.buildbin-libdir/paxtoolsr && zip -r ../../paxtoolsr_1.11.0.zip . & cd ../..
###
##############################################################################
##############################################################################
  adding: CITATION (332 bytes security) (deflated 38%)
  adding: DESCRIPTION (332 bytes security) (deflated 39%)
  adding: doc/ (372 bytes security) (stored 0%)
  adding: doc/index.html (332 bytes security) (deflated 59%)
  adding: doc/using_paxtoolsr.html (332 bytes security) (deflated 36%)
  adding: doc/using_paxtoolsr.R (332 bytes security) (deflated 68%)
  adding: doc/using_paxtoolsr.Rmd (332 bytes security) (deflated 64%)
  adding: extdata/ (372 bytes security) (stored 0%)
  adding: extdata/10523676-compact.xml (332 bytes security) (deflated 95%)
  adding: extdata/biopax3-short-metabolic-pathway.owl (332 bytes security) (deflated 86%)
  adding: extdata/dna_replication.owl (332 bytes security) (deflated 83%)
  adding: extdata/raf_map_kinase_cascade_reactome.owl (332 bytes security) (deflated 89%)
  adding: extdata/REACT_12034-3.owl (332 bytes security) (deflated 89%)
  adding: extdata/tca_cycle.sif (332 bytes security) (deflated 76%)
  adding: extdata/test_biopax.owl (332 bytes security) (deflated 86%)
  adding: extdata/test_edgelist.txt (332 bytes security) (deflated 16%)
  adding: extdata/test_gsea.gmt (332 bytes security) (deflated 72%)
  adding: extdata/test_sbgn.xml (332 bytes security) (deflated 89%)
  adding: extdata/test_sif.txt (332 bytes security) (deflated 76%)
  adding: extdata/test_sifnx.txt (332 bytes security) (deflated 85%)
  adding: extdata/test_sifnx2.txt (332 bytes security) (deflated 75%)
  adding: extdata/test_sifnx_250.txt (332 bytes security) (deflated 75%)
  adding: extdata/test_sifnx_sm.txt (332 bytes security) (deflated 78%)
  adding: help/ (372 bytes security) (stored 0%)
  adding: help/aliases.rds (332 bytes security) (stored 0%)
  adding: help/AnIndex (332 bytes security) (deflated 62%)
  adding: help/paths.rds (332 bytes security) (stored 0%)
  adding: help/paxtoolsr.rdb (332 bytes security) (deflated 2%)
  adding: help/paxtoolsr.rdx (332 bytes security) (stored 0%)
  adding: html/ (372 bytes security) (stored 0%)
  adding: html/00Index.html (332 bytes security) (deflated 75%)
  adding: html/R.css (332 bytes security) (deflated 75%)
  adding: INDEX (332 bytes security) (deflated 66%)
  adding: java/ (372 bytes security) (stored 0%)
  adding: java/paxtools-4.3.1.jar (332 bytes security) (deflated 10%)
  adding: MD5 (332 bytes security) (deflated 47%)
  adding: Meta/ (372 bytes security) (stored 0%)
  adding: Meta/features.rds (332 bytes security) (stored 0%)
  adding: Meta/hsearch.rds (332 bytes security) (stored 0%)
  adding: Meta/links.rds (332 bytes security) (stored 0%)
  adding: Meta/nsInfo.rds (332 bytes security) (stored 0%)
  adding: Meta/package.rds (332 bytes security) (stored 0%)
  adding: Meta/Rd.rds (332 bytes security) (stored 0%)
  adding: Meta/vignette.rds (332 bytes security) (stored 0%)
  adding: NAMESPACE (332 bytes security) (deflated 65%)
  adding: NEWS (332 bytes security) (deflated 54%)
  adding: paxtoolsNotes.txt (332 bytes security) (deflated 62%)
  adding: R/ (372 bytes security) (stored 0%)
  adding: R/paxtoolsr (332 bytes security) (deflated 41%)
  adding: R/paxtoolsr.rdb (332 bytes security) (deflated 3%)
  adding: R/paxtoolsr.rdx (332 bytes security) (stored 0%)