fabia 2.23.0 Sepp Hochreiter
 | Snapshot Date: 2017-08-15 17:18:21 -0400 (Tue, 15 Aug 2017) |  | URL: https://hedgehog.fhcrc.org/bioconductor/trunk/madman/Rpacks/fabia |  | Last Changed Rev: 129129 / Revision: 131943 |  | Last Changed Date: 2017-04-24 15:50:57 -0400 (Mon, 24 Apr 2017) |  
  | malbec1  | Linux (Ubuntu 16.04.1 LTS) / x86_64  |  OK  |  OK  |  OK  |  |   | 
| tokay1  | Windows Server 2012 R2 Standard / x64  |  OK  |  OK  |  OK  | [ OK ] |   | 
| veracruz1  | OS X 10.11.6 El Capitan / x86_64  |  OK  |  OK  |  OK  |  OK  |   | 
##############################################################################
##############################################################################
###
### Running command:
###
###   cd fabia.buildbin-libdir/fabia && zip -r ../../fabia_2.23.0.zip . & cd ../..
###
##############################################################################
##############################################################################
  adding: CITATION (332 bytes security) (deflated 63%)
  adding: demo/ (372 bytes security) (stored 0%)
  adding: demo/demo01FabiaToydata.R (332 bytes security) (deflated 61%)
  adding: demo/demo02FabiaBreastcancer.R (332 bytes security) (deflated 57%)
  adding: demo/demo03FabiaMultipleTissues.R (332 bytes security) (deflated 57%)
  adding: demo/demo04FabiaLymphoma.R (332 bytes security) (deflated 57%)
  adding: demo/demo05FabiasToydata.R (332 bytes security) (deflated 61%)
  adding: demo/demo06FabiasBreastcancer.R (332 bytes security) (deflated 57%)
  adding: demo/demo07FabiasMultipleTissues.R (332 bytes security) (deflated 58%)
  adding: demo/demo08FabiasLymphoma.R (332 bytes security) (deflated 57%)
  adding: DESCRIPTION (332 bytes security) (deflated 46%)
  adding: doc/ (372 bytes security) (stored 0%)
  adding: doc/fabia.pdf (332 bytes security) (deflated 25%)
  adding: doc/fabia.R (332 bytes security) (deflated 46%)
  adding: doc/fabia.Rnw (332 bytes security) (deflated 83%)
  adding: doc/index.html (332 bytes security) (deflated 57%)
  adding: help/ (372 bytes security) (stored 0%)
  adding: help/aliases.rds (332 bytes security) (stored 0%)
  adding: help/AnIndex (332 bytes security) (deflated 85%)
  adding: help/fabia.rdb (332 bytes security) (deflated 1%)
  adding: help/fabia.rdx (332 bytes security) (stored 0%)
  adding: help/paths.rds (332 bytes security) (stored 0%)
  adding: html/ (372 bytes security) (stored 0%)
  adding: html/00Index.html (332 bytes security) (deflated 89%)
  adding: html/R.css (332 bytes security) (deflated 75%)
  adding: INDEX (332 bytes security) (deflated 76%)
  adding: libs/ (372 bytes security) (stored 0%)
  adding: libs/i386/ (372 bytes security) (stored 0%)
  adding: libs/i386/fabia.dll (332 bytes security) (deflated 57%)
  adding: libs/x64/ (372 bytes security) (stored 0%)
  adding: libs/x64/fabia.dll (332 bytes security) (deflated 53%)
  adding: MD5 (332 bytes security) (deflated 45%)
  adding: Meta/ (372 bytes security) (stored 0%)
  adding: Meta/demo.rds (332 bytes security) (stored 0%)
  adding: Meta/features.rds (332 bytes security) (stored 0%)
  adding: Meta/hsearch.rds (332 bytes security) (stored 0%)
  adding: Meta/links.rds (332 bytes security) (stored 0%)
  adding: Meta/nsInfo.rds (332 bytes security) (stored 0%)
  adding: Meta/package.rds (332 bytes security) (stored 0%)
  adding: Meta/Rd.rds (332 bytes security) (stored 0%)
  adding: Meta/vignette.rds (332 bytes security) (stored 0%)
  adding: NAMESPACE (332 bytes security) (deflated 67%)
  adding: NEWS (332 bytes security) (deflated 59%)
  adding: R/ (372 bytes security) (stored 0%)
  adding: R/fabia (332 bytes security) (deflated 41%)
  adding: R/fabia.rdb (332 bytes security) (deflated 30%)
  adding: R/fabia.rdx (332 bytes security) (deflated 1%)