annotationTools 1.51.0 Alexandre Kuhn
 | Snapshot Date: 2017-08-15 17:18:21 -0400 (Tue, 15 Aug 2017) |  | URL: https://hedgehog.fhcrc.org/bioconductor/trunk/madman/Rpacks/annotationTools |  | Last Changed Rev: 129129 / Revision: 131943 |  | Last Changed Date: 2017-04-24 15:50:57 -0400 (Mon, 24 Apr 2017) |  
  | malbec1  | Linux (Ubuntu 16.04.1 LTS) / x86_64  |  OK  |  OK  |  OK  |  |   | 
| tokay1  | Windows Server 2012 R2 Standard / x64  |  OK  |  OK  |  OK  | [ OK ] |   | 
| veracruz1  | OS X 10.11.6 El Capitan / x86_64  |  OK  |  OK  |  OK  |  OK  |   | 
##############################################################################
##############################################################################
###
### Running command:
###
###   cd annotationTools.buildbin-libdir/annotationTools && zip -r ../../annotationTools_1.51.0.zip . & cd ../..
###
##############################################################################
##############################################################################
  adding: CITATION (332 bytes security) (deflated 50%)
  adding: data/ (372 bytes security) (stored 0%)
  adding: data/orthologs_example.RData (332 bytes security) (deflated 0%)
  adding: DESCRIPTION (332 bytes security) (deflated 42%)
  adding: doc/ (372 bytes security) (stored 0%)
  adding: doc/annotationTools.pdf (332 bytes security) (deflated 13%)
  adding: doc/annotationTools.R (332 bytes security) (deflated 84%)
  adding: doc/annotationTools.Rnw (332 bytes security) (deflated 70%)
  adding: doc/index.html (332 bytes security) (deflated 60%)
  adding: extdata/ (372 bytes security) (stored 0%)
  adding: extdata/gene_group_part.data (332 bytes security) (deflated 77%)
  adding: extdata/HG-U133_Plus_2_annot_part.csv (332 bytes security) (deflated 80%)
  adding: extdata/HG-U133_Plus_2_ortholog_part.csv (332 bytes security) (deflated 89%)
  adding: extdata/homologene_part.data (332 bytes security) (deflated 55%)
  adding: extdata/Mouse430_2_annot_part.csv (332 bytes security) (deflated 78%)
  adding: help/ (372 bytes security) (stored 0%)
  adding: help/aliases.rds (332 bytes security) (stored 0%)
  adding: help/AnIndex (332 bytes security) (deflated 61%)
  adding: help/annotationTools.rdb (332 bytes security) (deflated 1%)
  adding: help/annotationTools.rdx (332 bytes security) (stored 0%)
  adding: help/paths.rds (332 bytes security) (stored 0%)
  adding: html/ (372 bytes security) (stored 0%)
  adding: html/00Index.html (332 bytes security) (deflated 71%)
  adding: html/R.css (332 bytes security) (deflated 75%)
  adding: INDEX (332 bytes security) (deflated 63%)
  adding: MD5 (332 bytes security) (deflated 45%)
  adding: Meta/ (372 bytes security) (stored 0%)
  adding: Meta/data.rds (332 bytes security) (stored 0%)
  adding: Meta/features.rds (332 bytes security) (stored 0%)
  adding: Meta/hsearch.rds (332 bytes security) (stored 0%)
  adding: Meta/links.rds (332 bytes security) (stored 0%)
  adding: Meta/nsInfo.rds (332 bytes security) (stored 0%)
  adding: Meta/package.rds (332 bytes security) (stored 0%)
  adding: Meta/Rd.rds (332 bytes security) (stored 0%)
  adding: Meta/vignette.rds (332 bytes security) (stored 0%)
  adding: NAMESPACE (332 bytes security) (deflated 32%)
  adding: NEWS.Rd (332 bytes security) (deflated 23%)
  adding: R/ (372 bytes security) (stored 0%)
  adding: R/annotationTools (332 bytes security) (deflated 41%)
  adding: R/annotationTools.rdb (332 bytes security) (deflated 2%)
  adding: R/annotationTools.rdx (332 bytes security) (stored 0%)