RProtoBufLib 0.99.5 Mike Jiang
 | Snapshot Date: 2017-08-15 17:18:21 -0400 (Tue, 15 Aug 2017) |  | URL: https://hedgehog.fhcrc.org/bioconductor/trunk/madman/Rpacks/RProtoBufLib |  | Last Changed Rev: 131636 / Revision: 131943 |  | Last Changed Date: 2017-07-28 13:25:41 -0400 (Fri, 28 Jul 2017) |  
  | malbec1  | Linux (Ubuntu 16.04.1 LTS) / x86_64  |  OK  |  OK  |  WARNINGS  |  |   | 
| tokay1  | Windows Server 2012 R2 Standard / x64  |  ERROR  | [ OK ] |  ERROR  |  ERROR  |  | 
| veracruz1  | OS X 10.11.6 El Capitan / x86_64  |  OK  |  OK  |  WARNINGS  |  OK  |   | 
##############################################################################
##############################################################################
###
### Running command:
###
###   chmod a+r RProtoBufLib -R && C:\Users\biocbuild\bbs-3.6-bioc\R\bin\R.exe CMD build --keep-empty-dirs --no-resave-data RProtoBufLib
###
##############################################################################
##############################################################################
* checking for file 'RProtoBufLib/DESCRIPTION' ... OK
* preparing 'RProtoBufLib':
* checking DESCRIPTION meta-information ... OK
* cleaning src
* running 'cleanup.win'
* checking for LF line-endings in source and make files
* checking for empty or unneeded directories
WARNING: directory 'RProtoBufLib/src/win/lib/i386' is empty
WARNING: directory 'RProtoBufLib/src/win/lib/x64' is empty
* building 'RProtoBufLib_0.99.5.tar.gz'
Warning: file 'RProtoBufLib/cleanup' did not have execute permissions: corrected
Warning: file 'RProtoBufLib/configure' did not have execute permissions: corrected