MultiAssayExperiment 1.3.20 Marcel Ramos
 | Snapshot Date: 2017-08-15 17:18:21 -0400 (Tue, 15 Aug 2017) |  | URL: https://hedgehog.fhcrc.org/bioconductor/trunk/madman/Rpacks/MultiAssayExperiment |  | Last Changed Rev: 130009 / Revision: 131943 |  | Last Changed Date: 2017-05-30 16:57:14 -0400 (Tue, 30 May 2017) |  
  | malbec1  | Linux (Ubuntu 16.04.1 LTS) / x86_64  |  OK  |  OK  |  OK  |  |   | 
| tokay1  | Windows Server 2012 R2 Standard / x64  |  OK  |  OK  |  OK  | [ OK ] |   | 
| veracruz1  | OS X 10.11.6 El Capitan / x86_64  |  OK  |  OK  |  OK  |  OK  |   | 
##############################################################################
##############################################################################
###
### Running command:
###
###   cd MultiAssayExperiment.buildbin-libdir/MultiAssayExperiment && zip -r ../../MultiAssayExperiment_1.3.20.zip . & cd ../..
###
##############################################################################
##############################################################################
  adding: data/ (372 bytes security) (stored 0%)
  adding: data/Rdata.rdb (332 bytes security) (deflated 4%)
  adding: data/Rdata.rds (332 bytes security) (stored 0%)
  adding: data/Rdata.rdx (332 bytes security) (stored 0%)
  adding: DESCRIPTION (332 bytes security) (deflated 49%)
  adding: doc/ (372 bytes security) (stored 0%)
  adding: doc/index.html (332 bytes security) (deflated 78%)
  adding: doc/MultiAssayExperiment.html (332 bytes security) (deflated 70%)
  adding: doc/MultiAssayExperiment.R (332 bytes security) (deflated 82%)
  adding: doc/MultiAssayExperiment.Rmd (332 bytes security) (deflated 69%)
  adding: doc/pradMAEO-RTCGAToolbox.html (332 bytes security) (deflated 62%)
  adding: doc/pradMAEO-RTCGAToolbox.R (332 bytes security) (deflated 73%)
  adding: doc/pradMAEO-RTCGAToolbox.Rmd (332 bytes security) (deflated 64%)
  adding: doc/QuickStartMultiAssay.html (332 bytes security) (deflated 59%)
  adding: doc/QuickStartMultiAssay.R (332 bytes security) (deflated 80%)
  adding: doc/QuickStartMultiAssay.Rmd (332 bytes security) (deflated 63%)
  adding: doc/UsingHDF5Array.html (332 bytes security) (deflated 62%)
  adding: doc/UsingHDF5Array.R (332 bytes security) (deflated 72%)
  adding: doc/UsingHDF5Array.Rmd (332 bytes security) (deflated 59%)
  adding: extdata/ (372 bytes security) (stored 0%)
  adding: extdata/exMatrix.h5 (332 bytes security) (deflated 0%)
  adding: extdata/exMatrix.R (332 bytes security) (deflated 49%)
  adding: extdata/hsncSample.R (332 bytes security) (deflated 41%)
  adding: extdata/miniACC.R (332 bytes security) (deflated 57%)
  adding: help/ (372 bytes security) (stored 0%)
  adding: help/aliases.rds (332 bytes security) (stored 0%)
  adding: help/AnIndex (332 bytes security) (deflated 87%)
  adding: help/MultiAssayExperiment.rdb (332 bytes security) (deflated 1%)
  adding: help/MultiAssayExperiment.rdx (332 bytes security) (stored 0%)
  adding: help/paths.rds (332 bytes security) (stored 0%)
  adding: html/ (372 bytes security) (stored 0%)
  adding: html/00Index.html (332 bytes security) (deflated 87%)
  adding: html/R.css (332 bytes security) (deflated 75%)
  adding: INDEX (332 bytes security) (deflated 68%)
  adding: MD5 (332 bytes security) (deflated 48%)
  adding: Meta/ (372 bytes security) (stored 0%)
  adding: Meta/data.rds (332 bytes security) (stored 0%)
  adding: Meta/features.rds (332 bytes security) (stored 0%)
  adding: Meta/hsearch.rds (332 bytes security) (stored 0%)
  adding: Meta/links.rds (332 bytes security) (stored 0%)
  adding: Meta/nsInfo.rds (332 bytes security) (stored 0%)
  adding: Meta/package.rds (332 bytes security) (stored 0%)
  adding: Meta/Rd.rds (332 bytes security) (stored 0%)
  adding: Meta/vignette.rds (332 bytes security) (stored 0%)
  adding: NAMESPACE (332 bytes security) (deflated 72%)
  adding: NEWS (332 bytes security) (deflated 69%)
  adding: R/ (372 bytes security) (stored 0%)
  adding: R/MultiAssayExperiment (332 bytes security) (deflated 41%)
  adding: R/MultiAssayExperiment.rdb (332 bytes security) (deflated 28%)
  adding: R/MultiAssayExperiment.rdx (332 bytes security) (deflated 2%)
  adding: scripts/ (372 bytes security) (stored 0%)
  adding: scripts/ExperimentList-Ex.R (332 bytes security) (deflated 61%)
  adding: scripts/listToMap-Ex.R (332 bytes security) (deflated 31%)
  adding: scripts/MultiAssayExperiment-Ex.R (332 bytes security) (deflated 66%)
  adding: scripts/MultiAssayExperiment-methods-Ex.R (332 bytes security) (deflated 68%)