MLInterfaces 1.57.0 V. Carey
 | Snapshot Date: 2017-08-15 17:18:21 -0400 (Tue, 15 Aug 2017) |  | URL: https://hedgehog.fhcrc.org/bioconductor/trunk/madman/Rpacks/MLInterfaces |  | Last Changed Rev: 129129 / Revision: 131943 |  | Last Changed Date: 2017-04-24 15:50:57 -0400 (Mon, 24 Apr 2017) |  
  | malbec1  | Linux (Ubuntu 16.04.1 LTS) / x86_64  |  OK  |  OK  |  WARNINGS  |  |   | 
| tokay1  | Windows Server 2012 R2 Standard / x64  |  OK  |  OK  |  WARNINGS  | [ OK ] |   | 
| veracruz1  | OS X 10.11.6 El Capitan / x86_64  |  OK  |  OK  |  WARNINGS  |  OK  |   | 
##############################################################################
##############################################################################
###
### Running command:
###
###   cd MLInterfaces.buildbin-libdir/MLInterfaces && zip -r ../../MLInterfaces_1.57.0.zip . & cd ../..
###
##############################################################################
##############################################################################
  adding: DESCRIPTION (332 bytes security) (deflated 44%)
  adding: doc/ (372 bytes security) (stored 0%)
  adding: doc/index.html (332 bytes security) (deflated 75%)
  adding: doc/MLInterfaces.pdf (332 bytes security) (deflated 9%)
  adding: doc/MLInterfaces.R (332 bytes security) (deflated 78%)
  adding: doc/MLInterfaces.Rnw (332 bytes security) (deflated 58%)
  adding: doc/MLint_devel.pdf (332 bytes security) (deflated 10%)
  adding: doc/MLint_devel.R (332 bytes security) (deflated 72%)
  adding: doc/MLint_devel.Rnw (332 bytes security) (deflated 59%)
  adding: doc/MLprac2_2.pdf (332 bytes security) (deflated 13%)
  adding: doc/MLprac2_2.R (332 bytes security) (deflated 80%)
  adding: doc/MLprac2_2.Rnw (332 bytes security) (deflated 61%)
  adding: doc/xvalComputerClusters.pdf (332 bytes security) (deflated 8%)
  adding: doc/xvalComputerClusters.R (332 bytes security) (deflated 77%)
  adding: doc/xvalComputerClusters.Rnw (332 bytes security) (deflated 64%)
  adding: extras/ (372 bytes security) (stored 0%)
  adding: extras/mlint08.Rnw (332 bytes security) (deflated 61%)
  adding: formula/ (372 bytes security) (stored 0%)
  adding: formula/code.R (332 bytes security) (deflated 36%)
  adding: formula/notes.txt (332 bytes security) (deflated 49%)
  adding: formula/test.R (332 bytes security) (deflated 20%)
  adding: help/ (372 bytes security) (stored 0%)
  adding: help/aliases.rds (332 bytes security) (stored 0%)
  adding: help/AnIndex (332 bytes security) (deflated 83%)
  adding: help/MLInterfaces.rdb (332 bytes security) (deflated 1%)
  adding: help/MLInterfaces.rdx (332 bytes security) (stored 0%)
  adding: help/paths.rds (332 bytes security) (stored 0%)
  adding: html/ (372 bytes security) (stored 0%)
  adding: html/00Index.html (332 bytes security) (deflated 89%)
  adding: html/R.css (332 bytes security) (deflated 75%)
  adding: INDEX (332 bytes security) (deflated 65%)
  adding: MD5 (332 bytes security) (deflated 48%)
  adding: Meta/ (372 bytes security) (stored 0%)
  adding: Meta/features.rds (332 bytes security) (stored 0%)
  adding: Meta/hsearch.rds (332 bytes security) (stored 0%)
  adding: Meta/links.rds (332 bytes security) (stored 0%)
  adding: Meta/nsInfo.rds (332 bytes security) (stored 0%)
  adding: Meta/package.rds (332 bytes security) (stored 0%)
  adding: Meta/Rd.rds (332 bytes security) (stored 0%)
  adding: Meta/vignette.rds (332 bytes security) (stored 0%)
  adding: MLIschema/ (372 bytes security) (stored 0%)
  adding: MLIschema/notes.txt (332 bytes security) (deflated 61%)
  adding: NAMESPACE (332 bytes security) (deflated 58%)
  adding: NEWS (332 bytes security) (deflated 66%)
  adding: oldFiles/ (372 bytes security) (stored 0%)
  adding: oldFiles/classInterfaces.R (332 bytes security) (deflated 83%)
  adding: oldFiles/clusterInterfaces.R (332 bytes security) (deflated 79%)
  adding: oldFiles/cvB.R (332 bytes security) (deflated 74%)
  adding: oldFiles/e1071Interfaces.R (332 bytes security) (deflated 76%)
  adding: oldFiles/gbmB.R (332 bytes security) (deflated 67%)
  adding: oldFiles/INIT.R (332 bytes security) (deflated 73%)
  adding: oldFiles/ipredInterfaces.R (332 bytes security) (deflated 80%)
  adding: oldFiles/MASSInterfaces.R (332 bytes security) (deflated 79%)
  adding: oldFiles/nnetInterfaces.R (332 bytes security) (deflated 55%)
  adding: oldFiles/nonsyn.Rnw (332 bytes security) (deflated 63%)
  adding: oldFiles/pamrInterfaces.R (332 bytes security) (deflated 61%)
  adding: oldFiles/randomForestInterfaces.R (332 bytes security) (deflated 62%)
  adding: oldFiles/randTrain.R (332 bytes security) (deflated 10%)
  adding: oldFiles/rpartInterfaces.R (332 bytes security) (deflated 62%)
  adding: oldFiles/silhouetteInterface.R (332 bytes security) (deflated 60%)
  adding: oldFiles/smaInterfaces.R (332 bytes security) (deflated 52%)
  adding: oldFiles/somInterfaces.R (332 bytes security) (deflated 63%)
  adding: oldFiles/statsInterfaces.R (332 bytes security) (deflated 76%)
  adding: R/ (372 bytes security) (stored 0%)
  adding: R/MLInterfaces (332 bytes security) (deflated 41%)
  adding: R/MLInterfaces.rdb (332 bytes security) (deflated 30%)
  adding: R/MLInterfaces.rdx (332 bytes security) (deflated 1%)
  adding: unitTests/ (372 bytes security) (stored 0%)
  adding: unitTests/test_performance-analytics.R (332 bytes security) (stored 0%)