GraphPAC 1.19.1 Gregory Ryslik
 | Snapshot Date: 2017-08-15 17:18:21 -0400 (Tue, 15 Aug 2017) |  | URL: https://hedgehog.fhcrc.org/bioconductor/trunk/madman/Rpacks/GraphPAC |  | Last Changed Rev: 131329 / Revision: 131943 |  | Last Changed Date: 2017-07-18 14:57:49 -0400 (Tue, 18 Jul 2017) |  
  | malbec1  | Linux (Ubuntu 16.04.1 LTS) / x86_64  |  OK  |  OK  |  OK  |  |   | 
| tokay1  | Windows Server 2012 R2 Standard / x64  |  OK  |  OK  |  OK  |  OK  |   | 
| veracruz1  | OS X 10.11.6 El Capitan / x86_64  |  OK  | [ OK ] |  OK  |  OK  |   | 
##############################################################################
##############################################################################
###
### Running command:
###
###   /Library/Frameworks/R.framework/Versions/Current/Resources/bin/R CMD build --keep-empty-dirs --no-resave-data GraphPAC
###
##############################################################################
##############################################################################
* checking for file ‘GraphPAC/DESCRIPTION’ ... OK
* preparing ‘GraphPAC’:
* checking DESCRIPTION meta-information ... OK
* installing the package to build vignettes
* creating vignettes ... OK
* checking for LF line-endings in source and make files
* checking for empty or unneeded directories
* building ‘GraphPAC_1.19.1.tar.gz’