GWASTools 1.23.0 Stephanie M. Gogarten , Adrienne Stilp
 | Snapshot Date: 2017-08-15 17:18:21 -0400 (Tue, 15 Aug 2017) |  | URL: https://hedgehog.fhcrc.org/bioconductor/trunk/madman/Rpacks/GWASTools |  | Last Changed Rev: 131790 / Revision: 131943 |  | Last Changed Date: 2017-08-07 17:03:28 -0400 (Mon, 07 Aug 2017) |  
  | malbec1  | Linux (Ubuntu 16.04.1 LTS) / x86_64  |  OK  | [ OK ] |  OK  |  |   | 
| tokay1  | Windows Server 2012 R2 Standard / x64  |  OK  |  OK  |  ERROR  |  OK  |  | 
| veracruz1  | OS X 10.11.6 El Capitan / x86_64  |  OK  |  OK  |  OK  |  OK  |   | 
##############################################################################
##############################################################################
###
### Running command:
###
###   /home/biocbuild/bbs-3.6-bioc/R/bin/R CMD build --keep-empty-dirs --no-resave-data GWASTools
###
##############################################################################
##############################################################################
* checking for file ‘GWASTools/DESCRIPTION’ ... OK
* preparing ‘GWASTools’:
* checking DESCRIPTION meta-information ... OK
* installing the package to build vignettes
* creating vignettes ... OK
* checking for LF line-endings in source and make files
* checking for empty or unneeded directories
* looking to see if a ‘data/datalist’ file should be added
* building ‘GWASTools_1.23.0.tar.gz’