simulatorZ 1.10.0 Yuqing Zhang
 | Snapshot Date: 2017-10-17 17:00:52 -0400 (Tue, 17 Oct 2017) |  | URL: https://git.bioconductor.org/packages/simulatorZ |  | Branch: RELEASE_3_5 |  | Last Commit: 834a8a4 |  | Last Changed Date: 2017-04-24 15:45:44 -0400 (Mon, 24 Apr 2017) |  
  | malbec2  | Linux (Ubuntu 16.04.1 LTS) / x86_64  |  OK  |  OK  |  OK  |  |   | 
| tokay2  | Windows Server 2012 R2 Standard / x64  |  OK  |  OK  |  OK  | [ OK ] |   | 
| veracruz2  | OS X 10.11.6 El Capitan / x86_64  |  OK  |  OK  |  OK  |  OK  |   | 
##############################################################################
##############################################################################
###
### Running command:
###
###   cd simulatorZ.buildbin-libdir/simulatorZ && zip -r ../../simulatorZ_1.10.0.zip . & cd ../..
###
##############################################################################
##############################################################################
  adding: DESCRIPTION (264 bytes security) (deflated 42%)
  adding: doc/ (304 bytes security) (stored 0%)
  adding: doc/index.html (264 bytes security) (deflated 60%)
  adding: doc/simulatorZ-vignette.pdf (264 bytes security) (deflated 17%)
  adding: doc/simulatorZ-vignette.R (264 bytes security) (deflated 79%)
  adding: doc/simulatorZ-vignette.Rnw (264 bytes security) (deflated 66%)
  adding: help/ (304 bytes security) (stored 0%)
  adding: help/aliases.rds (264 bytes security) (stored 0%)
  adding: help/AnIndex (264 bytes security) (deflated 49%)
  adding: help/paths.rds (264 bytes security) (stored 0%)
  adding: help/simulatorZ.rdb (264 bytes security) (deflated 2%)
  adding: help/simulatorZ.rdx (264 bytes security) (stored 0%)
  adding: html/ (304 bytes security) (stored 0%)
  adding: html/00Index.html (264 bytes security) (deflated 69%)
  adding: html/R.css (264 bytes security) (deflated 75%)
  adding: INDEX (264 bytes security) (deflated 60%)
  adding: libs/ (304 bytes security) (stored 0%)
  adding: libs/i386/ (304 bytes security) (stored 0%)
  adding: libs/i386/simulatorZ.dll (264 bytes security) (deflated 59%)
  adding: libs/x64/ (304 bytes security) (stored 0%)
  adding: libs/x64/simulatorZ.dll (264 bytes security) (deflated 72%)
  adding: MD5 (264 bytes security) (deflated 44%)
  adding: Meta/ (304 bytes security) (stored 0%)
  adding: Meta/features.rds (264 bytes security) (stored 0%)
  adding: Meta/hsearch.rds (264 bytes security) (stored 0%)
  adding: Meta/links.rds (264 bytes security) (stored 0%)
  adding: Meta/nsInfo.rds (264 bytes security) (stored 0%)
  adding: Meta/package.rds (264 bytes security) (stored 0%)
  adding: Meta/Rd.rds (264 bytes security) (stored 0%)
  adding: Meta/vignette.rds (264 bytes security) (stored 0%)
  adding: NAMESPACE (264 bytes security) (deflated 48%)
  adding: NEWS (264 bytes security) (stored 0%)
  adding: R/ (304 bytes security) (stored 0%)
  adding: R/simulatorZ (264 bytes security) (deflated 41%)
  adding: R/simulatorZ.rdb (264 bytes security) (deflated 1%)
  adding: R/simulatorZ.rdx (264 bytes security) (stored 0%)
  adding: unitTests/ (304 bytes security) (stored 0%)
  adding: unitTests/test_simData.R (264 bytes security) (deflated 67%)