PREDA 1.22.0 Francesco Ferrari
 | Snapshot Date: 2017-10-17 17:00:52 -0400 (Tue, 17 Oct 2017) |  | URL: https://git.bioconductor.org/packages/PREDA |  | Branch: RELEASE_3_5 |  | Last Commit: 15aa87a |  | Last Changed Date: 2017-04-24 15:45:44 -0400 (Mon, 24 Apr 2017) |  
  | malbec2  | Linux (Ubuntu 16.04.1 LTS) / x86_64  |  OK  |  OK  |  OK  |  |   | 
| tokay2  | Windows Server 2012 R2 Standard / x64  | [ OK ] |  OK  |  OK  |  OK  |   | 
| veracruz2  | OS X 10.11.6 El Capitan / x86_64  |  OK  |  OK  |  OK  |  OK  |   | 
##############################################################################
##############################################################################
###
### Running command:
###
###   C:\Users\biocbuild\bbs-3.5-bioc\R\bin\R.exe --arch x64 CMD INSTALL --no-multiarch PREDA
###
##############################################################################
##############################################################################
* installing to library 'C:/Users/biocbuild/bbs-3.5-bioc/R/library'
* installing *source* package 'PREDA' ...
** R
** inst
** preparing package for lazy loading
** help
*** installing help indices
** building package indices
** installing vignettes
   'PREDAclasses.Rnw' using 'latin1' 
   'PREDAtutorial.Rnw' using 'latin1' 
** testing if installed package can be loaded
* DONE (PREDA)