OrganismDbi 1.18.1 Biocore Data Team
 | Snapshot Date: 2017-10-17 17:00:52 -0400 (Tue, 17 Oct 2017) |  | URL: https://git.bioconductor.org/packages/OrganismDbi |  | Branch: RELEASE_3_5 |  | Last Commit: ba2d123 |  | Last Changed Date: 2017-10-11 13:19:38 -0400 (Wed, 11 Oct 2017) |  
  | malbec2  | Linux (Ubuntu 16.04.1 LTS) / x86_64  |  OK  |  OK  |  ERROR  |  |  | 
| tokay2  | Windows Server 2012 R2 Standard / x64  |  OK  |  OK  |  OK  |  OK  |   | 
| veracruz2  | OS X 10.11.6 El Capitan / x86_64  |  OK  | [ OK ] |  OK  |  OK  |   | 
##############################################################################
##############################################################################
###
### Running command:
###
###   /Library/Frameworks/R.framework/Versions/Current/Resources/bin/R CMD build --keep-empty-dirs --no-resave-data OrganismDbi
###
##############################################################################
##############################################################################
* checking for file ‘OrganismDbi/DESCRIPTION’ ... OK
* preparing ‘OrganismDbi’:
* checking DESCRIPTION meta-information ... OK
* installing the package to build vignettes
* creating vignettes ... OK
* checking for LF line-endings in source and make files and shell scripts
* checking for empty or unneeded directories
* building ‘OrganismDbi_1.18.1.tar.gz’