MSGFplus 1.10.1 Thomas Lin Pedersen
 | Snapshot Date: 2017-10-17 17:00:52 -0400 (Tue, 17 Oct 2017) |  | URL: https://git.bioconductor.org/packages/MSGFplus |  | Branch: RELEASE_3_5 |  | Last Commit: 51b755d |  | Last Changed Date: 2017-06-19 17:34:07 -0400 (Mon, 19 Jun 2017) |  
  | malbec2  | Linux (Ubuntu 16.04.1 LTS) / x86_64  |  OK  | [ OK ] |  OK  |  |   | 
| tokay2  | Windows Server 2012 R2 Standard / x64  |  OK  |  OK  |  OK  |  OK  |   | 
| veracruz2  | OS X 10.11.6 El Capitan / x86_64  |  OK  |  OK  |  OK  |  OK  |   | 
##############################################################################
##############################################################################
###
### Running command:
###
###   /home/biocbuild/bbs-3.5-bioc/R/bin/R CMD build --keep-empty-dirs --no-resave-data MSGFplus
###
##############################################################################
##############################################################################
* checking for file ‘MSGFplus/DESCRIPTION’ ... OK
* preparing ‘MSGFplus’:
* checking DESCRIPTION meta-information ... OK
* installing the package to build vignettes
* creating vignettes ... OK
* checking for LF line-endings in source and make files and shell scripts
* checking for empty or unneeded directories
* building ‘MSGFplus_1.10.1.tar.gz’