GraphPAC 1.18.1 Gregory Ryslik
 | Snapshot Date: 2017-10-17 17:00:52 -0400 (Tue, 17 Oct 2017) |  | URL: https://git.bioconductor.org/packages/GraphPAC |  | Branch: RELEASE_3_5 |  | Last Commit: 13657e9 |  | Last Changed Date: 2017-07-18 14:42:09 -0400 (Tue, 18 Jul 2017) |  
  | malbec2  | Linux (Ubuntu 16.04.1 LTS) / x86_64  |  OK  |  OK  |  OK  |  |   | 
| tokay2  | Windows Server 2012 R2 Standard / x64  | [ OK ] |  OK  |  OK  |  OK  |   | 
| veracruz2  | OS X 10.11.6 El Capitan / x86_64  |  OK  |  OK  |  OK  |  OK  |   | 
##############################################################################
##############################################################################
###
### Running command:
###
###   rm -rf GraphPAC.buildbin-libdir && mkdir GraphPAC.buildbin-libdir  && C:\cygwin\bin\curl.exe -O http://172.29.0.4/BBS/3.5/bioc/src/contrib/GraphPAC_1.18.1.tar.gz && C:\Users\biocbuild\bbs-3.5-bioc\R\bin\R.exe CMD INSTALL --build --library=GraphPAC.buildbin-libdir --merge-multiarch GraphPAC_1.18.1.tar.gz && C:\Users\biocbuild\bbs-3.5-bioc\R\bin\R.exe CMD INSTALL GraphPAC_1.18.1.zip  && rm GraphPAC_1.18.1.tar.gz GraphPAC_1.18.1.zip
###
##############################################################################
##############################################################################
  % Total    % Received % Xferd  Average Speed   Time    Time     Time  Current
                                 Dload  Upload   Total   Spent    Left  Speed
  0     0    0     0    0     0      0      0 --:--:-- --:--:-- --:--:--     0
100  223k  100  223k    0     0  10.7M      0 --:--:-- --:--:-- --:--:-- 11.4M
install for i386
* installing *source* package 'GraphPAC' ...
** R
** inst
** preparing package for lazy loading
** help
*** installing help indices
** building package indices
** installing vignettes
** testing if installed package can be loaded
install for x64
* installing *source* package 'GraphPAC' ...
** testing if installed package can be loaded
* MD5 sums
packaged installation of 'GraphPAC' as GraphPAC_1.18.1.zip
* DONE (GraphPAC)
* installing to library 'C:/Users/biocbuild/bbs-3.5-bioc/R/library'
package 'GraphPAC' successfully unpacked and MD5 sums checked