rRDP 1.6.0 Michael Hahsler
 | Snapshot Date: 2016-10-12 17:20:15 -0700 (Wed, 12 Oct 2016) |  | URL: https://hedgehog.fhcrc.org/bioconductor/branches/RELEASE_3_3/madman/Rpacks/rRDP |  | Last Changed Rev: 117079 / Revision: 122332 |  | Last Changed Date: 2016-05-03 14:20:18 -0700 (Tue, 03 May 2016) |  
  | zin2  | Linux (Ubuntu 14.04.2 LTS) / x86_64  |  OK  |  OK  |  OK  |  |   | 
| moscato2  | Windows Server 2008 R2 Enterprise SP1 (64-bit) / x64  |  OK  |  OK  |  OK  | [ OK ] |   | 
| oaxaca  | Mac OS X Mavericks (10.9.5) / x86_64  |  OK  |  OK  |  OK  |  OK  |   | 
##############################################################################
##############################################################################
###
### Running command:
###
###   cd rRDP.buildbin-libdir/rRDP && zip -r ../../rRDP_1.6.0.zip . & cd ../..
###
##############################################################################
##############################################################################
  adding: DESCRIPTION (188 bytes security) (deflated 31%)
  adding: doc/ (256 bytes security) (stored 0%)
  adding: doc/index.html (188 bytes security) (deflated 57%)
  adding: doc/rRDP.pdf (188 bytes security) (deflated 8%)
  adding: doc/rRDP.R (188 bytes security) (deflated 78%)
  adding: doc/rRDP.Rnw (188 bytes security) (deflated 59%)
  adding: examples/ (256 bytes security) (stored 0%)
  adding: examples/Firmicutes.fasta (188 bytes security) (deflated 89%)
  adding: examples/RNA_example.fasta (188 bytes security) (deflated 72%)
  adding: examples/testSequences.fasta (188 bytes security) (deflated 75%)
  adding: examples/trainingSequences.fasta (188 bytes security) (deflated 85%)
  adding: help/ (256 bytes security) (stored 0%)
  adding: help/aliases.rds (188 bytes security) (stored 0%)
  adding: help/AnIndex (188 bytes security) (deflated 54%)
  adding: help/paths.rds (188 bytes security) (stored 0%)
  adding: help/rRDP.rdb (188 bytes security) (stored 0%)
  adding: help/rRDP.rdx (188 bytes security) (stored 0%)
  adding: html/ (256 bytes security) (stored 0%)
  adding: html/00Index.html (188 bytes security) (deflated 74%)
  adding: html/R.css (188 bytes security) (deflated 75%)
  adding: INDEX (188 bytes security) (deflated 49%)
  adding: java/ (256 bytes security) (stored 0%)
  adding: java/lib/ (256 bytes security) (stored 0%)
  adding: java/lib/AlignmentTools.jar (188 bytes security) (deflated 63%)
  adding: java/lib/commons-cli-1.2.jar (188 bytes security) (deflated 9%)
  adding: java/lib/commons-io-2.4.jar (188 bytes security) (deflated 8%)
  adding: java/lib/jcommon-1.0.16.jar (188 bytes security) (deflated 9%)
  adding: java/lib/ReadSeq.jar (188 bytes security) (deflated 71%)
  adding: java/lib/TaxonomyTree.jar (188 bytes security) (deflated 70%)
  adding: java/rdp_classifier.jar (188 bytes security) (deflated 8%)
  adding: java/rRNAClassifier.properties (188 bytes security) (deflated 35%)
  adding: LICENSE (188 bytes security) (deflated 56%)
  adding: MD5 (188 bytes security) (deflated 42%)
  adding: Meta/ (256 bytes security) (stored 0%)
  adding: Meta/hsearch.rds (188 bytes security) (stored 0%)
  adding: Meta/links.rds (188 bytes security) (stored 0%)
  adding: Meta/nsInfo.rds (188 bytes security) (stored 0%)
  adding: Meta/package.rds (188 bytes security) (stored 0%)
  adding: Meta/Rd.rds (188 bytes security) (stored 0%)
  adding: Meta/vignette.rds (188 bytes security) (stored 0%)
  adding: NAMESPACE (188 bytes security) (deflated 38%)
  adding: R/ (256 bytes security) (stored 0%)
  adding: R/rRDP (188 bytes security) (deflated 41%)
  adding: R/rRDP.rdb (188 bytes security) (deflated 5%)
  adding: R/rRDP.rdx (188 bytes security) (stored 0%)