methylumi 2.18.2 Sean Davis
 | Snapshot Date: 2016-10-12 17:20:15 -0700 (Wed, 12 Oct 2016) |  | URL: https://hedgehog.fhcrc.org/bioconductor/branches/RELEASE_3_3/madman/Rpacks/methylumi |  | Last Changed Rev: 117513 / Revision: 122332 |  | Last Changed Date: 2016-05-15 13:18:19 -0700 (Sun, 15 May 2016) |  
  | zin2  | Linux (Ubuntu 14.04.2 LTS) / x86_64  |  OK  |  OK  |  WARNINGS  |  |   | 
| moscato2  | Windows Server 2008 R2 Enterprise SP1 (64-bit) / x64  |  OK  |  OK  |  WARNINGS  | [ OK ] |   | 
| oaxaca  | Mac OS X Mavericks (10.9.5) / x86_64  |  OK  |  OK  |  WARNINGS  |  OK  |   | 
##############################################################################
##############################################################################
###
### Running command:
###
###   cd methylumi.buildbin-libdir/methylumi && zip -r ../../methylumi_2.18.2.zip . & cd ../..
###
##############################################################################
##############################################################################
  adding: data/ (256 bytes security) (stored 0%)
  adding: data/5318317007_A_Grn.idat (188 bytes security) (deflated 46%)
  adding: data/5318317007_A_Red.idat (188 bytes security) (deflated 47%)
  adding: data/5318317007_B_Grn.idat (188 bytes security) (deflated 46%)
  adding: data/5318317007_B_Red.idat (188 bytes security) (deflated 47%)
  adding: data/5318317007_C_Grn.idat (188 bytes security) (deflated 46%)
  adding: data/5318317007_C_Red.idat (188 bytes security) (deflated 47%)
  adding: data/CpGs.rda (188 bytes security) (deflated 1%)
  adding: data/datalist (188 bytes security) (stored 0%)
  adding: data/mldat.rda (188 bytes security) (deflated 0%)
  adding: data/test27k.R (188 bytes security) (deflated 24%)
  adding: DESCRIPTION (188 bytes security) (deflated 49%)
  adding: doc/ (256 bytes security) (stored 0%)
  adding: doc/index.html (188 bytes security) (deflated 67%)
  adding: doc/methylumi.pdf (188 bytes security) (deflated 15%)
  adding: doc/methylumi.R (188 bytes security) (deflated 60%)
  adding: doc/methylumi.Rnw (188 bytes security) (deflated 60%)
  adding: doc/methylumi450k.pdf (188 bytes security) (deflated 4%)
  adding: doc/methylumi450k.R (188 bytes security) (deflated 64%)
  adding: doc/methylumi450k.Rnw (188 bytes security) (deflated 60%)
  adding: extdata/ (256 bytes security) (stored 0%)
  adding: extdata/exampledata.controls.txt (188 bytes security) (deflated 53%)
  adding: extdata/exampledata.samples.txt (188 bytes security) (deflated 67%)
  adding: extdata/samples.txt (188 bytes security) (deflated 61%)
  adding: extdata/substitutions.txt (188 bytes security) (deflated 52%)
  adding: help/ (256 bytes security) (stored 0%)
  adding: help/aliases.rds (188 bytes security) (stored 0%)
  adding: help/AnIndex (188 bytes security) (deflated 86%)
  adding: help/methylumi.rdb (188 bytes security) (deflated 1%)
  adding: help/methylumi.rdx (188 bytes security) (stored 0%)
  adding: help/paths.rds (188 bytes security) (stored 0%)
  adding: html/ (256 bytes security) (stored 0%)
  adding: html/00Index.html (188 bytes security) (deflated 91%)
  adding: html/R.css (188 bytes security) (deflated 75%)
  adding: INDEX (188 bytes security) (deflated 67%)
  adding: MD5 (188 bytes security) (deflated 47%)
  adding: Meta/ (256 bytes security) (stored 0%)
  adding: Meta/data.rds (188 bytes security) (stored 0%)
  adding: Meta/hsearch.rds (188 bytes security) (stored 0%)
  adding: Meta/links.rds (188 bytes security) (stored 0%)
  adding: Meta/nsInfo.rds (188 bytes security) (stored 0%)
  adding: Meta/package.rds (188 bytes security) (stored 0%)
  adding: Meta/Rd.rds (188 bytes security) (stored 0%)
  adding: Meta/vignette.rds (188 bytes security) (stored 0%)
  adding: NAMESPACE (188 bytes security) (deflated 60%)
  adding: NEWS.methylumIDAT (188 bytes security) (deflated 42%)
  adding: R/ (256 bytes security) (stored 0%)
  adding: R/methylumi (188 bytes security) (deflated 41%)
  adding: R/methylumi.rdb (188 bytes security) (deflated 29%)
  adding: R/methylumi.rdx (188 bytes security) (deflated 4%)