flowFP 1.30.0 Herb Holyst
 | Snapshot Date: 2016-10-12 17:20:15 -0700 (Wed, 12 Oct 2016) |  | URL: https://hedgehog.fhcrc.org/bioconductor/branches/RELEASE_3_3/madman/Rpacks/flowFP |  | Last Changed Rev: 117079 / Revision: 122332 |  | Last Changed Date: 2016-05-03 14:20:18 -0700 (Tue, 03 May 2016) |  
  | zin2  | Linux (Ubuntu 14.04.2 LTS) / x86_64  |  OK  |  OK  |  OK  |  |   | 
| moscato2  | Windows Server 2008 R2 Enterprise SP1 (64-bit) / x64  |  OK  |  OK  |  OK  | [ OK ] |   | 
| oaxaca  | Mac OS X Mavericks (10.9.5) / x86_64  |  OK  |  OK  |  OK  |  OK  |   | 
##############################################################################
##############################################################################
###
### Running command:
###
###   cd flowFP.buildbin-libdir/flowFP && zip -r ../../flowFP_1.30.0.zip . & cd ../..
###
##############################################################################
##############################################################################
  adding: CITATION (188 bytes security) (deflated 52%)
  adding: data/ (256 bytes security) (stored 0%)
  adding: data/datalist (188 bytes security) (stored 0%)
  adding: data/fs1.rda (188 bytes security) (deflated 0%)
  adding: data/fs2.rda (188 bytes security) (deflated 0%)
  adding: data/plate.rda (188 bytes security) (deflated 0%)
  adding: DESCRIPTION (188 bytes security) (deflated 45%)
  adding: doc/ (256 bytes security) (stored 0%)
  adding: doc/flowFP_HowTo.pdf (188 bytes security) (deflated 12%)
  adding: doc/flowFP_HowTo.R (188 bytes security) (deflated 78%)
  adding: doc/flowFP_HowTo.Rnw (188 bytes security) (deflated 64%)
  adding: doc/index.html (188 bytes security) (deflated 58%)
  adding: help/ (256 bytes security) (stored 0%)
  adding: help/aliases.rds (188 bytes security) (stored 0%)
  adding: help/AnIndex (188 bytes security) (deflated 84%)
  adding: help/flowFP.rdb (188 bytes security) (deflated 1%)
  adding: help/flowFP.rdx (188 bytes security) (stored 0%)
  adding: help/paths.rds (188 bytes security) (stored 0%)
  adding: html/ (256 bytes security) (stored 0%)
  adding: html/00Index.html (188 bytes security) (deflated 85%)
  adding: html/R.css (188 bytes security) (deflated 75%)
  adding: INDEX (188 bytes security) (deflated 70%)
  adding: libs/ (256 bytes security) (stored 0%)
  adding: libs/i386/ (256 bytes security) (stored 0%)
  adding: libs/i386/flowFP.dll (188 bytes security) (deflated 58%)
  adding: libs/x64/ (256 bytes security) (stored 0%)
  adding: libs/x64/flowFP.dll (188 bytes security) (deflated 59%)
  adding: MD5 (188 bytes security) (deflated 42%)
  adding: Meta/ (256 bytes security) (stored 0%)
  adding: Meta/data.rds (188 bytes security) (stored 0%)
  adding: Meta/hsearch.rds (188 bytes security) (stored 0%)
  adding: Meta/links.rds (188 bytes security) (stored 0%)
  adding: Meta/nsInfo.rds (188 bytes security) (stored 0%)
  adding: Meta/package.rds (188 bytes security) (stored 0%)
  adding: Meta/Rd.rds (188 bytes security) (stored 0%)
  adding: Meta/vignette.rds (188 bytes security) (stored 0%)
  adding: NAMESPACE (188 bytes security) (deflated 66%)
  adding: NEWS (188 bytes security) (deflated 45%)
  adding: R/ (256 bytes security) (stored 0%)
  adding: R/flowFP (188 bytes security) (deflated 41%)
  adding: R/flowFP.rdb (188 bytes security) (deflated 34%)
  adding: R/flowFP.rdx (188 bytes security) (deflated 2%)