clipper 1.12.0 Paolo Martini
 | Snapshot Date: 2016-10-12 17:20:15 -0700 (Wed, 12 Oct 2016) |  | URL: https://hedgehog.fhcrc.org/bioconductor/branches/RELEASE_3_3/madman/Rpacks/clipper |  | Last Changed Rev: 117079 / Revision: 122332 |  | Last Changed Date: 2016-05-03 14:20:18 -0700 (Tue, 03 May 2016) |  
  | zin2  | Linux (Ubuntu 14.04.2 LTS) / x86_64  |  OK  |  OK  |  OK  |  |   | 
| moscato2  | Windows Server 2008 R2 Enterprise SP1 (64-bit) / x64  |  OK  |  OK  |  ERROR  | [ OK ] |  | 
| oaxaca  | Mac OS X Mavericks (10.9.5) / x86_64  |  OK  |  OK  |  OK  |  OK  |   | 
##############################################################################
##############################################################################
###
### Running command:
###
###   cd clipper.buildbin-libdir/clipper && zip -r ../../clipper_1.12.0.zip . & cd ../..
###
##############################################################################
##############################################################################
  adding: DESCRIPTION (188 bytes security) (deflated 42%)
  adding: doc/ (256 bytes security) (stored 0%)
  adding: doc/clipper.pdf (188 bytes security) (deflated 12%)
  adding: doc/clipper.R (188 bytes security) (deflated 75%)
  adding: doc/clipper.Rnw (188 bytes security) (deflated 60%)
  adding: doc/index.html (188 bytes security) (deflated 58%)
  adding: help/ (256 bytes security) (stored 0%)
  adding: help/aliases.rds (188 bytes security) (stored 0%)
  adding: help/AnIndex (188 bytes security) (deflated 57%)
  adding: help/clipper.rdb (188 bytes security) (deflated 1%)
  adding: help/clipper.rdx (188 bytes security) (stored 0%)
  adding: help/paths.rds (188 bytes security) (stored 0%)
  adding: html/ (256 bytes security) (stored 0%)
  adding: html/00Index.html (188 bytes security) (deflated 67%)
  adding: html/R.css (188 bytes security) (deflated 75%)
  adding: INDEX (188 bytes security) (deflated 63%)
  adding: MD5 (188 bytes security) (deflated 45%)
  adding: Meta/ (256 bytes security) (stored 0%)
  adding: Meta/hsearch.rds (188 bytes security) (stored 0%)
  adding: Meta/links.rds (188 bytes security) (stored 0%)
  adding: Meta/nsInfo.rds (188 bytes security) (stored 0%)
  adding: Meta/package.rds (188 bytes security) (stored 0%)
  adding: Meta/Rd.rds (188 bytes security) (stored 0%)
  adding: Meta/vignette.rds (188 bytes security) (stored 0%)
  adding: NAMESPACE (188 bytes security) (deflated 45%)
  adding: R/ (256 bytes security) (stored 0%)
  adding: R/clipper (188 bytes security) (deflated 41%)
  adding: R/clipper.rdb (188 bytes security) (deflated 5%)
  adding: R/clipper.rdx (188 bytes security) (stored 0%)
  adding: unitTests/ (256 bytes security) (stored 0%)
  adding: unitTests/test_clipper.R (188 bytes security) (deflated 53%)
  adding: unitTests/test_cliqueMeanTest.R (188 bytes security) (deflated 53%)
  adding: unitTests/test_cliquePairedTest.R (188 bytes security) (deflated 55%)
  adding: unitTests/test_cliqueVarianceTest.R (188 bytes security) (deflated 54%)
  adding: unitTests/test_deleteEdge.R (188 bytes security) (deflated 52%)
  adding: unitTests/test_getGraphEntryGenes.R (188 bytes security) (deflated 35%)
  adding: unitTests/test_getJunctionTreePaths.R (188 bytes security) (deflated 33%)
  adding: unitTests/test_pathQ-paired.R (188 bytes security) (deflated 51%)
  adding: unitTests/test_patQ.R (188 bytes security) (deflated 53%)
  adding: unitTests/test_prunePaths.R (188 bytes security) (deflated 46%)