TCC 1.12.1 Jianqiang Sun , Tomoaki Nishiyama
 | Snapshot Date: 2016-10-12 17:20:15 -0700 (Wed, 12 Oct 2016) |  | URL: https://hedgehog.fhcrc.org/bioconductor/branches/RELEASE_3_3/madman/Rpacks/TCC |  | Last Changed Rev: 117873 / Revision: 122332 |  | Last Changed Date: 2016-05-25 19:27:09 -0700 (Wed, 25 May 2016) |  
  | zin2  | Linux (Ubuntu 14.04.2 LTS) / x86_64  |  OK  |  OK  |  OK  |  |   | 
| moscato2  | Windows Server 2008 R2 Enterprise SP1 (64-bit) / x64  |  OK  |  OK  |  OK  | [ OK ] |   | 
| oaxaca  | Mac OS X Mavericks (10.9.5) / x86_64  |  OK  |  OK  |  OK  |  OK  |   | 
##############################################################################
##############################################################################
###
### Running command:
###
###   cd TCC.buildbin-libdir/TCC && zip -r ../../TCC_1.12.1.zip . & cd ../..
###
##############################################################################
##############################################################################
  adding: CITATION (188 bytes security) (deflated 76%)
  adding: data/ (256 bytes security) (stored 0%)
  adding: data/arab.RData (188 bytes security) (deflated 0%)
  adding: data/hypoData.RData (188 bytes security) (deflated 17%)
  adding: data/hypoData_mg.RData (188 bytes security) (deflated 14%)
  adding: data/hypoData_ts.RData (188 bytes security) (stored 0%)
  adding: data/nakai.RData (188 bytes security) (deflated 9%)
  adding: DESCRIPTION (188 bytes security) (deflated 48%)
  adding: doc/ (256 bytes security) (stored 0%)
  adding: doc/index.html (188 bytes security) (deflated 57%)
  adding: doc/TCC.pdf (188 bytes security) (deflated 12%)
  adding: doc/TCC.R (188 bytes security) (deflated 91%)
  adding: doc/TCC.Rnw (188 bytes security) (deflated 80%)
  adding: help/ (256 bytes security) (stored 0%)
  adding: help/aliases.rds (188 bytes security) (stored 0%)
  adding: help/AnIndex (188 bytes security) (deflated 65%)
  adding: help/paths.rds (188 bytes security) (stored 0%)
  adding: help/TCC.rdb (188 bytes security) (deflated 1%)
  adding: help/TCC.rdx (188 bytes security) (stored 0%)
  adding: html/ (256 bytes security) (stored 0%)
  adding: html/00Index.html (188 bytes security) (deflated 77%)
  adding: html/R.css (188 bytes security) (deflated 75%)
  adding: INDEX (188 bytes security) (deflated 65%)
  adding: MD5 (188 bytes security) (deflated 44%)
  adding: Meta/ (256 bytes security) (stored 0%)
  adding: Meta/data.rds (188 bytes security) (stored 0%)
  adding: Meta/hsearch.rds (188 bytes security) (stored 0%)
  adding: Meta/links.rds (188 bytes security) (stored 0%)
  adding: Meta/nsInfo.rds (188 bytes security) (stored 0%)
  adding: Meta/package.rds (188 bytes security) (stored 0%)
  adding: Meta/Rd.rds (188 bytes security) (stored 0%)
  adding: Meta/vignette.rds (188 bytes security) (stored 0%)
  adding: NAMESPACE (188 bytes security) (deflated 67%)
  adding: NEWS (188 bytes security) (deflated 62%)
  adding: R/ (256 bytes security) (stored 0%)
  adding: R/TCC (188 bytes security) (deflated 41%)
  adding: R/TCC.rdb (188 bytes security) (deflated 25%)
  adding: R/TCC.rdx (188 bytes security) (stored 0%)
  adding: unitTests/ (256 bytes security) (stored 0%)
  adding: unitTests/test_calcNormFactors.R (188 bytes security) (deflated 70%)
  adding: unitTests/test_clusterSample.R (188 bytes security) (deflated 45%)
  adding: unitTests/test_estimateDE.R (188 bytes security) (deflated 80%)
  adding: unitTests/test_getResult.R (188 bytes security) (deflated 57%)
  adding: unitTests/test_new.R (188 bytes security) (deflated 72%)
  adding: unitTests/test_plot.R (188 bytes security) (deflated 53%)
  adding: unitTests/test_plotFCPseudocolor.R (188 bytes security) (deflated 44%)
  adding: unitTests/test_ROKU.R (188 bytes security) (deflated 69%)
  adding: unitTests/test_WAD.R (188 bytes security) (deflated 61%)