Roleswitch 1.10.0 Yue Li
 | Snapshot Date: 2016-10-12 17:20:15 -0700 (Wed, 12 Oct 2016) |  | URL: https://hedgehog.fhcrc.org/bioconductor/branches/RELEASE_3_3/madman/Rpacks/Roleswitch |  | Last Changed Rev: 117079 / Revision: 122332 |  | Last Changed Date: 2016-05-03 14:20:18 -0700 (Tue, 03 May 2016) |  
  | zin2  | Linux (Ubuntu 14.04.2 LTS) / x86_64  |  OK  |  OK  |  OK  |  |   | 
| moscato2  | Windows Server 2008 R2 Enterprise SP1 (64-bit) / x64  | [ OK ] |  OK  |  OK  |  OK  |   | 
| oaxaca  | Mac OS X Mavericks (10.9.5) / x86_64  |  OK  |  OK  |  OK  |  OK  |   | 
##############################################################################
##############################################################################
###
### Running command:
###
###   rm -rf Roleswitch.buildbin-libdir && mkdir Roleswitch.buildbin-libdir  && C:\cygwin\bin\curl.exe -O http://zin2/BBS/3.3/bioc/src/contrib/Roleswitch_1.10.0.tar.gz && E:\biocbld\bbs-3.3-bioc\R\bin\R.exe CMD INSTALL --build --library=Roleswitch.buildbin-libdir --merge-multiarch Roleswitch_1.10.0.tar.gz && E:\biocbld\bbs-3.3-bioc\R\bin\R.exe CMD INSTALL Roleswitch_1.10.0.zip  && rm Roleswitch_1.10.0.tar.gz Roleswitch_1.10.0.zip
###
##############################################################################
##############################################################################
install for i386
* installing *source* package 'Roleswitch' ...
** R
** data
** inst
** preparing package for lazy loading
** help
*** installing help indices
** building package indices
** installing vignettes
** testing if installed package can be loaded
install for x64
* installing *source* package 'Roleswitch' ...
** testing if installed package can be loaded
* MD5 sums
packaged installation of 'Roleswitch' as Roleswitch_1.10.0.zip
* DONE (Roleswitch)
* installing to library 'E:/biocbld/bbs-3.3-bioc/R/library'
package 'Roleswitch' successfully unpacked and MD5 sums checked