RTCGA 1.2.5 Marcin Kosinski
 | Snapshot Date: 2016-10-12 17:20:15 -0700 (Wed, 12 Oct 2016) |  | URL: https://hedgehog.fhcrc.org/bioconductor/branches/RELEASE_3_3/madman/Rpacks/RTCGA |  | Last Changed Rev: 121552 / Revision: 122332 |  | Last Changed Date: 2016-09-29 07:13:14 -0700 (Thu, 29 Sep 2016) |  
  | zin2  | Linux (Ubuntu 14.04.2 LTS) / x86_64  |  OK  |  OK  |  OK  |  |   | 
| moscato2  | Windows Server 2008 R2 Enterprise SP1 (64-bit) / x64  | [ OK ] |  OK  |  OK  |  OK  |   | 
| oaxaca  | Mac OS X Mavericks (10.9.5) / x86_64  |  OK  |  OK  |  OK  |  OK  |   | 
##############################################################################
##############################################################################
###
### Running command:
###
###   rm -rf RTCGA.buildbin-libdir && mkdir RTCGA.buildbin-libdir  && C:\cygwin\bin\curl.exe -O http://zin2/BBS/3.3/bioc/src/contrib/RTCGA_1.2.5.tar.gz && E:\biocbld\bbs-3.3-bioc\R\bin\R.exe CMD INSTALL --build --library=RTCGA.buildbin-libdir --merge-multiarch RTCGA_1.2.5.tar.gz && E:\biocbld\bbs-3.3-bioc\R\bin\R.exe CMD INSTALL RTCGA_1.2.5.zip  && rm RTCGA_1.2.5.tar.gz RTCGA_1.2.5.zip
###
##############################################################################
##############################################################################
install for i386
* installing *source* package 'RTCGA' ...
** R
** preparing package for lazy loading
** help
*** installing help indices
** building package indices
** installing vignettes
** testing if installed package can be loaded
install for x64
* installing *source* package 'RTCGA' ...
** testing if installed package can be loaded
* MD5 sums
packaged installation of 'RTCGA' as RTCGA_1.2.5.zip
* DONE (RTCGA)
* installing to library 'E:/biocbld/bbs-3.3-bioc/R/library'
package 'RTCGA' successfully unpacked and MD5 sums checked